BEGIN:VCALENDAR
VERSION:2.0
PRODID:-//Race Time - ECPv6.15.13//NONSGML v1.0//EN
CALSCALE:GREGORIAN
METHOD:PUBLISH
X-WR-CALNAME:Race Time
X-ORIGINAL-URL:https://www.racetime.info
X-WR-CALDESC:Events for Race Time
REFRESH-INTERVAL;VALUE=DURATION:PT1H
X-Robots-Tag:noindex
X-PUBLISHED-TTL:PT1H
BEGIN:VTIMEZONE
TZID:America/Chicago
BEGIN:DAYLIGHT
TZOFFSETFROM:-0600
TZOFFSETTO:-0500
TZNAME:CDT
DTSTART:20240310T080000
END:DAYLIGHT
BEGIN:STANDARD
TZOFFSETFROM:-0500
TZOFFSETTO:-0600
TZNAME:CST
DTSTART:20241103T070000
END:STANDARD
BEGIN:DAYLIGHT
TZOFFSETFROM:-0600
TZOFFSETTO:-0500
TZNAME:CDT
DTSTART:20250309T080000
END:DAYLIGHT
BEGIN:STANDARD
TZOFFSETFROM:-0500
TZOFFSETTO:-0600
TZNAME:CST
DTSTART:20251102T070000
END:STANDARD
BEGIN:DAYLIGHT
TZOFFSETFROM:-0600
TZOFFSETTO:-0500
TZNAME:CDT
DTSTART:20260308T080000
END:DAYLIGHT
BEGIN:STANDARD
TZOFFSETFROM:-0500
TZOFFSETTO:-0600
TZNAME:CST
DTSTART:20261101T070000
END:STANDARD
END:VTIMEZONE
BEGIN:VTIMEZONE
TZID:America/Indiana/Indianapolis
BEGIN:DAYLIGHT
TZOFFSETFROM:-0500
TZOFFSETTO:-0400
TZNAME:EDT
DTSTART:20240310T070000
END:DAYLIGHT
BEGIN:STANDARD
TZOFFSETFROM:-0400
TZOFFSETTO:-0500
TZNAME:EST
DTSTART:20241103T060000
END:STANDARD
BEGIN:DAYLIGHT
TZOFFSETFROM:-0500
TZOFFSETTO:-0400
TZNAME:EDT
DTSTART:20250309T070000
END:DAYLIGHT
BEGIN:STANDARD
TZOFFSETFROM:-0400
TZOFFSETTO:-0500
TZNAME:EST
DTSTART:20251102T060000
END:STANDARD
BEGIN:DAYLIGHT
TZOFFSETFROM:-0500
TZOFFSETTO:-0400
TZNAME:EDT
DTSTART:20260308T070000
END:DAYLIGHT
BEGIN:STANDARD
TZOFFSETFROM:-0400
TZOFFSETTO:-0500
TZNAME:EST
DTSTART:20261101T060000
END:STANDARD
END:VTIMEZONE
BEGIN:VEVENT
DTSTART;TZID=America/Chicago:20251101T090000
DTEND;TZID=America/Chicago:20251101T103000
DTSTAMP:20260424T041448
CREATED:20250304T125259Z
LAST-MODIFIED:20251101T184247Z
UID:10002257-1761987600-1761993000@www.racetime.info
SUMMARY:La Carrera de Las Catrinas 5K Run/Walk
DESCRIPTION:La Carrera de las Catrinas 5K Age Group Results\n\nLa Carrera de las Catrinas 5K Overall Results
URL:https://www.racetime.info/event/la-carrera-de-las-catrinas-5k-run-walk-2/
LOCATION:Greenwood Park\, 329 Greenwood Drive\, Round Lake Park\, 60073\, United States
CATEGORIES:2025-11 Results (November)
ORGANIZER;CN="Jaycee Ochoa":MAILTO:jayceeochoaremax@gmail.com
END:VEVENT
BEGIN:VEVENT
DTSTART;TZID=America/Chicago:20251101T110000
DTEND;TZID=America/Chicago:20251101T123000
DTSTAMP:20260424T041448
CREATED:20251008T121801Z
LAST-MODIFIED:20251101T184339Z
UID:10002441-1761994800-1762000200@www.racetime.info
SUMMARY:Hawthorn Hustle 5K Run/Walk and 1 Mile Stroll
DESCRIPTION:Hawthorn Hustle Grade Level Results\n\nHawthorn Hustle Overall Results
URL:https://www.racetime.info/event/hawthorn-hustle-5k-run-walk-and-1-mile-stroll/
LOCATION:Century Park North Pavilion\, 1401 Indianwood Drive\, Vernon Hills\, IL\, 60061\, United States
CATEGORIES:2025-11 Results (November)
ORGANIZER;CN="Larry Gokhman":MAILTO:hawthornhustle@hawthornpto.org.
GEO:42.2374557;-87.9695504
X-APPLE-STRUCTURED-LOCATION;VALUE=URI;X-ADDRESS=Century Park North Pavilion 1401 Indianwood Drive Vernon Hills IL 60061 United States;X-APPLE-RADIUS=500;X-TITLE=1401 Indianwood Drive:geo:-87.9695504,42.2374557
END:VEVENT
BEGIN:VEVENT
DTSTART;TZID=America/Chicago:20251102T070000
DTEND;TZID=America/Chicago:20251102T093000
DTSTAMP:20260424T041448
CREATED:20251014T120003Z
LAST-MODIFIED:20251104T115251Z
UID:10002444-1762066800-1762075800@www.racetime.info
SUMMARY:Ooh LaLa Chocolate Half Marathon; 10K; 5K Run/Walk
DESCRIPTION:Ooh LaLa Chocolate 5K Age Group Results\n\nOoh LaLa Chocolate 5K Overall Results\n\nOoh LaLa Chocolate 10K Age Group Results\n\nOoh LaLa Chocolate 10K Overall Results\n\nOoh LaLa Chocolate Half Marathon Age Group Results\n\nOoh LaLa Chocolate Half Marathon Overall Results
URL:https://www.racetime.info/event/ooh-lala-chocolate-half-marathon-10k-5k-run-walk/
LOCATION:Downtown Geneva\, 100 S. Third Street\, Geneva\, IL\, 60134\, United States
CATEGORIES:2025-11 Results (November)
ORGANIZER;CN="Mary Agnes Zellmer":MAILTO:maz@chicagoracemanagement.com
GEO:41.886459;-88.308982
X-APPLE-STRUCTURED-LOCATION;VALUE=URI;X-ADDRESS=Downtown Geneva 100 S. Third Street Geneva IL 60134 United States;X-APPLE-RADIUS=500;X-TITLE=100 S. Third Street:geo:-88.308982,41.886459
END:VEVENT
BEGIN:VEVENT
DTSTART;TZID=America/Chicago:20251102T090000
DTEND;TZID=America/Chicago:20251102T110000
DTSTAMP:20260424T041448
CREATED:20250725T213230Z
LAST-MODIFIED:20251102T165136Z
UID:10002385-1762074000-1762081200@www.racetime.info
SUMMARY:Love Like Sean 5K & Kids Dash
DESCRIPTION:Love Like Sean 5K Age Group Results\n\nLove Like Sean 5K Overall Results
URL:https://www.racetime.info/event/love-like-sean-5k-kids-dash-2/
LOCATION:Robbins Park\, 7th & Vine Street\, Hinsdale\, IL\, 60521\, United States
CATEGORIES:2025-11 Results (November)
ORGANIZER;CN="Jennifer Govostis":MAILTO:jengovostis@gmail.com
END:VEVENT
BEGIN:VEVENT
DTSTART;TZID=America/Chicago:20251102T090000
DTEND;TZID=America/Chicago:20251102T110000
DTSTAMP:20260424T041448
CREATED:20251014T115213Z
LAST-MODIFIED:20251103T111832Z
UID:10002443-1762074000-1762081200@www.racetime.info
SUMMARY:Illini Dads 5K Run/Walk
DESCRIPTION:Illini Dads 5K Overall Results
URL:https://www.racetime.info/event/illini-dads-5k-run-walk/
LOCATION:University Of Illinois Arboretum\, Champaign\, IL\, United States
CATEGORIES:2025-11 Results (November)
ORGANIZER;CN="The Dads Association at the University of Illinois":MAILTO:iuparentfamilyprograms@illinois.edu
GEO:40.1164204;-88.2433829
END:VEVENT
BEGIN:VEVENT
DTSTART;TZID=America/Chicago:20251108T090000
DTEND;TZID=America/Chicago:20251108T110000
DTSTAMP:20260424T041448
CREATED:20250314T192056Z
LAST-MODIFIED:20251108T190547Z
UID:10002272-1762592400-1762599600@www.racetime.info
SUMMARY:Bourbonnais Township Turkey Trot 10K & 5K Run; 2 Mile Walk
DESCRIPTION:Bourbonnais Turkey Trot 5K Age Group Results\n\nBourbonnais Turkey Trot 5K Overall Results\n\nBourbonnais Turkey Trot 10K Age Group Results\n\nBourbonnais Turkey Trot 10K Overall Results\n\nBourbonnais Turkey Trot 5K and 10K Predictor Results
URL:https://www.racetime.info/event/bourbonnais-township-turkey-trot-10k-2-mile-walk-5/
LOCATION:Perry Farm Park\, 459 N. Kennedy Drive\, Bourbonnais\, IL\, 60914\, United States
CATEGORIES:2025-11 Results (November)
ORGANIZER;CN="Lindsey Laskey":MAILTO:lindseyl@btpd.org
GEO:41.1551827;-87.8783865
X-APPLE-STRUCTURED-LOCATION;VALUE=URI;X-ADDRESS=Perry Farm Park 459 N. Kennedy Drive Bourbonnais IL 60914 United States;X-APPLE-RADIUS=500;X-TITLE=459 N. Kennedy Drive:geo:-87.8783865,41.1551827
END:VEVENT
BEGIN:VEVENT
DTSTART;TZID=America/Chicago:20251109T080000
DTEND;TZID=America/Chicago:20251109T110000
DTSTAMP:20260424T041448
CREATED:20251014T120340Z
LAST-MODIFIED:20251109T181815Z
UID:10002445-1762675200-1762686000@www.racetime.info
SUMMARY:Big Timber XC Challenge 3 & 5 Mile Run
DESCRIPTION:Big Timber 3 Mile Age Group Results\n\nBig Timber 3 Mile Overall Results\n\nBig Timber 5 Mile Age Group Results\n\nBig Timber 5 Mile Overall Results
URL:https://www.racetime.info/event/big-timber-xc-challenge-3-5-mile-run-2/
LOCATION:Camp Big Timber\, Big Timber Road\, Elgin\, IL\, 60120\, United States
CATEGORIES:2025-11 Results (November)
ORGANIZER;CN="Wayne Haworth":MAILTO:wayne@dickpondathletics.com
END:VEVENT
BEGIN:VEVENT
DTSTART;TZID=America/Chicago:20251109T090000
DTEND;TZID=America/Chicago:20251109T103000
DTSTAMP:20260424T041448
CREATED:20250718T114028Z
LAST-MODIFIED:20251109T181856Z
UID:10002379-1762678800-1762684200@www.racetime.info
SUMMARY:Veteran's 5K Run and 1 Mile Fitness Walk
DESCRIPTION:Veterans 5K Age Group Results\n\nVeterans 5K Overall Results
URL:https://www.racetime.info/event/veterans-5k-run-and-1-mile-fitness-walk-2/
LOCATION:Mayfair Park\, 10835 Wakefield\, Westchester\, IL\, 60154\, United States
CATEGORIES:2025-11 Results (November)
ORGANIZER;CN="Lianne Robinette":MAILTO:liannerobinette@comcast.net
END:VEVENT
BEGIN:VEVENT
DTSTART;TZID=America/Chicago:20251115T090000
DTEND;TZID=America/Chicago:20251115T103000
DTSTAMP:20260424T041448
CREATED:20250826T122209Z
LAST-MODIFIED:20251115T201703Z
UID:10002426-1763197200-1763202600@www.racetime.info
SUMMARY:St. Linus Gobble\, Gobble\, Run or Wobble 5K Run/Walk
DESCRIPTION:St. Linus 5K Age Group Results\n\nSt. Linus 5K Overall Results
URL:https://www.racetime.info/event/st-linus-gobble-gobble-run-or-wobble-5k-run-walk/
LOCATION:St. Linus Church\, 10400 Lawler Avenue\, Oak Lawn\, IL\, 60453\, United States
CATEGORIES:2025-11 Results (November)
ORGANIZER;CN="Alisa Trovato":MAILTO:atrovato@stlinusschool.org
GEO:41.7053927;-87.7463825
X-APPLE-STRUCTURED-LOCATION;VALUE=URI;X-ADDRESS=St. Linus Church 10400 Lawler Avenue Oak Lawn IL 60453 United States;X-APPLE-RADIUS=500;X-TITLE=10400 Lawler Avenue:geo:-87.7463825,41.7053927
END:VEVENT
BEGIN:VEVENT
DTSTART;TZID=America/Chicago:20251122T084500
DTEND;TZID=America/Chicago:20251122T103000
DTSTAMP:20260424T041448
CREATED:20250909T123006Z
LAST-MODIFIED:20251122T181150Z
UID:10002438-1763801100-1763807400@www.racetime.info
SUMMARY:Third F Foundation's Turkey Trot 5K Run/Walk & 1 Mile Youth Run
DESCRIPTION:Third F Turkey Trot Overall Results
URL:https://www.racetime.info/event/third-f-foundations-turkey-trot-5k-run-walk-1-mile-youth-run/
LOCATION:Community Park at Grande Park\, 26333 Grande Park Blvd\, Plainfield\, IL\, 60585\, United States
CATEGORIES:2025-11 Results (November)
ORGANIZER;CN="Brandon Ohms":MAILTO:brandon_ohms@yahoo.com
END:VEVENT
BEGIN:VEVENT
DTSTART;TZID=America/Chicago:20251122T090000
DTEND;TZID=America/Chicago:20251122T103000
DTSTAMP:20260424T041448
CREATED:20250911T113217Z
LAST-MODIFIED:20251123T140016Z
UID:10002439-1763802000-1763807400@www.racetime.info
SUMMARY:Waterman Gobbler Gallop 5K Run/Walk
DESCRIPTION:Gobbler Gallop 5K Age Group Results\n\nGobbler Gallop 5k Overall Results\n\nGobbler Gallop Team Results
URL:https://www.racetime.info/event/waterman-gobbler-gallop-5k-run-walk/
LOCATION:Indian Creek Middle School\, 335 E. Garfield Street\, Waterman\, IL\, 60556\, United States
CATEGORIES:2025-11 Results (November)
ORGANIZER;CN="Bob Bend":MAILTO:rbend51@yahoo.com
END:VEVENT
BEGIN:VEVENT
DTSTART;TZID=America/Chicago:20251127T080000
DTEND;TZID=America/Chicago:20251127T093000
DTSTAMP:20260424T041448
CREATED:20251014T121236Z
LAST-MODIFIED:20251127T172406Z
UID:10002446-1764230400-1764235800@www.racetime.info
SUMMARY:Henry's Thanksgiving Day Hustle 5K and Kids Dash
DESCRIPTION:Henry Thanksgiving Hustle 5K Age Group Results\n\nHenry Thanksgiving Hustle 5K Overall Results
URL:https://www.racetime.info/event/henrys-thanksgiving-day-hustle-5k-and-kids-dash/
LOCATION:Marlowe Middle School\, 9625 Haligus Road\, Lake In The Hills\, IL\, 60156\, United States
CATEGORIES:2025-11 Results (November)
ORGANIZER;CN="Kopf Running":MAILTO:karen@henryshustle.com
END:VEVENT
BEGIN:VEVENT
DTSTART;TZID=America/Indiana/Indianapolis:20251127T090000
DTEND;TZID=America/Indiana/Indianapolis:20251127T103000
DTSTAMP:20260424T041448
CREATED:20251116T130127Z
LAST-MODIFIED:20251127T172505Z
UID:10002450-1764234000-1764239400@www.racetime.info
SUMMARY:Attica Turkey Trot 5K Run/Walk
DESCRIPTION:Attica Turkey Trot 5K Age Group Results\n\nAttica Turkey Trot 5K Overall Results
URL:https://www.racetime.info/event/attica-turkey-trot-5k-run-walk-5/
LOCATION:Attica High School\, 211 Sycamore Street\, Attica\, IN\, 47918\, United States
CATEGORIES:2025-11 Results (November)
ORGANIZER;CN="Jeff Crane":MAILTO:atticaturkeytrot@yahoo.com
GEO:40.277395;-87.250629
X-APPLE-STRUCTURED-LOCATION;VALUE=URI;X-ADDRESS=Attica High School 211 Sycamore Street Attica IN 47918 United States;X-APPLE-RADIUS=500;X-TITLE=211 Sycamore Street:geo:-87.250629,40.277395
END:VEVENT
BEGIN:VEVENT
DTSTART;TZID=America/Chicago:20251127T090000
DTEND;TZID=America/Chicago:20251127T103000
DTSTAMP:20260424T041448
CREATED:20251123T124251Z
LAST-MODIFIED:20251127T175736Z
UID:10002451-1764234000-1764239400@www.racetime.info
SUMMARY:Wauconda Turkey Trot 4 Mile Run and 2 Mile Walk
DESCRIPTION:Wauconda Turkey Trot 4 Mile Age Group Results\n\nWauconda Turkey Trot 4 Mile Overall Results
URL:https://www.racetime.info/event/wauconda-turkey-trot-4-mile-run-and-2-mile-walk-3/
LOCATION:Wauconda Bangs Lake\, 118 South Main Street\, Wauconda\, IL\, 60084\, United States
CATEGORIES:2025-11 Results (November)
ORGANIZER;CN="Linda Starkey":MAILTO:lindakaystarkey@gmail.com
END:VEVENT
END:VCALENDAR