BEGIN:VCALENDAR
VERSION:2.0
PRODID:-//Race Time - ECPv6.15.13//NONSGML v1.0//EN
CALSCALE:GREGORIAN
METHOD:PUBLISH
X-WR-CALNAME:Race Time
X-ORIGINAL-URL:https://www.racetime.info
X-WR-CALDESC:Events for Race Time
REFRESH-INTERVAL;VALUE=DURATION:PT1H
X-Robots-Tag:noindex
X-PUBLISHED-TTL:PT1H
BEGIN:VTIMEZONE
TZID:America/Chicago
BEGIN:DAYLIGHT
TZOFFSETFROM:-0600
TZOFFSETTO:-0500
TZNAME:CDT
DTSTART:20240310T080000
END:DAYLIGHT
BEGIN:STANDARD
TZOFFSETFROM:-0500
TZOFFSETTO:-0600
TZNAME:CST
DTSTART:20241103T070000
END:STANDARD
BEGIN:DAYLIGHT
TZOFFSETFROM:-0600
TZOFFSETTO:-0500
TZNAME:CDT
DTSTART:20250309T080000
END:DAYLIGHT
BEGIN:STANDARD
TZOFFSETFROM:-0500
TZOFFSETTO:-0600
TZNAME:CST
DTSTART:20251102T070000
END:STANDARD
BEGIN:DAYLIGHT
TZOFFSETFROM:-0600
TZOFFSETTO:-0500
TZNAME:CDT
DTSTART:20260308T080000
END:DAYLIGHT
BEGIN:STANDARD
TZOFFSETFROM:-0500
TZOFFSETTO:-0600
TZNAME:CST
DTSTART:20261101T070000
END:STANDARD
END:VTIMEZONE
BEGIN:VEVENT
DTSTART;TZID=America/Chicago:20251221T100000
DTEND;TZID=America/Chicago:20251221T113000
DTSTAMP:20260423T194315
CREATED:20250906T094607Z
LAST-MODIFIED:20251221T193309Z
UID:10002437-1766311200-1766316600@www.racetime.info
SUMMARY:Gaelic Park Carraig Challenge Cross Country 5K Run & 1.5 Mile Walk RESCHEDULED: 12/21/25
DESCRIPTION:Gaelic Carraig Challenge 5K Age Group Results\n\nGaelic Carraig Challenge 5K Overall Results
URL:https://www.racetime.info/event/gaelic-park-carraig-challenge-cross-country-5k-run-1-5-mile-walk-5/
LOCATION:Chicago Gaelic Park\, 6119 W. 147th Street\, Oak Forest\, IL\, 60452\, United States
CATEGORIES:2025-12 Results (December)
ORGANIZER;CN="Mike Cooke":MAILTO:officecgp@chicagogaelicpark.org
GEO:41.6231713;-87.7709214
X-APPLE-STRUCTURED-LOCATION;VALUE=URI;X-ADDRESS=Chicago Gaelic Park 6119 W. 147th Street Oak Forest IL 60452 United States;X-APPLE-RADIUS=500;X-TITLE=6119 W. 147th Street:geo:-87.7709214,41.6231713
END:VEVENT
BEGIN:VEVENT
DTSTART;TZID=America/Chicago:20251220T090000
DTEND;TZID=America/Chicago:20251220T110000
DTSTAMP:20260423T194315
CREATED:20251022T112928Z
LAST-MODIFIED:20251220T203328Z
UID:10002447-1766221200-1766228400@www.racetime.info
SUMMARY:Gingerbread Jog 5K & Kids Dash
DESCRIPTION:Gingerbread Jog 5K Age Group Results\n\nGingerbread Jog 5K Overall Results
URL:https://www.racetime.info/event/grinch-chase-5k-kids-dash-2/
LOCATION:Allerton Park & Retreat Center\, 515 Old Timber Road\, Monticello\, IL\, 61856\, United States
CATEGORIES:2025-12 Results (December)
ORGANIZER;CN="Ariel Ponce":MAILTO:business@sangamonvalleyceo.com
GEO:40.026603;-88.570234
X-APPLE-STRUCTURED-LOCATION;VALUE=URI;X-ADDRESS=Allerton Park & Retreat Center 515 Old Timber Road Monticello IL 61856 United States;X-APPLE-RADIUS=500;X-TITLE=515 Old Timber Road:geo:-88.570234,40.026603
END:VEVENT
BEGIN:VEVENT
DTSTART;TZID=America/Chicago:20251207T083000
DTEND;TZID=America/Chicago:20251207T100000
DTSTAMP:20260423T194315
CREATED:20251123T125135Z
LAST-MODIFIED:20251207T170915Z
UID:10002452-1765096200-1765101600@www.racetime.info
SUMMARY:Insane Candy Cane 5K & Kids Reindeer Dash
DESCRIPTION:Insane Candy Cane 5K Age Group Results\n\nInsane Candy Cane 5K Overall Results
URL:https://www.racetime.info/event/insane-candy-cane-5k-kids-reindeer-dash-2/
LOCATION:Peg Bond Center\, 151 N. Island Avenue\, Batavia\, IL\, 60510\, United States
CATEGORIES:2025-12 Results (December)
ORGANIZER;CN="Mary Agnes Zellmer":MAILTO:maz@chicagoracemanagement.com
GEO:41.853407;-88.3092422
X-APPLE-STRUCTURED-LOCATION;VALUE=URI;X-ADDRESS=Peg Bond Center 151 N. Island Avenue Batavia IL 60510 United States;X-APPLE-RADIUS=500;X-TITLE=151 N. Island Avenue:geo:-88.3092422,41.853407
END:VEVENT
BEGIN:VEVENT
DTSTART;TZID=America/Chicago:20251206T100000
DTEND;TZID=America/Chicago:20251206T233000
DTSTAMP:20260423T194315
CREATED:20250827T115218Z
LAST-MODIFIED:20251206T191637Z
UID:10002428-1765015200-1765063800@www.racetime.info
SUMMARY:Running with the Elves: A Very Merry Huntley Event
DESCRIPTION:Running of the Elves 1 Mile Overall Results\n\nRunning of the Elves 5K Age Group Results\n\nRunning of the Elves 5K Overall Results
URL:https://www.racetime.info/event/running-with-the-elves-a-very-merry-huntley-event-2/
LOCATION:Downtown Huntley\, Coral and Church Streets\, Huntley\, IL\, 60142\, United States
CATEGORIES:2025-12 Results (December)
ORGANIZER;CN="Jim Uszler":MAILTO:huntleyrotary@yahoo.com
END:VEVENT
END:VCALENDAR