BEGIN:VCALENDAR
VERSION:2.0
PRODID:-//Race Time - ECPv6.15.13//NONSGML v1.0//EN
CALSCALE:GREGORIAN
METHOD:PUBLISH
X-WR-CALNAME:Race Time
X-ORIGINAL-URL:https://www.racetime.info
X-WR-CALDESC:Events for Race Time
REFRESH-INTERVAL;VALUE=DURATION:PT1H
X-Robots-Tag:noindex
X-PUBLISHED-TTL:PT1H
BEGIN:VTIMEZONE
TZID:America/Chicago
BEGIN:DAYLIGHT
TZOFFSETFROM:-0600
TZOFFSETTO:-0500
TZNAME:CDT
DTSTART:20240310T080000
END:DAYLIGHT
BEGIN:STANDARD
TZOFFSETFROM:-0500
TZOFFSETTO:-0600
TZNAME:CST
DTSTART:20241103T070000
END:STANDARD
BEGIN:DAYLIGHT
TZOFFSETFROM:-0600
TZOFFSETTO:-0500
TZNAME:CDT
DTSTART:20250309T080000
END:DAYLIGHT
BEGIN:STANDARD
TZOFFSETFROM:-0500
TZOFFSETTO:-0600
TZNAME:CST
DTSTART:20251102T070000
END:STANDARD
BEGIN:DAYLIGHT
TZOFFSETFROM:-0600
TZOFFSETTO:-0500
TZNAME:CDT
DTSTART:20260308T080000
END:DAYLIGHT
BEGIN:STANDARD
TZOFFSETFROM:-0500
TZOFFSETTO:-0600
TZNAME:CST
DTSTART:20261101T070000
END:STANDARD
END:VTIMEZONE
BEGIN:VEVENT
DTSTART;TZID=America/Chicago:20250823T170000
DTEND;TZID=America/Chicago:20250823T190000
DTSTAMP:20260424T082338
CREATED:20250727T095713Z
LAST-MODIFIED:20250824T020302Z
UID:10002388-1755968400-1755975600@www.racetime.info
SUMMARY:St. Viator Artman XC Invitational & Grade/Middle School Meets
DESCRIPTION:Artman JH JV Girls Overall Results\n\nArtman JH JV Girls Team Results\n\nArtman JH JV Boys Overall Results\n\nArtman JH JV Boys Team Results\n\nArtman JH Varsity Girls Overall Results\n\nArtman JH Varsity Girls Team Results\n\nArtman JH Varsity Boys Overall Results\n\nArtman JH Varsity Boys Team Results
URL:https://www.racetime.info/event/st-viator-artman-xc-invitational-grade-middle-school-meets/
LOCATION:St. Viator High School\, 1213 E. Oakton Street\, Arlington Heights\, IL\, 60004\, United States
CATEGORIES:2025 Cross Country Results
ORGANIZER;CN="Maggie Haskins":MAILTO:mwiener@saintviator.com
GEO:42.0944962;-87.969388
X-APPLE-STRUCTURED-LOCATION;VALUE=URI;X-ADDRESS=St. Viator High School 1213 E. Oakton Street Arlington Heights IL 60004 United States;X-APPLE-RADIUS=500;X-TITLE=1213 E. Oakton Street:geo:-87.969388,42.0944962
END:VEVENT
BEGIN:VEVENT
DTSTART;TZID=America/Chicago:20250826T163000
DTEND;TZID=America/Chicago:20250826T173000
DTSTAMP:20260424T082338
CREATED:20250528T150316Z
LAST-MODIFIED:20250827T100509Z
UID:10002365-1756225800-1756229400@www.racetime.info
SUMMARY:York XC Meet (Boys Dual)
DESCRIPTION:York Aug 26 Fresh Boys Overall Results\n\nYork Aug 26 Fresh Boys Team Results\n\nYork Aug 26 Soph Varsity Boys Overall\n\nYork Aug 26 Soph Varsity Boys Team Results
URL:https://www.racetime.info/event/york-xc-meet-boys-dual/
LOCATION:Berens Park\, Armitage and Oak Lawn\, Elmhurst\, IL\, 60126\, United States
CATEGORIES:2025 Cross Country Results
ORGANIZER;CN="Rob Wagner":MAILTO:rwagner@elmhurst205.org
GEO:41.9131818;-87.9578911
X-APPLE-STRUCTURED-LOCATION;VALUE=URI;X-ADDRESS=Berens Park Armitage and Oak Lawn Elmhurst IL 60126 United States;X-APPLE-RADIUS=500;X-TITLE=Armitage and Oak Lawn:geo:-87.9578911,41.9131818
END:VEVENT
BEGIN:VEVENT
DTSTART;TZID=America/Chicago:20250830T080000
DTEND;TZID=America/Chicago:20250830T170000
DTSTAMP:20260424T082338
CREATED:20250827T100757Z
LAST-MODIFIED:20250830T171254Z
UID:10002427-1756540800-1756573200@www.racetime.info
SUMMARY:Carl Sandburg College Joan Jepngetich Memorial Invite XC Meet
DESCRIPTION:Womens Overall Results\n\nWomens Team Results\n\nMens Overall Results\n\nMens Team Results
URL:https://www.racetime.info/event/carl-sandburg-college-joan-jepngetich-memorial-invite-xc-meet/
LOCATION:Sandburg College\, 2400 Tom L. Wilson Blvd\, Galesburg\, IL\, 61401
CATEGORIES:2025 Cross Country Results
END:VEVENT
END:VCALENDAR