BEGIN:VCALENDAR
VERSION:2.0
PRODID:-//Race Time - ECPv6.15.13//NONSGML v1.0//EN
CALSCALE:GREGORIAN
METHOD:PUBLISH
X-WR-CALNAME:Race Time
X-ORIGINAL-URL:https://www.racetime.info
X-WR-CALDESC:Events for Race Time
REFRESH-INTERVAL;VALUE=DURATION:PT1H
X-Robots-Tag:noindex
X-PUBLISHED-TTL:PT1H
BEGIN:VTIMEZONE
TZID:America/Chicago
BEGIN:DAYLIGHT
TZOFFSETFROM:-0600
TZOFFSETTO:-0500
TZNAME:CDT
DTSTART:20240310T080000
END:DAYLIGHT
BEGIN:STANDARD
TZOFFSETFROM:-0500
TZOFFSETTO:-0600
TZNAME:CST
DTSTART:20241103T070000
END:STANDARD
BEGIN:DAYLIGHT
TZOFFSETFROM:-0600
TZOFFSETTO:-0500
TZNAME:CDT
DTSTART:20250309T080000
END:DAYLIGHT
BEGIN:STANDARD
TZOFFSETFROM:-0500
TZOFFSETTO:-0600
TZNAME:CST
DTSTART:20251102T070000
END:STANDARD
BEGIN:DAYLIGHT
TZOFFSETFROM:-0600
TZOFFSETTO:-0500
TZNAME:CDT
DTSTART:20260308T080000
END:DAYLIGHT
BEGIN:STANDARD
TZOFFSETFROM:-0500
TZOFFSETTO:-0600
TZNAME:CST
DTSTART:20261101T070000
END:STANDARD
END:VTIMEZONE
BEGIN:VEVENT
DTSTART;TZID=America/Chicago:20251002T160000
DTEND;TZID=America/Chicago:20251002T170000
DTSTAMP:20260424T054246
CREATED:20250819T100952Z
LAST-MODIFIED:20251003T010113Z
UID:10002408-1759420800-1759424400@www.racetime.info
SUMMARY:Leman Oct 2 Cross County Meet
DESCRIPTION:Leman Oct 2 6 7 Girls Overall Results\n\nLeman Oct 2 6 7 Girls Team Results\n\nLeman Oct 2 6 7 Boys Overall Results\n\nLeman Oct 2 6 7 Boys Team Results\n\nLeman Oct 2 8 Girls Overall Results\n\nLeman Oct 2 8 Girls Team Results\n\nLeman Oct 2 8 Boys Overall Results\n\nLeman Oct 2 8 Boys Team Results
URL:https://www.racetime.info/event/leman-oct-2-cross-county-meet/
LOCATION:Leman Middle School\, 238 East Hazel Street\, West Chicago\, IL\, 60185\, United States
CATEGORIES:2025 Cross Country Results
ORGANIZER;CN="Julie Odom":MAILTO:odomj@wego33.org
GEO:41.8738296;-88.2023204
X-APPLE-STRUCTURED-LOCATION;VALUE=URI;X-ADDRESS=Leman Middle School 238 East Hazel Street West Chicago IL 60185 United States;X-APPLE-RADIUS=500;X-TITLE=238 East Hazel Street:geo:-88.2023204,41.8738296
END:VEVENT
BEGIN:VEVENT
DTSTART;TZID=America/Chicago:20251014T163000
DTEND;TZID=America/Chicago:20251014T180000
DTSTAMP:20260424T054246
CREATED:20250828T145529Z
LAST-MODIFIED:20251015T094843Z
UID:10002431-1760459400-1760464800@www.racetime.info
SUMMARY:Naper Prairie Conference Meet
DESCRIPTION:NP Conference 7 Girls Overall Results\n\nNP Conference 7 Girls Team Results\n\nNP Conference 7 Boys Overall Results\n\nNP Conference 7 Boys Team Results\n\nNP Conference 8 Girls Overall Results\n\nNP Conference 8 Girls Team Results\n\nNP Conference 8 Boys Overall Results\n\nNP Conference 8 Boys Team Results
URL:https://www.racetime.info/event/naper-prairie-conference-meet/
LOCATION:Frontier Park\, 3380 Cedar Glade Drive\, Naperville\, IL\, 60563\, United States
CATEGORIES:2025 Cross Country Results
ORGANIZER;CN="Bradley Bywater":MAILTO:bradley_bywater@ipsd.org
END:VEVENT
END:VCALENDAR