BEGIN:VCALENDAR
VERSION:2.0
PRODID:-//Race Time - ECPv6.15.13//NONSGML v1.0//EN
CALSCALE:GREGORIAN
METHOD:PUBLISH
X-ORIGINAL-URL:https://www.racetime.info
X-WR-CALDESC:Events for Race Time
REFRESH-INTERVAL;VALUE=DURATION:PT1H
X-Robots-Tag:noindex
X-PUBLISHED-TTL:PT1H
BEGIN:VTIMEZONE
TZID:America/Chicago
BEGIN:DAYLIGHT
TZOFFSETFROM:-0600
TZOFFSETTO:-0500
TZNAME:CDT
DTSTART:20250309T080000
END:DAYLIGHT
BEGIN:STANDARD
TZOFFSETFROM:-0500
TZOFFSETTO:-0600
TZNAME:CST
DTSTART:20251102T070000
END:STANDARD
BEGIN:DAYLIGHT
TZOFFSETFROM:-0600
TZOFFSETTO:-0500
TZNAME:CDT
DTSTART:20260308T080000
END:DAYLIGHT
BEGIN:STANDARD
TZOFFSETFROM:-0500
TZOFFSETTO:-0600
TZNAME:CST
DTSTART:20261101T070000
END:STANDARD
BEGIN:DAYLIGHT
TZOFFSETFROM:-0600
TZOFFSETTO:-0500
TZNAME:CDT
DTSTART:20270314T080000
END:DAYLIGHT
BEGIN:STANDARD
TZOFFSETFROM:-0500
TZOFFSETTO:-0600
TZNAME:CST
DTSTART:20271107T070000
END:STANDARD
END:VTIMEZONE
BEGIN:VEVENT
DTSTART;TZID=America/Chicago:20260207T100000
DTEND;TZID=America/Chicago:20260207T113000
DTSTAMP:20260424T013008
CREATED:20251028T192335Z
LAST-MODIFIED:20260207T192507Z
UID:10002449-1770458400-1770463800@www.racetime.info
SUMMARY:Randall Frozen Oaks 5K Run/Walk
DESCRIPTION:Frozen Oaks 5K Age Group Results\n\nFrozen Oaks 5K Overall Results
URL:https://www.racetime.info/event/the-randall-oaks-frozen-oaks-5k-run-walk-4/
LOCATION:Randall Oaks Golf Club\, 4101 Binnie Road\, West Dundee\, IL\, 60118\, United States
CATEGORIES:2026-02 Results (February)
ORGANIZER;CN="Bill Hepperle":MAILTO:bhepperle@dtpd.org
END:VEVENT
BEGIN:VEVENT
DTSTART;TZID=America/Chicago:20260214T090000
DTEND;TZID=America/Chicago:20260214T103000
DTSTAMP:20260424T013008
CREATED:20251220T204238Z
LAST-MODIFIED:20260217T105804Z
UID:10002460-1771059600-1771065000@www.racetime.info
SUMMARY:Galena Classic Sasquatch Shuffle 3K
DESCRIPTION:Sasquatch Shuffle Age Group Results\n\nSasquatch Shuffle Overall Results
URL:https://www.racetime.info/event/galena-classic-sasquatch-shuffle-snowshoe-no-snowshoe-3k/
LOCATION:Eagle Ridge Resort & Spa\, 444 Eagle Ridge Drive\, Galena\, IL\, 61036\, United States
CATEGORIES:2026-02 Results (February)
ORGANIZER;CN="Megan Dombek":MAILTO:mdombek@eagleridge.com
GEO:42.4054927;-90.338314
X-APPLE-STRUCTURED-LOCATION;VALUE=URI;X-ADDRESS=Eagle Ridge Resort & Spa 444 Eagle Ridge Drive Galena IL 61036 United States;X-APPLE-RADIUS=500;X-TITLE=444 Eagle Ridge Drive:geo:-90.338314,42.4054927
END:VEVENT
BEGIN:VEVENT
DTSTART;TZID=America/Chicago:20260221T100000
DTEND;TZID=America/Chicago:20260221T120000
DTSTAMP:20260424T013008
CREATED:20251202T122844Z
LAST-MODIFIED:20260221T185420Z
UID:10002457-1771668000-1771675200@www.racetime.info
SUMMARY:Fox River Winter Challenge Trail Series 8K #2
DESCRIPTION:Fox Valley Winter Series Aurora 8K Age Group Results\n\nFox Valley Winter Series Aurora 8K Overall Results
URL:https://www.racetime.info/event/fox-river-winter-challenge-trail-series-8k-2/
LOCATION:Oakhurst Forest Preserve\, 1680 Fifth Avenue\, Aurora\, IL\, 60504\, United States
CATEGORIES:2026-02 Results (February)
ORGANIZER;CN="Theresa Kettlewell":MAILTO:theresa@foxvalleyrunning.com
END:VEVENT
BEGIN:VEVENT
DTSTART;TZID=America/Chicago:20260222T130000
DTEND;TZID=America/Chicago:20260222T143000
DTSTAMP:20260424T013008
CREATED:20260127T130803Z
LAST-MODIFIED:20260222T221346Z
UID:10002477-1771765200-1771770600@www.racetime.info
SUMMARY:Hug An Athlete 5K Run*Walk*Roll
DESCRIPTION:Hug An Athlete 5K Age Group Results\n\nHug An Athlete 5K Overall Results
URL:https://www.racetime.info/event/hug-an-athlete-5k-runwalkroll-2/
LOCATION:Doty Park\, 365 W. Locust Street\, Belvidere\, IL\, 61008\, United States
CATEGORIES:2026-02 Results (February)
ORGANIZER;CN="Katie Humphrey":MAILTO:khumphrey@belviderepark.org
GEO:42.256882;-88.844297
X-APPLE-STRUCTURED-LOCATION;VALUE=URI;X-ADDRESS=Doty Park 365 W. Locust Street Belvidere IL 61008 United States;X-APPLE-RADIUS=500;X-TITLE=365 W. Locust Street:geo:-88.844297,42.256882
END:VEVENT
END:VCALENDAR