BEGIN:VCALENDAR
VERSION:2.0
PRODID:-//Race Time - ECPv6.15.13//NONSGML v1.0//EN
CALSCALE:GREGORIAN
METHOD:PUBLISH
X-ORIGINAL-URL:https://www.racetime.info
X-WR-CALDESC:Events for Race Time
REFRESH-INTERVAL;VALUE=DURATION:PT1H
X-Robots-Tag:noindex
X-PUBLISHED-TTL:PT1H
BEGIN:VTIMEZONE
TZID:America/Chicago
BEGIN:DAYLIGHT
TZOFFSETFROM:-0600
TZOFFSETTO:-0500
TZNAME:CDT
DTSTART:20250309T080000
END:DAYLIGHT
BEGIN:STANDARD
TZOFFSETFROM:-0500
TZOFFSETTO:-0600
TZNAME:CST
DTSTART:20251102T070000
END:STANDARD
BEGIN:DAYLIGHT
TZOFFSETFROM:-0600
TZOFFSETTO:-0500
TZNAME:CDT
DTSTART:20260308T080000
END:DAYLIGHT
BEGIN:STANDARD
TZOFFSETFROM:-0500
TZOFFSETTO:-0600
TZNAME:CST
DTSTART:20261101T070000
END:STANDARD
BEGIN:DAYLIGHT
TZOFFSETFROM:-0600
TZOFFSETTO:-0500
TZNAME:CDT
DTSTART:20270314T080000
END:DAYLIGHT
BEGIN:STANDARD
TZOFFSETFROM:-0500
TZOFFSETTO:-0600
TZNAME:CST
DTSTART:20271107T070000
END:STANDARD
END:VTIMEZONE
BEGIN:VEVENT
DTSTART;TZID=America/Chicago:20260322T100000
DTEND;TZID=America/Chicago:20260322T120000
DTSTAMP:20260423T193527
CREATED:20251202T125208Z
LAST-MODIFIED:20260322T180929Z
UID:10002458-1774173600-1774180800@www.racetime.info
SUMMARY:Fox River Winter Challenge Trail Series 10K #3
DESCRIPTION:Fox Valley Winter Series St. Charles 10K Age Group Results\n\nFox Valley Winter Series St. Charles 10K Overall Results
URL:https://www.racetime.info/event/fox-river-winter-challenge-trail-series-10k-3/
LOCATION:Hickory Knolls Discovery Center\, 3795 Campton Hills Dr\, St. Charles\, IL\, 60175\, United States
CATEGORIES:2026-03 Results (March)
ORGANIZER;CN="Theresa Kettlewell":MAILTO:theresa@foxvalleyrunning.com
END:VEVENT
BEGIN:VEVENT
DTSTART;TZID=America/Chicago:20260321T080000
DTEND;TZID=America/Chicago:20260321T100000
DTSTAMP:20260423T193527
CREATED:20251202T121140Z
LAST-MODIFIED:20260322T105557Z
UID:10002454-1774080000-1774087200@www.racetime.info
SUMMARY:Kick'n The Kilt 5K & Kids Dash
DESCRIPTION:Kick ‘n The Kilt 5K Age Group Results\n\nKick ‘n The Kilt 5K Overall Results\n\nKick ‘n The Kilt 8K Age Group Results\n\nKick ‘n The Kilt 8K Overall Results
URL:https://www.racetime.info/event/kickn-the-kilt-5k-kids-dash/
LOCATION:Bethlehem Lutheran Church\, 1145 N. 5th Avenue\, St. Charles\, IL\, 60174\, United States
CATEGORIES:2026-03 Results (March)
ORGANIZER;CN="Mary Agnes Zellmer":MAILTO:maz@chicagoracemanagement.com
END:VEVENT
BEGIN:VEVENT
DTSTART;TZID=America/Chicago:20260319T173000
DTEND;TZID=America/Chicago:20260319T190000
DTSTAMP:20260423T193527
CREATED:20260113T135504Z
LAST-MODIFIED:20260320T123146Z
UID:10002464-1773941400-1773946800@www.racetime.info
SUMMARY:Chasing Our Dreams 5K Run/Walk
DESCRIPTION:Chasing Our Dreams 5K Age Group Results\n\nChasing Our Dreams 5K Overall Results\n\nChasing Our Dreams Team Results
URL:https://www.racetime.info/event/chasing-our-dreams-5k-run-walk/
LOCATION:Palos Baseball Fields\, 7701 W. College Drive\, Palos Heights\, IL\, 60463\, United States
CATEGORIES:2026-03 Results (March)
ORGANIZER;CN="Sheila Weston":MAILTO:chasingourdreams5K@gmail.com
END:VEVENT
BEGIN:VEVENT
DTSTART;TZID=America/Chicago:20260314T093000
DTEND;TZID=America/Chicago:20260314T103000
DTSTAMP:20260423T193527
CREATED:20260102T171331Z
LAST-MODIFIED:20260314T174823Z
UID:10002461-1773480600-1773484200@www.racetime.info
SUMMARY:Dixon's Sham-Rock 5K Run/Walk & Kids Fun Run
DESCRIPTION:Dixon Shamrock 5K Age Group Results\n\nDixon Shamrock 5K Overall Results
URL:https://www.racetime.info/event/dixons-sham-rock-5k-run-walk-kids-fun-run-2/
LOCATION:Dixon YMCA\, 110 N. Galena Avenue\, Dixon\, IL\, 61021\, United States
CATEGORIES:2026-03 Results (March)
ORGANIZER;CN="Katie Matteson":MAILTO:katie@dixonymca.org
GEO:41.8471187;-89.4838665
X-APPLE-STRUCTURED-LOCATION;VALUE=URI;X-ADDRESS=Dixon YMCA 110 N. Galena Avenue Dixon IL 61021 United States;X-APPLE-RADIUS=500;X-TITLE=110 N. Galena Avenue:geo:-89.4838665,41.8471187
END:VEVENT
END:VCALENDAR