BEGIN:VCALENDAR
VERSION:2.0
PRODID:-//Race Time - ECPv6.15.13//NONSGML v1.0//EN
CALSCALE:GREGORIAN
METHOD:PUBLISH
X-WR-CALNAME:Race Time
X-ORIGINAL-URL:https://www.racetime.info
X-WR-CALDESC:Events for Race Time
REFRESH-INTERVAL;VALUE=DURATION:PT1H
X-Robots-Tag:noindex
X-PUBLISHED-TTL:PT1H
BEGIN:VTIMEZONE
TZID:America/Chicago
BEGIN:DAYLIGHT
TZOFFSETFROM:-0600
TZOFFSETTO:-0500
TZNAME:CDT
DTSTART:20140309T080000
END:DAYLIGHT
BEGIN:STANDARD
TZOFFSETFROM:-0500
TZOFFSETTO:-0600
TZNAME:CST
DTSTART:20141102T070000
END:STANDARD
BEGIN:DAYLIGHT
TZOFFSETFROM:-0600
TZOFFSETTO:-0500
TZNAME:CDT
DTSTART:20150308T080000
END:DAYLIGHT
BEGIN:STANDARD
TZOFFSETFROM:-0500
TZOFFSETTO:-0600
TZNAME:CST
DTSTART:20151101T070000
END:STANDARD
BEGIN:DAYLIGHT
TZOFFSETFROM:-0600
TZOFFSETTO:-0500
TZNAME:CDT
DTSTART:20160313T080000
END:DAYLIGHT
BEGIN:STANDARD
TZOFFSETFROM:-0500
TZOFFSETTO:-0600
TZNAME:CST
DTSTART:20161106T070000
END:STANDARD
BEGIN:DAYLIGHT
TZOFFSETFROM:-0600
TZOFFSETTO:-0500
TZNAME:CDT
DTSTART:20170312T080000
END:DAYLIGHT
BEGIN:STANDARD
TZOFFSETFROM:-0500
TZOFFSETTO:-0600
TZNAME:CST
DTSTART:20171105T070000
END:STANDARD
BEGIN:DAYLIGHT
TZOFFSETFROM:-0600
TZOFFSETTO:-0500
TZNAME:CDT
DTSTART:20180311T080000
END:DAYLIGHT
BEGIN:STANDARD
TZOFFSETFROM:-0500
TZOFFSETTO:-0600
TZNAME:CST
DTSTART:20181104T070000
END:STANDARD
BEGIN:DAYLIGHT
TZOFFSETFROM:-0600
TZOFFSETTO:-0500
TZNAME:CDT
DTSTART:20190310T080000
END:DAYLIGHT
BEGIN:STANDARD
TZOFFSETFROM:-0500
TZOFFSETTO:-0600
TZNAME:CST
DTSTART:20191103T070000
END:STANDARD
BEGIN:DAYLIGHT
TZOFFSETFROM:-0600
TZOFFSETTO:-0500
TZNAME:CDT
DTSTART:20200308T080000
END:DAYLIGHT
BEGIN:STANDARD
TZOFFSETFROM:-0500
TZOFFSETTO:-0600
TZNAME:CST
DTSTART:20201101T070000
END:STANDARD
END:VTIMEZONE
BEGIN:VEVENT
DTSTART;TZID=America/Chicago:20191123T080000
DTEND;TZID=America/Chicago:20191123T103000
DTSTAMP:20260424T011624
CREATED:20170921T163859Z
LAST-MODIFIED:20191124T120143Z
UID:10000860-1574496000-1574505000@www.racetime.info
SUMMARY:Addison Turkey Predictor 5K
DESCRIPTION:Addison Turkey Trot 5K Overall Results\n\nAddison Turkey Trot 5K Predictor Overall Results
URL:https://www.racetime.info/event/addison-turkey-predictor-5k/
LOCATION:Centennial Park\, 1776 W. Centennial Place\, Addison\, IL\, 60101\, United States
CATEGORIES:2019-11 Results (November)
ORGANIZER;CN="Sean Ford":MAILTO:sford@addisonparks.org
GEO:41.9446417;-88.030756
X-APPLE-STRUCTURED-LOCATION;VALUE=URI;X-ADDRESS=Centennial Park 1776 W. Centennial Place Addison IL 60101 United States;X-APPLE-RADIUS=500;X-TITLE=1776 W. Centennial Place:geo:-88.030756,41.9446417
END:VEVENT
BEGIN:VEVENT
DTSTART;TZID=America/Chicago:20181117T080000
DTEND;TZID=America/Chicago:20181117T103000
DTSTAMP:20260424T011624
CREATED:20170921T163859Z
LAST-MODIFIED:20181117T201003Z
UID:10000858-1542441600-1542450600@www.racetime.info
SUMMARY:Addison Turkey Predictor 5K
DESCRIPTION:Addison Turkey Trot Overall Results\n\nAddison Turkey Trot Predictor Results by Gender
URL:https://www.racetime.info/event/addison-turkey-trot-5k-1-mile-youth-run-2/
LOCATION:Centennial Park\, 1776 W. Centennial Place\, Addison\, IL\, 60101\, United States
CATEGORIES:2018-11 Results (November)
ORGANIZER;CN="Sean Ford":MAILTO:sford@addisonparks.org
GEO:41.9446417;-88.030756
X-APPLE-STRUCTURED-LOCATION;VALUE=URI;X-ADDRESS=Centennial Park 1776 W. Centennial Place Addison IL 60101 United States;X-APPLE-RADIUS=500;X-TITLE=1776 W. Centennial Place:geo:-88.030756,41.9446417
END:VEVENT
BEGIN:VEVENT
DTSTART;TZID=America/Chicago:20171118T080000
DTEND;TZID=America/Chicago:20171118T103000
DTSTAMP:20260424T011624
CREATED:20170921T163859Z
LAST-MODIFIED:20171118T194619Z
UID:10000868-1510992000-1511001000@www.racetime.info
SUMMARY:Addison Turkey Trot 5K & 1 Mile Youth Run
DESCRIPTION:Addison Turkey Trot 5K Age Group Results\n\nAddison Turkey Trot 5K Overall Results
URL:https://www.racetime.info/event/addison-turkey-trot-5k-1-mile-youth-run/
LOCATION:Centennial Park\, 1776 W. Centennial Place\, Addison\, IL\, 60101\, United States
CATEGORIES:2017-11 Results (November)
ORGANIZER;CN="Sean Ford":MAILTO:sford@addisonparks.org
GEO:41.9446417;-88.030756
X-APPLE-STRUCTURED-LOCATION;VALUE=URI;X-ADDRESS=Centennial Park 1776 W. Centennial Place Addison IL 60101 United States;X-APPLE-RADIUS=500;X-TITLE=1776 W. Centennial Place:geo:-88.030756,41.9446417
END:VEVENT
BEGIN:VEVENT
DTSTART;TZID=America/Chicago:20161119T080000
DTEND;TZID=America/Chicago:20161119T100000
DTSTAMP:20260424T011624
CREATED:20161018T001415Z
LAST-MODIFIED:20161119T183950Z
UID:10000855-1479542400-1479549600@www.racetime.info
SUMMARY:Addison Turkey Trot 5K & 1 Mile
DESCRIPTION:Turkey Trot 1 Mile Youth Results\n\nTurkey Trot 5K Age Group Results\n\nTurkey Trot 5K Overall Results
URL:https://www.racetime.info/event/addison-turkey-trot-5k-1-mile/
LOCATION:Centennial Park\, 1776 W. Centennial Place\, Addison\, IL\, 60101\, United States
CATEGORIES:2016-11 Results (November)
ORGANIZER;CN="Sean Ford":MAILTO:sford@addisonparks.org
GEO:41.9446417;-88.030756
X-APPLE-STRUCTURED-LOCATION;VALUE=URI;X-ADDRESS=Centennial Park 1776 W. Centennial Place Addison IL 60101 United States;X-APPLE-RADIUS=500;X-TITLE=1776 W. Centennial Place:geo:-88.030756,41.9446417
END:VEVENT
BEGIN:VEVENT
DTSTART;TZID=America/Chicago:20151126T084500
DTEND;TZID=America/Chicago:20151126T110000
DTSTAMP:20260424T011624
CREATED:20151115T111403Z
LAST-MODIFIED:20151126T191007Z
UID:10000172-1448527500-1448535600@www.racetime.info
SUMMARY:Addison Turkey Trot 1-5 Mile Run & 1-3 Mile Walk
DESCRIPTION:Addison Turkey Trot .5 Youth Predictor\n\nAddison Turkey Trot Overall Predictor Results
URL:https://www.racetime.info/event/addison-turkey-trot-1-5-mile-run-1-3-mile-walk/
LOCATION:Addison Community Park\, 120 E. Oak Street\, Addison\, IL\, 60101\, United States
CATEGORIES:2015-11 Results (November)
ORGANIZER;CN="Sean Ford":MAILTO:sford@addisonparks.org
GEO:41.9338049;-87.9852292
X-APPLE-STRUCTURED-LOCATION;VALUE=URI;X-ADDRESS=Addison Community Park 120 E. Oak Street Addison IL 60101 United States;X-APPLE-RADIUS=500;X-TITLE=120 E. Oak Street:geo:-87.9852292,41.9338049
END:VEVENT
END:VCALENDAR