BEGIN:VCALENDAR
VERSION:2.0
PRODID:-//Race Time - ECPv6.15.13//NONSGML v1.0//EN
CALSCALE:GREGORIAN
METHOD:PUBLISH
X-WR-CALNAME:Race Time
X-ORIGINAL-URL:https://www.racetime.info
X-WR-CALDESC:Events for Race Time
REFRESH-INTERVAL;VALUE=DURATION:PT1H
X-Robots-Tag:noindex
X-PUBLISHED-TTL:PT1H
BEGIN:VTIMEZONE
TZID:America/Chicago
BEGIN:DAYLIGHT
TZOFFSETFROM:-0600
TZOFFSETTO:-0500
TZNAME:CDT
DTSTART:20140309T080000
END:DAYLIGHT
BEGIN:STANDARD
TZOFFSETFROM:-0500
TZOFFSETTO:-0600
TZNAME:CST
DTSTART:20141102T070000
END:STANDARD
BEGIN:DAYLIGHT
TZOFFSETFROM:-0600
TZOFFSETTO:-0500
TZNAME:CDT
DTSTART:20150308T080000
END:DAYLIGHT
BEGIN:STANDARD
TZOFFSETFROM:-0500
TZOFFSETTO:-0600
TZNAME:CST
DTSTART:20151101T070000
END:STANDARD
BEGIN:DAYLIGHT
TZOFFSETFROM:-0600
TZOFFSETTO:-0500
TZNAME:CDT
DTSTART:20160313T080000
END:DAYLIGHT
BEGIN:STANDARD
TZOFFSETFROM:-0500
TZOFFSETTO:-0600
TZNAME:CST
DTSTART:20161106T070000
END:STANDARD
END:VTIMEZONE
BEGIN:VEVENT
DTSTART;TZID=America/Chicago:20150426T080000
DTEND;TZID=America/Chicago:20150426T170000
DTSTAMP:20260424T023858
CREATED:20150415T201349Z
LAST-MODIFIED:20150829T200445Z
UID:10000029-1430035200-1430067600@www.racetime.info
SUMMARY:Whistle While You Walk/Run 5K For Emilio
DESCRIPTION:Whistle While You Walk And Run For Emilio 5K Overall Results
URL:https://www.racetime.info/event/whistle-while-you-walkrun-5k-for-emilio/
LOCATION:Willowbrook High School\, 1250 South Ardmore Avenue\, Villa Park\, IL\, 60181\, United States
CATEGORIES:2015-04 Results (April)
GEO:41.8897519;-87.9889543
X-APPLE-STRUCTURED-LOCATION;VALUE=URI;X-ADDRESS=Willowbrook High School 1250 South Ardmore Avenue Villa Park IL 60181 United States;X-APPLE-RADIUS=500;X-TITLE=1250 South Ardmore Avenue:geo:-87.9889543,41.8897519
END:VEVENT
END:VCALENDAR