BEGIN:VCALENDAR
VERSION:2.0
PRODID:-//Race Time - ECPv6.15.13//NONSGML v1.0//EN
CALSCALE:GREGORIAN
METHOD:PUBLISH
X-ORIGINAL-URL:https://www.racetime.info
X-WR-CALDESC:Events for Race Time
REFRESH-INTERVAL;VALUE=DURATION:PT1H
X-Robots-Tag:noindex
X-PUBLISHED-TTL:PT1H
BEGIN:VTIMEZONE
TZID:America/Chicago
BEGIN:DAYLIGHT
TZOFFSETFROM:-0600
TZOFFSETTO:-0500
TZNAME:CDT
DTSTART:20170312T080000
END:DAYLIGHT
BEGIN:STANDARD
TZOFFSETFROM:-0500
TZOFFSETTO:-0600
TZNAME:CST
DTSTART:20171105T070000
END:STANDARD
BEGIN:DAYLIGHT
TZOFFSETFROM:-0600
TZOFFSETTO:-0500
TZNAME:CDT
DTSTART:20180311T080000
END:DAYLIGHT
BEGIN:STANDARD
TZOFFSETFROM:-0500
TZOFFSETTO:-0600
TZNAME:CST
DTSTART:20181104T070000
END:STANDARD
BEGIN:DAYLIGHT
TZOFFSETFROM:-0600
TZOFFSETTO:-0500
TZNAME:CDT
DTSTART:20190310T080000
END:DAYLIGHT
BEGIN:STANDARD
TZOFFSETFROM:-0500
TZOFFSETTO:-0600
TZNAME:CST
DTSTART:20191103T070000
END:STANDARD
BEGIN:DAYLIGHT
TZOFFSETFROM:-0600
TZOFFSETTO:-0500
TZNAME:CDT
DTSTART:20200308T080000
END:DAYLIGHT
BEGIN:STANDARD
TZOFFSETFROM:-0500
TZOFFSETTO:-0600
TZNAME:CST
DTSTART:20201101T070000
END:STANDARD
BEGIN:DAYLIGHT
TZOFFSETFROM:-0600
TZOFFSETTO:-0500
TZNAME:CDT
DTSTART:20210314T080000
END:DAYLIGHT
BEGIN:STANDARD
TZOFFSETFROM:-0500
TZOFFSETTO:-0600
TZNAME:CST
DTSTART:20211107T070000
END:STANDARD
BEGIN:DAYLIGHT
TZOFFSETFROM:-0600
TZOFFSETTO:-0500
TZNAME:CDT
DTSTART:20220313T080000
END:DAYLIGHT
BEGIN:STANDARD
TZOFFSETFROM:-0500
TZOFFSETTO:-0600
TZNAME:CST
DTSTART:20221106T070000
END:STANDARD
BEGIN:DAYLIGHT
TZOFFSETFROM:-0600
TZOFFSETTO:-0500
TZNAME:CDT
DTSTART:20230312T080000
END:DAYLIGHT
BEGIN:STANDARD
TZOFFSETFROM:-0500
TZOFFSETTO:-0600
TZNAME:CST
DTSTART:20231105T070000
END:STANDARD
BEGIN:DAYLIGHT
TZOFFSETFROM:-0600
TZOFFSETTO:-0500
TZNAME:CDT
DTSTART:20240310T080000
END:DAYLIGHT
BEGIN:STANDARD
TZOFFSETFROM:-0500
TZOFFSETTO:-0600
TZNAME:CST
DTSTART:20241103T070000
END:STANDARD
BEGIN:DAYLIGHT
TZOFFSETFROM:-0600
TZOFFSETTO:-0500
TZNAME:CDT
DTSTART:20250309T080000
END:DAYLIGHT
BEGIN:STANDARD
TZOFFSETFROM:-0500
TZOFFSETTO:-0600
TZNAME:CST
DTSTART:20251102T070000
END:STANDARD
BEGIN:DAYLIGHT
TZOFFSETFROM:-0600
TZOFFSETTO:-0500
TZNAME:CDT
DTSTART:20260308T080000
END:DAYLIGHT
BEGIN:STANDARD
TZOFFSETFROM:-0500
TZOFFSETTO:-0600
TZNAME:CST
DTSTART:20261101T070000
END:STANDARD
END:VTIMEZONE
BEGIN:VEVENT
DTSTART;TZID=America/Chicago:20250907T083000
DTEND;TZID=America/Chicago:20250907T100000
DTSTAMP:20260423T210902
CREATED:20250506T111444Z
LAST-MODIFIED:20250907T163215Z
UID:10002356-1757233800-1757239200@www.racetime.info
SUMMARY:Santa Maria 5K Run/Walk
DESCRIPTION:Santa Maria 5K Age Group Results\n\nSanta Maria 5K Overall Results
URL:https://www.racetime.info/event/santa-maria-5k-run-walk-3/
LOCATION:St. Mary of the Lake Mundelein Seminary\, 1000 E. Maple Avenue\, Mundelein\, IL\, 60060\, United States
CATEGORIES:2025-09 Results (September)
ORGANIZER;CN="Daniel Rosquete":MAILTO:danrosquete25@gmail.com
GEO:42.2811627;-88.0008155
X-APPLE-STRUCTURED-LOCATION;VALUE=URI;X-ADDRESS=St. Mary of the Lake Mundelein Seminary 1000 E. Maple Avenue Mundelein IL 60060 United States;X-APPLE-RADIUS=500;X-TITLE=1000 E. Maple Avenue:geo:-88.0008155,42.2811627
END:VEVENT
BEGIN:VEVENT
DTSTART;TZID=America/Chicago:20240908T083000
DTEND;TZID=America/Chicago:20240908T100000
DTSTAMP:20260423T210902
CREATED:20180806T170759Z
LAST-MODIFIED:20240908T192455Z
UID:10001822-1725784200-1725789600@www.racetime.info
SUMMARY:Santa Maria 5K Run/Walk
DESCRIPTION:Santa Maria Del Popolo 5K Age Group Results\n\nSanta Maria Del Popolo 5K Overall Results
URL:https://www.racetime.info/event/copy-of-santa-maria-5k-run-walk-2/
LOCATION:St. Mary of the Lake Mundelein Seminary\, 1000 E. Maple Avenue\, Mundelein\, IL\, 60060\, United States
CATEGORIES:2024-09 Results (September)
ORGANIZER;CN="Daniel Rosquete":MAILTO:danrosquete25@gmail.com
GEO:42.2811627;-88.0008155
X-APPLE-STRUCTURED-LOCATION;VALUE=URI;X-ADDRESS=St. Mary of the Lake Mundelein Seminary 1000 E. Maple Avenue Mundelein IL 60060 United States;X-APPLE-RADIUS=500;X-TITLE=1000 E. Maple Avenue:geo:-88.0008155,42.2811627
END:VEVENT
BEGIN:VEVENT
DTSTART;TZID=America/Chicago:20230910T083000
DTEND;TZID=America/Chicago:20230910T100000
DTSTAMP:20260423T210902
CREATED:20180806T170759Z
LAST-MODIFIED:20230910T182801Z
UID:10001821-1694334600-1694340000@www.racetime.info
SUMMARY:Santa Maria 5K Run/Walk
DESCRIPTION:Santa Maria 5K Age Group Results\n\nSanta Maria 5K Overall Results
URL:https://www.racetime.info/event/copy-of-santa-maria-5k-run-walk/
LOCATION:St. Mary of the Lake Mundelein Seminary\, 1000 E. Maple Avenue\, Mundelein\, IL\, 60060\, United States
CATEGORIES:2023-09 Results (September)
ORGANIZER;CN="Daniel Rosquete":MAILTO:danrosquete25@gmail.com
GEO:42.2811627;-88.0008155
X-APPLE-STRUCTURED-LOCATION;VALUE=URI;X-ADDRESS=St. Mary of the Lake Mundelein Seminary 1000 E. Maple Avenue Mundelein IL 60060 United States;X-APPLE-RADIUS=500;X-TITLE=1000 E. Maple Avenue:geo:-88.0008155,42.2811627
END:VEVENT
BEGIN:VEVENT
DTSTART;TZID=America/Chicago:20190907T080000
DTEND;TZID=America/Chicago:20190907T093000
DTSTAMP:20260423T210902
CREATED:20180806T170759Z
LAST-MODIFIED:20190907T170457Z
UID:10001005-1567843200-1567848600@www.racetime.info
SUMMARY:Santa Maria 5K Run/Walk
DESCRIPTION:Santa Maria 5K Age Group Results\n\nSanta Maria 5K Overall Results
URL:https://www.racetime.info/event/santa-maria-5k-run-walk-2/
LOCATION:St. Mary of the Lake Mundelein Seminary\, 1000 E. Maple Avenue\, Mundelein\, IL\, 60060\, United States
CATEGORIES:2019-09 Results (September)
ORGANIZER;CN="Daniel Rosquete":MAILTO:danrosquete25@gmail.com
GEO:42.2811627;-88.0008155
X-APPLE-STRUCTURED-LOCATION;VALUE=URI;X-ADDRESS=St. Mary of the Lake Mundelein Seminary 1000 E. Maple Avenue Mundelein IL 60060 United States;X-APPLE-RADIUS=500;X-TITLE=1000 E. Maple Avenue:geo:-88.0008155,42.2811627
END:VEVENT
BEGIN:VEVENT
DTSTART;TZID=America/Chicago:20180909T080000
DTEND;TZID=America/Chicago:20180909T093000
DTSTAMP:20260423T210902
CREATED:20180806T170759Z
LAST-MODIFIED:20180909T174930Z
UID:10001004-1536480000-1536485400@www.racetime.info
SUMMARY:Santa Maria 5K Run/Walk
DESCRIPTION:Santa Maria 5K Age Group Results\n\nSanta Maria 5K Overall Results
URL:https://www.racetime.info/event/santa-maria-5k-run-walk/
LOCATION:St. Mary of the Lake Mundelein Seminary\, 1000 E. Maple Avenue\, Mundelein\, IL\, 60060\, United States
CATEGORIES:2018-09 Results (September)
ORGANIZER;CN="Daniel Rosquete":MAILTO:danrosquete25@gmail.com
GEO:42.2811627;-88.0008155
X-APPLE-STRUCTURED-LOCATION;VALUE=URI;X-ADDRESS=St. Mary of the Lake Mundelein Seminary 1000 E. Maple Avenue Mundelein IL 60060 United States;X-APPLE-RADIUS=500;X-TITLE=1000 E. Maple Avenue:geo:-88.0008155,42.2811627
END:VEVENT
END:VCALENDAR