BEGIN:VCALENDAR
VERSION:2.0
PRODID:-//Race Time - ECPv6.15.13//NONSGML v1.0//EN
CALSCALE:GREGORIAN
METHOD:PUBLISH
X-WR-CALNAME:Race Time
X-ORIGINAL-URL:https://www.racetime.info
X-WR-CALDESC:Events for Race Time
REFRESH-INTERVAL;VALUE=DURATION:PT1H
X-Robots-Tag:noindex
X-PUBLISHED-TTL:PT1H
BEGIN:VTIMEZONE
TZID:America/Chicago
BEGIN:DAYLIGHT
TZOFFSETFROM:-0600
TZOFFSETTO:-0500
TZNAME:CDT
DTSTART:20140309T080000
END:DAYLIGHT
BEGIN:STANDARD
TZOFFSETFROM:-0500
TZOFFSETTO:-0600
TZNAME:CST
DTSTART:20141102T070000
END:STANDARD
BEGIN:DAYLIGHT
TZOFFSETFROM:-0600
TZOFFSETTO:-0500
TZNAME:CDT
DTSTART:20150308T080000
END:DAYLIGHT
BEGIN:STANDARD
TZOFFSETFROM:-0500
TZOFFSETTO:-0600
TZNAME:CST
DTSTART:20151101T070000
END:STANDARD
BEGIN:DAYLIGHT
TZOFFSETFROM:-0600
TZOFFSETTO:-0500
TZNAME:CDT
DTSTART:20160313T080000
END:DAYLIGHT
BEGIN:STANDARD
TZOFFSETFROM:-0500
TZOFFSETTO:-0600
TZNAME:CST
DTSTART:20161106T070000
END:STANDARD
BEGIN:DAYLIGHT
TZOFFSETFROM:-0600
TZOFFSETTO:-0500
TZNAME:CDT
DTSTART:20170312T080000
END:DAYLIGHT
BEGIN:STANDARD
TZOFFSETFROM:-0500
TZOFFSETTO:-0600
TZNAME:CST
DTSTART:20171105T070000
END:STANDARD
END:VTIMEZONE
BEGIN:VEVENT
DTSTART;TZID=America/Chicago:20160917T163000
DTEND;TZID=America/Chicago:20160917T190000
DTSTAMP:20260424T012256
CREATED:20160426T120202Z
LAST-MODIFIED:20160918T003028Z
UID:10000618-1474129800-1474138800@www.racetime.info
SUMMARY:Field Park Fit Family 5K Run/Walk & Youth Dashes
DESCRIPTION:Field Fit 5K Age & Grade Results\n\nField Fit 5K Overall Results
URL:https://www.racetime.info/event/field-park-fit-family-5k-runwalk-youth-dashes/
LOCATION:Field Park School\, 4335 Howard Avenue\, Western Springs\, IL\, 60558\, United States
CATEGORIES:2016-09 Results (September)
ORGANIZER;CN="Amanda Collins":MAILTO:aj_collins03@yahoo.com
GEO:41.811506;-87.894762
X-APPLE-STRUCTURED-LOCATION;VALUE=URI;X-ADDRESS=Field Park School 4335 Howard Avenue Western Springs IL 60558 United States;X-APPLE-RADIUS=500;X-TITLE=4335 Howard Avenue:geo:-87.894762,41.811506
END:VEVENT
BEGIN:VEVENT
DTSTART;TZID=America/Chicago:20150912T163000
DTEND;TZID=America/Chicago:20150912T190000
DTSTAMP:20260424T012256
CREATED:20150531T234812Z
LAST-MODIFIED:20150913T032000Z
UID:10000239-1442075400-1442084400@www.racetime.info
SUMMARY:Field Park Fit Family 5K Run/Walk & Kids Dashes
DESCRIPTION:FIELD FIT 5K AGE GROUP RESULTS\n\nFIELD FIT 5K OVERALL RESULTS
URL:https://www.racetime.info/event/field-park-fit-family-5k-runwalk-kids-dash/
LOCATION:Field Park School\, 4335 Howard Avenue\, Western Springs\, IL\, 60558\, United States
CATEGORIES:2015-09 Results (September)
ORGANIZER;CN="Amanda Collins":MAILTO:aj_collins03@yahoo.com
GEO:41.811506;-87.894762
X-APPLE-STRUCTURED-LOCATION;VALUE=URI;X-ADDRESS=Field Park School 4335 Howard Avenue Western Springs IL 60558 United States;X-APPLE-RADIUS=500;X-TITLE=4335 Howard Avenue:geo:-87.894762,41.811506
END:VEVENT
END:VCALENDAR