BEGIN:VCALENDAR
VERSION:2.0
PRODID:-//Race Time - ECPv6.15.13//NONSGML v1.0//EN
CALSCALE:GREGORIAN
METHOD:PUBLISH
X-WR-CALNAME:Race Time
X-ORIGINAL-URL:https://www.racetime.info
X-WR-CALDESC:Events for Race Time
REFRESH-INTERVAL;VALUE=DURATION:PT1H
X-Robots-Tag:noindex
X-PUBLISHED-TTL:PT1H
BEGIN:VTIMEZONE
TZID:America/Chicago
BEGIN:DAYLIGHT
TZOFFSETFROM:-0600
TZOFFSETTO:-0500
TZNAME:CDT
DTSTART:20180311T080000
END:DAYLIGHT
BEGIN:STANDARD
TZOFFSETFROM:-0500
TZOFFSETTO:-0600
TZNAME:CST
DTSTART:20181104T070000
END:STANDARD
BEGIN:DAYLIGHT
TZOFFSETFROM:-0600
TZOFFSETTO:-0500
TZNAME:CDT
DTSTART:20190310T080000
END:DAYLIGHT
BEGIN:STANDARD
TZOFFSETFROM:-0500
TZOFFSETTO:-0600
TZNAME:CST
DTSTART:20191103T070000
END:STANDARD
BEGIN:DAYLIGHT
TZOFFSETFROM:-0600
TZOFFSETTO:-0500
TZNAME:CDT
DTSTART:20200308T080000
END:DAYLIGHT
BEGIN:STANDARD
TZOFFSETFROM:-0500
TZOFFSETTO:-0600
TZNAME:CST
DTSTART:20201101T070000
END:STANDARD
BEGIN:DAYLIGHT
TZOFFSETFROM:-0600
TZOFFSETTO:-0500
TZNAME:CDT
DTSTART:20210314T080000
END:DAYLIGHT
BEGIN:STANDARD
TZOFFSETFROM:-0500
TZOFFSETTO:-0600
TZNAME:CST
DTSTART:20211107T070000
END:STANDARD
BEGIN:DAYLIGHT
TZOFFSETFROM:-0600
TZOFFSETTO:-0500
TZNAME:CDT
DTSTART:20220313T080000
END:DAYLIGHT
BEGIN:STANDARD
TZOFFSETFROM:-0500
TZOFFSETTO:-0600
TZNAME:CST
DTSTART:20221106T070000
END:STANDARD
BEGIN:DAYLIGHT
TZOFFSETFROM:-0600
TZOFFSETTO:-0500
TZNAME:CDT
DTSTART:20230312T080000
END:DAYLIGHT
BEGIN:STANDARD
TZOFFSETFROM:-0500
TZOFFSETTO:-0600
TZNAME:CST
DTSTART:20231105T070000
END:STANDARD
BEGIN:DAYLIGHT
TZOFFSETFROM:-0600
TZOFFSETTO:-0500
TZNAME:CDT
DTSTART:20240310T080000
END:DAYLIGHT
BEGIN:STANDARD
TZOFFSETFROM:-0500
TZOFFSETTO:-0600
TZNAME:CST
DTSTART:20241103T070000
END:STANDARD
END:VTIMEZONE
BEGIN:VEVENT
DTSTART;TZID=America/Chicago:20230603T090000
DTEND;TZID=America/Chicago:20230603T103000
DTSTAMP:20260423T224112
CREATED:20190227T134554Z
LAST-MODIFIED:20230603T181659Z
UID:10001028-1685782800-1685788200@www.racetime.info
SUMMARY:SPS Run For Life 5K Run/Walk
DESCRIPTION:SPS Run For Life 5K Age Group Results\n\nSPS Run For Life 5K Overall Results
URL:https://www.racetime.info/event/copy-of-sps-run-for-life-5k-run-walk-2/
LOCATION:Laurelwood Park\, 800 North River Street\, Batavia\, IL\, 60510\, United States
CATEGORIES:2023-06 Results (June)
ORGANIZER;CN="Holly Mapes":MAILTO:hollymapes0131@gmail.com
END:VEVENT
BEGIN:VEVENT
DTSTART;TZID=America/Chicago:20220604T090000
DTEND;TZID=America/Chicago:20220604T103000
DTSTAMP:20260423T224112
CREATED:20190227T134554Z
LAST-MODIFIED:20220604T190434Z
UID:10001044-1654333200-1654338600@www.racetime.info
SUMMARY:SPS Run For Life 5K Run/Walk
DESCRIPTION:SPS Run For Life 5K Age Group\n\nSPS Run For Life 5K Overall Results
URL:https://www.racetime.info/event/copy-of-sps-run-for-life-5k-run-walk/
LOCATION:Peg Bond Center\, 151 N. Island Avenue\, Batavia\, IL\, 60510\, United States
CATEGORIES:2022-06 Results (June)
ORGANIZER;CN="Holly Mapes":MAILTO:hollymapes0131@gmail.com
GEO:41.853407;-88.3092422
X-APPLE-STRUCTURED-LOCATION;VALUE=URI;X-ADDRESS=Peg Bond Center 151 N. Island Avenue Batavia IL 60510 United States;X-APPLE-RADIUS=500;X-TITLE=151 N. Island Avenue:geo:-88.3092422,41.853407
END:VEVENT
BEGIN:VEVENT
DTSTART;TZID=America/Chicago:20210605T090000
DTEND;TZID=America/Chicago:20210605T110000
DTSTAMP:20260423T224112
CREATED:20190227T134554Z
LAST-MODIFIED:20210605T173858Z
UID:10001042-1622883600-1622890800@www.racetime.info
SUMMARY:SPS Run For Life 5K Run/Walk
DESCRIPTION:Run For Life! 5K Age Group Results\n\nRun For Life! 5K Overall Results
URL:https://www.racetime.info/event/sps-run-for-life-5k-run-walk-cancelled/
LOCATION:Peg Bond Center\, 151 N. Island Avenue\, Batavia\, IL\, 60510\, United States
CATEGORIES:2021-06 Results (June)
ORGANIZER;CN="Holly Mapes":MAILTO:hollymapes0131@gmail.com
GEO:41.853407;-88.3092422
X-APPLE-STRUCTURED-LOCATION;VALUE=URI;X-ADDRESS=Peg Bond Center 151 N. Island Avenue Batavia IL 60510 United States;X-APPLE-RADIUS=500;X-TITLE=151 N. Island Avenue:geo:-88.3092422,41.853407
END:VEVENT
BEGIN:VEVENT
DTSTART;TZID=America/Chicago:20200620T083000
DTEND;TZID=America/Chicago:20200620T110000
DTSTAMP:20260423T224112
CREATED:20190227T134554Z
LAST-MODIFIED:20200625T122857Z
UID:10001041-1592641800-1592650800@www.racetime.info
SUMMARY:SPS Run For Life 5K Run/Walk: CANCELLED
DESCRIPTION:
URL:https://www.racetime.info/event/sps-run-for-life-5k-run-walk/
LOCATION:The Lodge at Laurel Woods\, 800 North River Street\, Batavia\, IL\, 60510\, United States
ORGANIZER;CN="Holly Mapes":MAILTO:hollymapes0131@gmail.com
END:VEVENT
BEGIN:VEVENT
DTSTART;TZID=America/Chicago:20190511T090000
DTEND;TZID=America/Chicago:20190511T110000
DTSTAMP:20260423T224112
CREATED:20190227T134554Z
LAST-MODIFIED:20190511T193900Z
UID:10001040-1557565200-1557572400@www.racetime.info
SUMMARY:SPS Run For Life 5K Run/Walk
DESCRIPTION:SPS Run For Life 5K Age Group Results\n\nSPS Run For Life 5K Overall Results
URL:https://www.racetime.info/event/run-for-life-5k-run-walk/
LOCATION:Peg Bond Center\, 151 N. Island Avenue\, Batavia\, IL\, 60510\, United States
CATEGORIES:2019-05 Results (May)
ORGANIZER;CN="Holly Mapes":MAILTO:hollymapes0131@gmail.com
GEO:41.853407;-88.3092422
X-APPLE-STRUCTURED-LOCATION;VALUE=URI;X-ADDRESS=Peg Bond Center 151 N. Island Avenue Batavia IL 60510 United States;X-APPLE-RADIUS=500;X-TITLE=151 N. Island Avenue:geo:-88.3092422,41.853407
END:VEVENT
END:VCALENDAR