BEGIN:VCALENDAR
VERSION:2.0
PRODID:-//Race Time - ECPv6.15.13//NONSGML v1.0//EN
CALSCALE:GREGORIAN
METHOD:PUBLISH
X-ORIGINAL-URL:https://www.racetime.info
X-WR-CALDESC:Events for Race Time
REFRESH-INTERVAL;VALUE=DURATION:PT1H
X-Robots-Tag:noindex
X-PUBLISHED-TTL:PT1H
BEGIN:VTIMEZONE
TZID:America/Chicago
BEGIN:DAYLIGHT
TZOFFSETFROM:-0600
TZOFFSETTO:-0500
TZNAME:CDT
DTSTART:20150308T080000
END:DAYLIGHT
BEGIN:STANDARD
TZOFFSETFROM:-0500
TZOFFSETTO:-0600
TZNAME:CST
DTSTART:20151101T070000
END:STANDARD
BEGIN:DAYLIGHT
TZOFFSETFROM:-0600
TZOFFSETTO:-0500
TZNAME:CDT
DTSTART:20160313T080000
END:DAYLIGHT
BEGIN:STANDARD
TZOFFSETFROM:-0500
TZOFFSETTO:-0600
TZNAME:CST
DTSTART:20161106T070000
END:STANDARD
BEGIN:DAYLIGHT
TZOFFSETFROM:-0600
TZOFFSETTO:-0500
TZNAME:CDT
DTSTART:20170312T080000
END:DAYLIGHT
BEGIN:STANDARD
TZOFFSETFROM:-0500
TZOFFSETTO:-0600
TZNAME:CST
DTSTART:20171105T070000
END:STANDARD
END:VTIMEZONE
BEGIN:VEVENT
DTSTART;TZID=America/Chicago:20160521T083000
DTEND;TZID=America/Chicago:20160521T103000
DTSTAMP:20260424T053445
CREATED:20160311T013019Z
LAST-MODIFIED:20160521T164001Z
UID:10000577-1463819400-1463826600@www.racetime.info
SUMMARY:Wolf Lake 5K Run/Walk & 1/2 Mile Kids Run
DESCRIPTION:Wolf Lake 5K Age Group Results\n\nWolf Lake 5K Overall Results
URL:https://www.racetime.info/event/wolf-lake-5k-runwalk-kids-run/
LOCATION:William Powers Conservation Area: Wolf Lake\, 12949 South Avenue O\, Chicago\, IL\, 60633\, United States
CATEGORIES:2016-05 Results (May)
ORGANIZER;CN="Amy Klein":MAILTO:amydklein@comcast.net
GEO:41.660716;-87.5397545
X-APPLE-STRUCTURED-LOCATION;VALUE=URI;X-ADDRESS=William Powers Conservation Area: Wolf Lake 12949 South Avenue O Chicago IL 60633 United States;X-APPLE-RADIUS=500;X-TITLE=12949 South Avenue O:geo:-87.5397545,41.660716
END:VEVENT
END:VCALENDAR