BEGIN:VCALENDAR
VERSION:2.0
PRODID:-//Race Time - ECPv6.15.13//NONSGML v1.0//EN
CALSCALE:GREGORIAN
METHOD:PUBLISH
X-ORIGINAL-URL:https://www.racetime.info
X-WR-CALDESC:Events for Race Time
REFRESH-INTERVAL;VALUE=DURATION:PT1H
X-Robots-Tag:noindex
X-PUBLISHED-TTL:PT1H
BEGIN:VTIMEZONE
TZID:America/Chicago
BEGIN:DAYLIGHT
TZOFFSETFROM:-0600
TZOFFSETTO:-0500
TZNAME:CDT
DTSTART:20140309T080000
END:DAYLIGHT
BEGIN:STANDARD
TZOFFSETFROM:-0500
TZOFFSETTO:-0600
TZNAME:CST
DTSTART:20141102T070000
END:STANDARD
BEGIN:DAYLIGHT
TZOFFSETFROM:-0600
TZOFFSETTO:-0500
TZNAME:CDT
DTSTART:20150308T080000
END:DAYLIGHT
BEGIN:STANDARD
TZOFFSETFROM:-0500
TZOFFSETTO:-0600
TZNAME:CST
DTSTART:20151101T070000
END:STANDARD
BEGIN:DAYLIGHT
TZOFFSETFROM:-0600
TZOFFSETTO:-0500
TZNAME:CDT
DTSTART:20160313T080000
END:DAYLIGHT
BEGIN:STANDARD
TZOFFSETFROM:-0500
TZOFFSETTO:-0600
TZNAME:CST
DTSTART:20161106T070000
END:STANDARD
BEGIN:DAYLIGHT
TZOFFSETFROM:-0600
TZOFFSETTO:-0500
TZNAME:CDT
DTSTART:20170312T080000
END:DAYLIGHT
BEGIN:STANDARD
TZOFFSETFROM:-0500
TZOFFSETTO:-0600
TZNAME:CST
DTSTART:20171105T070000
END:STANDARD
BEGIN:DAYLIGHT
TZOFFSETFROM:-0600
TZOFFSETTO:-0500
TZNAME:CDT
DTSTART:20180311T080000
END:DAYLIGHT
BEGIN:STANDARD
TZOFFSETFROM:-0500
TZOFFSETTO:-0600
TZNAME:CST
DTSTART:20181104T070000
END:STANDARD
BEGIN:DAYLIGHT
TZOFFSETFROM:-0600
TZOFFSETTO:-0500
TZNAME:CDT
DTSTART:20190310T080000
END:DAYLIGHT
BEGIN:STANDARD
TZOFFSETFROM:-0500
TZOFFSETTO:-0600
TZNAME:CST
DTSTART:20191103T070000
END:STANDARD
BEGIN:DAYLIGHT
TZOFFSETFROM:-0600
TZOFFSETTO:-0500
TZNAME:CDT
DTSTART:20200308T080000
END:DAYLIGHT
BEGIN:STANDARD
TZOFFSETFROM:-0500
TZOFFSETTO:-0600
TZNAME:CST
DTSTART:20201101T070000
END:STANDARD
BEGIN:DAYLIGHT
TZOFFSETFROM:-0600
TZOFFSETTO:-0500
TZNAME:CDT
DTSTART:20210314T080000
END:DAYLIGHT
BEGIN:STANDARD
TZOFFSETFROM:-0500
TZOFFSETTO:-0600
TZNAME:CST
DTSTART:20211107T070000
END:STANDARD
BEGIN:DAYLIGHT
TZOFFSETFROM:-0600
TZOFFSETTO:-0500
TZNAME:CDT
DTSTART:20220313T080000
END:DAYLIGHT
BEGIN:STANDARD
TZOFFSETFROM:-0500
TZOFFSETTO:-0600
TZNAME:CST
DTSTART:20221106T070000
END:STANDARD
BEGIN:DAYLIGHT
TZOFFSETFROM:-0600
TZOFFSETTO:-0500
TZNAME:CDT
DTSTART:20230312T080000
END:DAYLIGHT
BEGIN:STANDARD
TZOFFSETFROM:-0500
TZOFFSETTO:-0600
TZNAME:CST
DTSTART:20231105T070000
END:STANDARD
BEGIN:DAYLIGHT
TZOFFSETFROM:-0600
TZOFFSETTO:-0500
TZNAME:CDT
DTSTART:20240310T080000
END:DAYLIGHT
BEGIN:STANDARD
TZOFFSETFROM:-0500
TZOFFSETTO:-0600
TZNAME:CST
DTSTART:20241103T070000
END:STANDARD
BEGIN:DAYLIGHT
TZOFFSETFROM:-0600
TZOFFSETTO:-0500
TZNAME:CDT
DTSTART:20250309T080000
END:DAYLIGHT
BEGIN:STANDARD
TZOFFSETFROM:-0500
TZOFFSETTO:-0600
TZNAME:CST
DTSTART:20251102T070000
END:STANDARD
BEGIN:DAYLIGHT
TZOFFSETFROM:-0600
TZOFFSETTO:-0500
TZNAME:CDT
DTSTART:20260308T080000
END:DAYLIGHT
BEGIN:STANDARD
TZOFFSETFROM:-0500
TZOFFSETTO:-0600
TZNAME:CST
DTSTART:20261101T070000
END:STANDARD
END:VTIMEZONE
BEGIN:VEVENT
DTSTART;TZID=America/Chicago:20250413T090000
DTEND;TZID=America/Chicago:20250413T103000
DTSTAMP:20260423T213012
CREATED:20250321T105045Z
LAST-MODIFIED:20250413T185226Z
UID:10002285-1744534800-1744540200@www.racetime.info
SUMMARY:Mustang Trot 5K Run/Walk
DESCRIPTION:Mustang Trot Age Group Results\n\nMustang Trot Overall Results\n\nMustang Trot Team Results
URL:https://www.racetime.info/event/mustang-trot-5k-run-walk-5/
LOCATION:Downers Grove South High School\, 1436 Norfolk Street\, Downers Grove\, IL\, 60515\, United States
CATEGORIES:2025-04 Results (April)
ORGANIZER;CN="Amy Klug":MAILTO:aklug@csd99.org
GEO:41.771175;-88.020645
X-APPLE-STRUCTURED-LOCATION;VALUE=URI;X-ADDRESS=Downers Grove South High School 1436 Norfolk Street Downers Grove IL 60515 United States;X-APPLE-RADIUS=500;X-TITLE=1436 Norfolk Street:geo:-88.020645,41.771175
END:VEVENT
BEGIN:VEVENT
DTSTART;TZID=America/Chicago:20240414T090000
DTEND;TZID=America/Chicago:20240414T103000
DTSTAMP:20260423T213012
CREATED:20170209T023023Z
LAST-MODIFIED:20240414T185844Z
UID:10001002-1713085200-1713090600@www.racetime.info
SUMMARY:Mustang Trot 5K Run/Walk
DESCRIPTION:Mustang Trot 5K Age Group Results\n\nMustang Trot 5K Overall Results\n\nMustang Trot Team Results
URL:https://www.racetime.info/event/copy-of-mustang-trot-5k-run-walk-2/
LOCATION:Downers Grove South High School\, 1436 Norfolk Street\, Downers Grove\, IL\, 60515\, United States
CATEGORIES:2024-04 Results (April)
ORGANIZER;CN="Amy Klug":MAILTO:aklug@csd99.org
GEO:41.771175;-88.020645
X-APPLE-STRUCTURED-LOCATION;VALUE=URI;X-ADDRESS=Downers Grove South High School 1436 Norfolk Street Downers Grove IL 60515 United States;X-APPLE-RADIUS=500;X-TITLE=1436 Norfolk Street:geo:-88.020645,41.771175
END:VEVENT
BEGIN:VEVENT
DTSTART;TZID=America/Chicago:20230416T090000
DTEND;TZID=America/Chicago:20230416T103000
DTSTAMP:20260423T213012
CREATED:20170209T023023Z
LAST-MODIFIED:20230416T162446Z
UID:10001000-1681635600-1681641000@www.racetime.info
SUMMARY:Mustang Trot 5K Run/Walk
DESCRIPTION:Mustang Trot 5K Age Group Results\n\nMustang Trot 5K Overall Results\n\nMustang Trot Team Results
URL:https://www.racetime.info/event/copy-of-mustang-trot-5k-run-walk/
LOCATION:Downers Grove South High School\, 1436 Norfolk Street\, Downers Grove\, IL\, 60515\, United States
CATEGORIES:2023-04 Results (April)
ORGANIZER;CN="Amy Klug":MAILTO:aklug@csd99.org
GEO:41.771175;-88.020645
X-APPLE-STRUCTURED-LOCATION;VALUE=URI;X-ADDRESS=Downers Grove South High School 1436 Norfolk Street Downers Grove IL 60515 United States;X-APPLE-RADIUS=500;X-TITLE=1436 Norfolk Street:geo:-88.020645,41.771175
END:VEVENT
BEGIN:VEVENT
DTSTART;TZID=America/Chicago:20220410T090000
DTEND;TZID=America/Chicago:20220410T090000
DTSTAMP:20260423T213012
CREATED:20170209T023023Z
LAST-MODIFIED:20220420T162921Z
UID:10000998-1649581200-1649581200@www.racetime.info
SUMMARY:Mustang Trot 5K Run/Walk
DESCRIPTION:Mustang Trot 5K Age Group Results\n\nMustang Trot 5K Overall Results\n\nMustang Trot 5K Team Results
URL:https://www.racetime.info/event/mustang-trot-5k-run-walk-4/
LOCATION:Downers Grove South High School\, 1436 Norfolk Street\, Downers Grove\, IL\, 60515\, United States
CATEGORIES:2022-04 Results (April)
ORGANIZER;CN="Amy Klug":MAILTO:aklug@csd99.org
GEO:41.771175;-88.020645
X-APPLE-STRUCTURED-LOCATION;VALUE=URI;X-ADDRESS=Downers Grove South High School 1436 Norfolk Street Downers Grove IL 60515 United States;X-APPLE-RADIUS=500;X-TITLE=1436 Norfolk Street:geo:-88.020645,41.771175
END:VEVENT
BEGIN:VEVENT
DTSTART;TZID=America/Chicago:20200419T090000
DTEND;TZID=America/Chicago:20200419T110000
DTSTAMP:20260423T213012
CREATED:20170209T023023Z
LAST-MODIFIED:20200317T112742Z
UID:10000994-1587286800-1587294000@www.racetime.info
SUMMARY:Mustang Trot 5K Run/Walk: CANCELLED
DESCRIPTION:
URL:https://www.racetime.info/event/mustang-trot-5k-run-walk-3/
LOCATION:Downers Grove South High School\, 1436 Norfolk Street\, Downers Grove\, IL\, 60515\, United States
ORGANIZER;CN="Amy Klug":MAILTO:aklug@csd99.org
GEO:41.771175;-88.020645
X-APPLE-STRUCTURED-LOCATION;VALUE=URI;X-ADDRESS=Downers Grove South High School 1436 Norfolk Street Downers Grove IL 60515 United States;X-APPLE-RADIUS=500;X-TITLE=1436 Norfolk Street:geo:-88.020645,41.771175
END:VEVENT
BEGIN:VEVENT
DTSTART;TZID=America/Chicago:20190407T090000
DTEND;TZID=America/Chicago:20190407T110000
DTSTAMP:20260423T213012
CREATED:20170209T023023Z
LAST-MODIFIED:20190407T172919Z
UID:10000992-1554627600-1554634800@www.racetime.info
SUMMARY:Mustang Trot 5K Run/Walk
DESCRIPTION:Mustang Trot 5K Age Group Results\n\nMustang Trot 5K Overall Results\n\nMustang Trot Team Results
URL:https://www.racetime.info/event/mustang-trot-5k-run-walk-2/
LOCATION:Downers Grove South High School\, 1436 Norfolk Street\, Downers Grove\, IL\, 60515\, United States
CATEGORIES:2019-04 Results (April)
ORGANIZER;CN="Amy Klug":MAILTO:aklug@csd99.org
GEO:41.771175;-88.020645
X-APPLE-STRUCTURED-LOCATION;VALUE=URI;X-ADDRESS=Downers Grove South High School 1436 Norfolk Street Downers Grove IL 60515 United States;X-APPLE-RADIUS=500;X-TITLE=1436 Norfolk Street:geo:-88.020645,41.771175
END:VEVENT
BEGIN:VEVENT
DTSTART;TZID=America/Chicago:20180408T090000
DTEND;TZID=America/Chicago:20180408T110000
DTSTAMP:20260423T213012
CREATED:20170209T023023Z
LAST-MODIFIED:20180408T162806Z
UID:10000990-1523178000-1523185200@www.racetime.info
SUMMARY:Mustang Trot 5K Run/Walk
DESCRIPTION:Mustang Trot 5K Age Group Results\n\nMustang Trot 5K Overall Results\n\nMustang Trot Team Results
URL:https://www.racetime.info/event/mustang-trot-5k-run-walk/
LOCATION:Downers Grove South High School\, 1436 Norfolk Street\, Downers Grove\, IL\, 60515\, United States
CATEGORIES:2018-04 Results (April)
ORGANIZER;CN="Amy Klug":MAILTO:aklug@csd99.org
GEO:41.771175;-88.020645
X-APPLE-STRUCTURED-LOCATION;VALUE=URI;X-ADDRESS=Downers Grove South High School 1436 Norfolk Street Downers Grove IL 60515 United States;X-APPLE-RADIUS=500;X-TITLE=1436 Norfolk Street:geo:-88.020645,41.771175
END:VEVENT
BEGIN:VEVENT
DTSTART;TZID=America/Chicago:20170409T090000
DTEND;TZID=America/Chicago:20170409T110000
DTSTAMP:20260423T213012
CREATED:20170209T023023Z
LAST-MODIFIED:20170409T183046Z
UID:10000989-1491728400-1491735600@www.racetime.info
SUMMARY:Mustang Trot 5K Run/Walk
DESCRIPTION:Mustang Trot 5K Age Group Results\n\nMustang Trot 5K Overall Results\n\nMustang Trot Team Results
URL:https://www.racetime.info/event/mustang-trot-5k-runwalk-2/
LOCATION:Downers Grove South High School\, 1436 Norfolk Street\, Downers Grove\, IL\, 60515\, United States
CATEGORIES:2017-04 Results (April)
ORGANIZER;CN="Amy Klug":MAILTO:aklug@csd99.org
GEO:41.771175;-88.020645
X-APPLE-STRUCTURED-LOCATION;VALUE=URI;X-ADDRESS=Downers Grove South High School 1436 Norfolk Street Downers Grove IL 60515 United States;X-APPLE-RADIUS=500;X-TITLE=1436 Norfolk Street:geo:-88.020645,41.771175
END:VEVENT
BEGIN:VEVENT
DTSTART;TZID=America/Chicago:20160410T090000
DTEND;TZID=America/Chicago:20160410T110000
DTSTAMP:20260423T213012
CREATED:20160210T124925Z
LAST-MODIFIED:20160410T175427Z
UID:10000533-1460278800-1460286000@www.racetime.info
SUMMARY:Mustang Trot 5K Run/Walk
DESCRIPTION:Mustang Trot 5K Age Group Results\n\nMustang Trot 5K Overall Results\n\nMustang Trot Team Results
URL:https://www.racetime.info/event/mustang-trot-5k-runwalk/
LOCATION:McCollum Park\, 6801 S. Main Street\, Downers Grove\, IL\, 60515\, United States
CATEGORIES:2016-04 Results (April)
ORGANIZER;CN="Amy Klug":MAILTO:aklug@csd99.org
GEO:41.802885;-88.044102
X-APPLE-STRUCTURED-LOCATION;VALUE=URI;X-ADDRESS=McCollum Park 6801 S. Main Street Downers Grove IL 60515 United States;X-APPLE-RADIUS=500;X-TITLE=6801 S. Main Street:geo:-88.044102,41.802885
END:VEVENT
BEGIN:VEVENT
DTSTART;TZID=America/Chicago:20150412T090000
DTEND;TZID=America/Chicago:20150412T090000
DTSTAMP:20260423T213012
CREATED:20150324T202519Z
LAST-MODIFIED:20150802T043457Z
UID:10000075-1428829200-1428829200@www.racetime.info
SUMMARY:3rd Annual Mustang Trot Run/Walk
DESCRIPTION:Mustang Trot 5K Age Group Results\n\nMustang Trot 5K Overall Results\n\nMustang Trot Team Overall Results
URL:https://www.racetime.info/event/3rd-annual-mustang-trot-5k-runwalk/
LOCATION:McCollum Park\, 6801 S. Main Street\, Downers Grove\, IL\, 60515\, United States
CATEGORIES:2015-04 Results (April)
ORGANIZER;CN="Amy Klug":MAILTO:aklug@csd99.org
GEO:41.802885;-88.044102
X-APPLE-STRUCTURED-LOCATION;VALUE=URI;X-ADDRESS=McCollum Park 6801 S. Main Street Downers Grove IL 60515 United States;X-APPLE-RADIUS=500;X-TITLE=6801 S. Main Street:geo:-88.044102,41.802885
END:VEVENT
END:VCALENDAR