BEGIN:VCALENDAR
VERSION:2.0
PRODID:-//Race Time - ECPv6.15.13//NONSGML v1.0//EN
CALSCALE:GREGORIAN
METHOD:PUBLISH
X-ORIGINAL-URL:https://www.racetime.info
X-WR-CALDESC:Events for Race Time
REFRESH-INTERVAL;VALUE=DURATION:PT1H
X-Robots-Tag:noindex
X-PUBLISHED-TTL:PT1H
BEGIN:VTIMEZONE
TZID:America/Chicago
BEGIN:DAYLIGHT
TZOFFSETFROM:-0600
TZOFFSETTO:-0500
TZNAME:CDT
DTSTART:20160313T080000
END:DAYLIGHT
BEGIN:STANDARD
TZOFFSETFROM:-0500
TZOFFSETTO:-0600
TZNAME:CST
DTSTART:20161106T070000
END:STANDARD
BEGIN:DAYLIGHT
TZOFFSETFROM:-0600
TZOFFSETTO:-0500
TZNAME:CDT
DTSTART:20170312T080000
END:DAYLIGHT
BEGIN:STANDARD
TZOFFSETFROM:-0500
TZOFFSETTO:-0600
TZNAME:CST
DTSTART:20171105T070000
END:STANDARD
BEGIN:DAYLIGHT
TZOFFSETFROM:-0600
TZOFFSETTO:-0500
TZNAME:CDT
DTSTART:20180311T080000
END:DAYLIGHT
BEGIN:STANDARD
TZOFFSETFROM:-0500
TZOFFSETTO:-0600
TZNAME:CST
DTSTART:20181104T070000
END:STANDARD
END:VTIMEZONE
BEGIN:VEVENT
DTSTART;TZID=America/Chicago:20170520T090000
DTEND;TZID=America/Chicago:20170520T110000
DTSTAMP:20260424T053602
CREATED:20170315T202816Z
LAST-MODIFIED:20170520T205819Z
UID:10000489-1495270800-1495278000@www.racetime.info
SUMMARY:Hope For Haitians 5K Run/Walk
DESCRIPTION:Hope For Haitians 5K Age Group Results\n\nHope For Haitians 5K Overall Results
URL:https://www.racetime.info/event/hope-for-haitians-5k-runwalk/
LOCATION:Geneva Government Center\, 3rd Street\, Geneva\, IL\, 60134\, United States
CATEGORIES:2017-05 Results (May)
ORGANIZER;CN="Amy Teague":MAILTO:amy@hopeforhaitians.org
GEO:41.8900089;-88.3073605
X-APPLE-STRUCTURED-LOCATION;VALUE=URI;X-ADDRESS=Geneva Government Center 3rd Street Geneva IL 60134 United States;X-APPLE-RADIUS=500;X-TITLE=3rd Street:geo:-88.3073605,41.8900089
END:VEVENT
END:VCALENDAR