BEGIN:VCALENDAR
VERSION:2.0
PRODID:-//Race Time - ECPv6.15.13//NONSGML v1.0//EN
CALSCALE:GREGORIAN
METHOD:PUBLISH
X-ORIGINAL-URL:https://www.racetime.info
X-WR-CALDESC:Events for Race Time
REFRESH-INTERVAL;VALUE=DURATION:PT1H
X-Robots-Tag:noindex
X-PUBLISHED-TTL:PT1H
BEGIN:VTIMEZONE
TZID:America/Chicago
BEGIN:DAYLIGHT
TZOFFSETFROM:-0600
TZOFFSETTO:-0500
TZNAME:CDT
DTSTART:20140309T080000
END:DAYLIGHT
BEGIN:STANDARD
TZOFFSETFROM:-0500
TZOFFSETTO:-0600
TZNAME:CST
DTSTART:20141102T070000
END:STANDARD
BEGIN:DAYLIGHT
TZOFFSETFROM:-0600
TZOFFSETTO:-0500
TZNAME:CDT
DTSTART:20150308T080000
END:DAYLIGHT
BEGIN:STANDARD
TZOFFSETFROM:-0500
TZOFFSETTO:-0600
TZNAME:CST
DTSTART:20151101T070000
END:STANDARD
BEGIN:DAYLIGHT
TZOFFSETFROM:-0600
TZOFFSETTO:-0500
TZNAME:CDT
DTSTART:20160313T080000
END:DAYLIGHT
BEGIN:STANDARD
TZOFFSETFROM:-0500
TZOFFSETTO:-0600
TZNAME:CST
DTSTART:20161106T070000
END:STANDARD
END:VTIMEZONE
BEGIN:VEVENT
DTSTART;TZID=America/Chicago:20150919T090000
DTEND;TZID=America/Chicago:20150919T110000
DTSTAMP:20260424T015117
CREATED:20150919T183615Z
LAST-MODIFIED:20150919T183615Z
UID:10000413-1442653200-1442660400@www.racetime.info
SUMMARY:Run 4 Justice
DESCRIPTION:Run 4 Justice 5K Age Group Results\n\nRun 4 Justice 5K Overall Results
URL:https://www.racetime.info/event/run-4-justice/
LOCATION:Calumet Park\, 9801 S. Avenue G\, Chicago\, IL\, 60617\, United States
CATEGORIES:2015-09 Results (September)
GEO:41.717816;-87.531576
X-APPLE-STRUCTURED-LOCATION;VALUE=URI;X-ADDRESS=Calumet Park 9801 S. Avenue G Chicago IL 60617 United States;X-APPLE-RADIUS=500;X-TITLE=9801 S. Avenue G:geo:-87.531576,41.717816
END:VEVENT
END:VCALENDAR