BEGIN:VCALENDAR
VERSION:2.0
PRODID:-//Race Time - ECPv6.15.13//NONSGML v1.0//EN
CALSCALE:GREGORIAN
METHOD:PUBLISH
X-ORIGINAL-URL:https://www.racetime.info
X-WR-CALDESC:Events for Race Time
REFRESH-INTERVAL;VALUE=DURATION:PT1H
X-Robots-Tag:noindex
X-PUBLISHED-TTL:PT1H
BEGIN:VTIMEZONE
TZID:America/Chicago
BEGIN:DAYLIGHT
TZOFFSETFROM:-0600
TZOFFSETTO:-0500
TZNAME:CDT
DTSTART:20220313T080000
END:DAYLIGHT
BEGIN:STANDARD
TZOFFSETFROM:-0500
TZOFFSETTO:-0600
TZNAME:CST
DTSTART:20221106T070000
END:STANDARD
BEGIN:DAYLIGHT
TZOFFSETFROM:-0600
TZOFFSETTO:-0500
TZNAME:CDT
DTSTART:20230312T080000
END:DAYLIGHT
BEGIN:STANDARD
TZOFFSETFROM:-0500
TZOFFSETTO:-0600
TZNAME:CST
DTSTART:20231105T070000
END:STANDARD
BEGIN:DAYLIGHT
TZOFFSETFROM:-0600
TZOFFSETTO:-0500
TZNAME:CDT
DTSTART:20240310T080000
END:DAYLIGHT
BEGIN:STANDARD
TZOFFSETFROM:-0500
TZOFFSETTO:-0600
TZNAME:CST
DTSTART:20241103T070000
END:STANDARD
BEGIN:DAYLIGHT
TZOFFSETFROM:-0600
TZOFFSETTO:-0500
TZNAME:CDT
DTSTART:20250309T080000
END:DAYLIGHT
BEGIN:STANDARD
TZOFFSETFROM:-0500
TZOFFSETTO:-0600
TZNAME:CST
DTSTART:20251102T070000
END:STANDARD
BEGIN:DAYLIGHT
TZOFFSETFROM:-0600
TZOFFSETTO:-0500
TZNAME:CDT
DTSTART:20260308T080000
END:DAYLIGHT
BEGIN:STANDARD
TZOFFSETFROM:-0500
TZOFFSETTO:-0600
TZNAME:CST
DTSTART:20261101T070000
END:STANDARD
END:VTIMEZONE
BEGIN:VEVENT
DTSTART;TZID=America/Chicago:20250427T080000
DTEND;TZID=America/Chicago:20250427T100000
DTSTAMP:20260423T194400
CREATED:20250322T115548Z
LAST-MODIFIED:20250427T212600Z
UID:10002292-1745740800-1745748000@www.racetime.info
SUMMARY:Chicago Federation of Labor May Day 5K Run/Walk
DESCRIPTION:May Day 5K Age Group Results\n\nMay Day 5K Overall Results
URL:https://www.racetime.info/event/chicago-federation-of-labor-may-day-5k-run-walk-2/
LOCATION:The Lakeside Center at McCormick Place\, 2300 S. Fort Dearborn\, Chicago\, IL\, 60601\, United States
CATEGORIES:2025-04 Results (April)
ORGANIZER;CN="Andrea Chaudron":MAILTO:achaudron@chicagolabor.org
GEO:41.8461749;-87.6108272
X-APPLE-STRUCTURED-LOCATION;VALUE=URI;X-ADDRESS=The Lakeside Center at McCormick Place 2300 S. Fort Dearborn Chicago IL 60601 United States;X-APPLE-RADIUS=500;X-TITLE=2300 S. Fort Dearborn:geo:-87.6108272,41.8461749
END:VEVENT
BEGIN:VEVENT
DTSTART;TZID=America/Chicago:20240428T080000
DTEND;TZID=America/Chicago:20240428T100000
DTSTAMP:20260423T194400
CREATED:20230223T125509Z
LAST-MODIFIED:20240503T094825Z
UID:10002150-1714291200-1714298400@www.racetime.info
SUMMARY:Chicago Federation of Labor May Day 5K Run/Walk
DESCRIPTION:May Day 5K Age Group Results\n\nMay Day 5K Overall Results
URL:https://www.racetime.info/event/copy-of-chicago-federation-of-labor-may-day-5k-run-walk/
LOCATION:The Lakeside Center at McCormick Place\, 2300 S. Fort Dearborn\, Chicago\, IL\, 60601\, United States
CATEGORIES:2024-04 Results (April)
ORGANIZER;CN="Andrea Chaudron":MAILTO:achaudron@chicagolabor.org
GEO:41.8461749;-87.6108272
X-APPLE-STRUCTURED-LOCATION;VALUE=URI;X-ADDRESS=The Lakeside Center at McCormick Place 2300 S. Fort Dearborn Chicago IL 60601 United States;X-APPLE-RADIUS=500;X-TITLE=2300 S. Fort Dearborn:geo:-87.6108272,41.8461749
END:VEVENT
BEGIN:VEVENT
DTSTART;TZID=America/Chicago:20230430T080000
DTEND;TZID=America/Chicago:20230430T100000
DTSTAMP:20260423T194400
CREATED:20230223T125509Z
LAST-MODIFIED:20230430T204855Z
UID:10002149-1682841600-1682848800@www.racetime.info
SUMMARY:Chicago Federation of Labor May Day 5K Run/Walk
DESCRIPTION:May Day 5K Age Group Results\n\nMay Day 5K Overall Results
URL:https://www.racetime.info/event/chicago-federation-of-labor-may-day-5k-run-walk/
LOCATION:The Lakeside Center at McCormick Place\, 2300 S. Fort Dearborn\, Chicago\, IL\, 60601\, United States
CATEGORIES:2023-04 Results (April)
ORGANIZER;CN="Andrea Chaudron":MAILTO:achaudron@chicagolabor.org
GEO:41.8461749;-87.6108272
X-APPLE-STRUCTURED-LOCATION;VALUE=URI;X-ADDRESS=The Lakeside Center at McCormick Place 2300 S. Fort Dearborn Chicago IL 60601 United States;X-APPLE-RADIUS=500;X-TITLE=2300 S. Fort Dearborn:geo:-87.6108272,41.8461749
END:VEVENT
END:VCALENDAR