BEGIN:VCALENDAR
VERSION:2.0
PRODID:-//Race Time - ECPv6.15.13//NONSGML v1.0//EN
CALSCALE:GREGORIAN
METHOD:PUBLISH
X-WR-CALNAME:Race Time
X-ORIGINAL-URL:https://www.racetime.info
X-WR-CALDESC:Events for Race Time
REFRESH-INTERVAL;VALUE=DURATION:PT1H
X-Robots-Tag:noindex
X-PUBLISHED-TTL:PT1H
BEGIN:VTIMEZONE
TZID:America/Chicago
BEGIN:DAYLIGHT
TZOFFSETFROM:-0600
TZOFFSETTO:-0500
TZNAME:CDT
DTSTART:20170312T080000
END:DAYLIGHT
BEGIN:STANDARD
TZOFFSETFROM:-0500
TZOFFSETTO:-0600
TZNAME:CST
DTSTART:20171105T070000
END:STANDARD
BEGIN:DAYLIGHT
TZOFFSETFROM:-0600
TZOFFSETTO:-0500
TZNAME:CDT
DTSTART:20180311T080000
END:DAYLIGHT
BEGIN:STANDARD
TZOFFSETFROM:-0500
TZOFFSETTO:-0600
TZNAME:CST
DTSTART:20181104T070000
END:STANDARD
BEGIN:DAYLIGHT
TZOFFSETFROM:-0600
TZOFFSETTO:-0500
TZNAME:CDT
DTSTART:20190310T080000
END:DAYLIGHT
BEGIN:STANDARD
TZOFFSETFROM:-0500
TZOFFSETTO:-0600
TZNAME:CST
DTSTART:20191103T070000
END:STANDARD
BEGIN:DAYLIGHT
TZOFFSETFROM:-0600
TZOFFSETTO:-0500
TZNAME:CDT
DTSTART:20200308T080000
END:DAYLIGHT
BEGIN:STANDARD
TZOFFSETFROM:-0500
TZOFFSETTO:-0600
TZNAME:CST
DTSTART:20201101T070000
END:STANDARD
BEGIN:DAYLIGHT
TZOFFSETFROM:-0600
TZOFFSETTO:-0500
TZNAME:CDT
DTSTART:20210314T080000
END:DAYLIGHT
BEGIN:STANDARD
TZOFFSETFROM:-0500
TZOFFSETTO:-0600
TZNAME:CST
DTSTART:20211107T070000
END:STANDARD
BEGIN:DAYLIGHT
TZOFFSETFROM:-0600
TZOFFSETTO:-0500
TZNAME:CDT
DTSTART:20220313T080000
END:DAYLIGHT
BEGIN:STANDARD
TZOFFSETFROM:-0500
TZOFFSETTO:-0600
TZNAME:CST
DTSTART:20221106T070000
END:STANDARD
BEGIN:DAYLIGHT
TZOFFSETFROM:-0600
TZOFFSETTO:-0500
TZNAME:CDT
DTSTART:20230312T080000
END:DAYLIGHT
BEGIN:STANDARD
TZOFFSETFROM:-0500
TZOFFSETTO:-0600
TZNAME:CST
DTSTART:20231105T070000
END:STANDARD
BEGIN:DAYLIGHT
TZOFFSETFROM:-0600
TZOFFSETTO:-0500
TZNAME:CDT
DTSTART:20240310T080000
END:DAYLIGHT
BEGIN:STANDARD
TZOFFSETFROM:-0500
TZOFFSETTO:-0600
TZNAME:CST
DTSTART:20241103T070000
END:STANDARD
BEGIN:DAYLIGHT
TZOFFSETFROM:-0600
TZOFFSETTO:-0500
TZNAME:CDT
DTSTART:20250309T080000
END:DAYLIGHT
BEGIN:STANDARD
TZOFFSETFROM:-0500
TZOFFSETTO:-0600
TZNAME:CST
DTSTART:20251102T070000
END:STANDARD
END:VTIMEZONE
BEGIN:VEVENT
DTSTART;TZID=America/Chicago:20240907T080000
DTEND;TZID=America/Chicago:20240907T093000
DTSTAMP:20260424T000418
CREATED:20210906T202627Z
LAST-MODIFIED:20240907T185631Z
UID:10002034-1725696000-1725701400@www.racetime.info
SUMMARY:Five-O 5K Run/Walk
DESCRIPTION:Mount Prospect Five-O 5K Overall Results
URL:https://www.racetime.info/event/copy-of-five-o-5k-run-walk-2/
LOCATION:Mount Prospect Police Department\, 911 East Kensington Road\, Mount Prospect\, IL\, 60056\, United States
CATEGORIES:2024-09 Results (September)
ORGANIZER;CN="Mark Bechtold":MAILTO:fiveo5k@mountprospect.org
END:VEVENT
BEGIN:VEVENT
DTSTART;TZID=America/Chicago:20230819T080000
DTEND;TZID=America/Chicago:20230819T093000
DTSTAMP:20260424T000418
CREATED:20210906T202627Z
LAST-MODIFIED:20230819T155944Z
UID:10002033-1692432000-1692437400@www.racetime.info
SUMMARY:Five-O 5K Run/Walk
DESCRIPTION:Mount Prospect Five-O 5K Overall Results
URL:https://www.racetime.info/event/copy-of-five-o-5k-run-walk/
LOCATION:Mount Prospect Police Department\, 911 East Kensington Road\, Mount Prospect\, IL\, 60056\, United States
CATEGORIES:2023-08 Results (August)
ORGANIZER;CN="Mark Bechtold":MAILTO:fiveo5k@mountprospect.org
END:VEVENT
BEGIN:VEVENT
DTSTART;TZID=America/Chicago:20220917T080000
DTEND;TZID=America/Chicago:20220917T093000
DTSTAMP:20260424T000418
CREATED:20210906T202627Z
LAST-MODIFIED:20220919T100713Z
UID:10002032-1663401600-1663407000@www.racetime.info
SUMMARY:Five-O 5K Run/Walk
DESCRIPTION:Five O 5K Overall Results
URL:https://www.racetime.info/event/five-o-5k-run-walk-5/
LOCATION:Mount Prospect Police Department\, 911 East Kensington Road\, Mount Prospect\, IL\, 60056\, United States
CATEGORIES:2022-09 Results (September)
ORGANIZER;CN="Mark Bechtold":MAILTO:fiveo5k@mountprospect.org
END:VEVENT
BEGIN:VEVENT
DTSTART;TZID=America/Chicago:20210925T080000
DTEND;TZID=America/Chicago:20210925T100000
DTSTAMP:20260424T000418
CREATED:20210906T202627Z
LAST-MODIFIED:20210925T200935Z
UID:10002031-1632556800-1632564000@www.racetime.info
SUMMARY:Five-O 5K Run/Walk
DESCRIPTION:Five-O 5K Overall Results
URL:https://www.racetime.info/event/five-o-5k-run-walk-4/
LOCATION:Mount Prospect Police Department\, 911 East Kensington Road\, Mount Prospect\, IL\, 60056\, United States
CATEGORIES:2021-09 Results (September)
ORGANIZER;CN="Mark Bechtold":MAILTO:fiveo5k@mountprospect.org
END:VEVENT
BEGIN:VEVENT
DTSTART;TZID=America/Chicago:20200801T080000
DTEND;TZID=America/Chicago:20200801T100000
DTSTAMP:20260424T000418
CREATED:20180523T005725Z
LAST-MODIFIED:20200504T124101Z
UID:10000973-1596268800-1596276000@www.racetime.info
SUMMARY:Five-O 5K Run/Walk: CANCELLED
DESCRIPTION:
URL:https://www.racetime.info/event/five-o-5k-run-walk-3/
LOCATION:Mt. Prospect Police Department\, 911 E. Kensington Road\, Mount Prospect\, IL\, 60056\, United States
ORGANIZER;CN="Mark Bechtold":MAILTO:fiveo5k@mountprospect.org
GEO:42.0630078;-87.934311
X-APPLE-STRUCTURED-LOCATION;VALUE=URI;X-ADDRESS=Mt. Prospect Police Department 911 E. Kensington Road Mount Prospect IL 60056 United States;X-APPLE-RADIUS=500;X-TITLE=911 E. Kensington Road:geo:-87.934311,42.0630078
END:VEVENT
BEGIN:VEVENT
DTSTART;TZID=America/Chicago:20190727T080000
DTEND;TZID=America/Chicago:20190727T100000
DTSTAMP:20260424T000418
CREATED:20180523T005725Z
LAST-MODIFIED:20190727T233832Z
UID:10000971-1564214400-1564221600@www.racetime.info
SUMMARY:Five-O 5K Run/Walk
DESCRIPTION:Mount Prospect Five-O 5K Age Group Results\n\nMount Prospect Five-O 5K Overall Results
URL:https://www.racetime.info/event/five-o-5k-run-walk-2/
LOCATION:Mt. Prospect Police Department\, 911 E. Kensington Road\, Mount Prospect\, IL\, 60056\, United States
CATEGORIES:2019-07 Results (July)
ORGANIZER;CN="Mark Bechtold":MAILTO:fiveo5k@mountprospect.org
GEO:42.0630078;-87.934311
X-APPLE-STRUCTURED-LOCATION;VALUE=URI;X-ADDRESS=Mt. Prospect Police Department 911 E. Kensington Road Mount Prospect IL 60056 United States;X-APPLE-RADIUS=500;X-TITLE=911 E. Kensington Road:geo:-87.934311,42.0630078
END:VEVENT
BEGIN:VEVENT
DTSTART;TZID=America/Chicago:20180728T080000
DTEND;TZID=America/Chicago:20180728T100000
DTSTAMP:20260424T000418
CREATED:20180523T005725Z
LAST-MODIFIED:20180728T225018Z
UID:10000970-1532764800-1532772000@www.racetime.info
SUMMARY:Five-O 5K Run/Walk
DESCRIPTION:Five-O 5K Age Group Results\n\nFive-O 5K Overall Results
URL:https://www.racetime.info/event/five-o-5k-run-walk/
LOCATION:Mt. Prospect Police Department\, 911 E. Kensington Road\, Mount Prospect\, IL\, 60056\, United States
CATEGORIES:2018-07 Results (July)
ORGANIZER;CN="Mark Bechtold":MAILTO:fiveo5k@mountprospect.org
GEO:42.0630078;-87.934311
X-APPLE-STRUCTURED-LOCATION;VALUE=URI;X-ADDRESS=Mt. Prospect Police Department 911 E. Kensington Road Mount Prospect IL 60056 United States;X-APPLE-RADIUS=500;X-TITLE=911 E. Kensington Road:geo:-87.934311,42.0630078
END:VEVENT
END:VCALENDAR