BEGIN:VCALENDAR
VERSION:2.0
PRODID:-//Race Time - ECPv6.15.13//NONSGML v1.0//EN
CALSCALE:GREGORIAN
METHOD:PUBLISH
X-ORIGINAL-URL:https://www.racetime.info
X-WR-CALDESC:Events for Race Time
REFRESH-INTERVAL;VALUE=DURATION:PT1H
X-Robots-Tag:noindex
X-PUBLISHED-TTL:PT1H
BEGIN:VTIMEZONE
TZID:America/Chicago
BEGIN:DAYLIGHT
TZOFFSETFROM:-0600
TZOFFSETTO:-0500
TZNAME:CDT
DTSTART:20210314T080000
END:DAYLIGHT
BEGIN:STANDARD
TZOFFSETFROM:-0500
TZOFFSETTO:-0600
TZNAME:CST
DTSTART:20211107T070000
END:STANDARD
BEGIN:DAYLIGHT
TZOFFSETFROM:-0600
TZOFFSETTO:-0500
TZNAME:CDT
DTSTART:20220313T080000
END:DAYLIGHT
BEGIN:STANDARD
TZOFFSETFROM:-0500
TZOFFSETTO:-0600
TZNAME:CST
DTSTART:20221106T070000
END:STANDARD
BEGIN:DAYLIGHT
TZOFFSETFROM:-0600
TZOFFSETTO:-0500
TZNAME:CDT
DTSTART:20230312T080000
END:DAYLIGHT
BEGIN:STANDARD
TZOFFSETFROM:-0500
TZOFFSETTO:-0600
TZNAME:CST
DTSTART:20231105T070000
END:STANDARD
BEGIN:DAYLIGHT
TZOFFSETFROM:-0600
TZOFFSETTO:-0500
TZNAME:CDT
DTSTART:20240310T080000
END:DAYLIGHT
BEGIN:STANDARD
TZOFFSETFROM:-0500
TZOFFSETTO:-0600
TZNAME:CST
DTSTART:20241103T070000
END:STANDARD
BEGIN:DAYLIGHT
TZOFFSETFROM:-0600
TZOFFSETTO:-0500
TZNAME:CDT
DTSTART:20250309T080000
END:DAYLIGHT
BEGIN:STANDARD
TZOFFSETFROM:-0500
TZOFFSETTO:-0600
TZNAME:CST
DTSTART:20251102T070000
END:STANDARD
BEGIN:DAYLIGHT
TZOFFSETFROM:-0600
TZOFFSETTO:-0500
TZNAME:CDT
DTSTART:20260308T080000
END:DAYLIGHT
BEGIN:STANDARD
TZOFFSETFROM:-0500
TZOFFSETTO:-0600
TZNAME:CST
DTSTART:20261101T070000
END:STANDARD
END:VTIMEZONE
BEGIN:VEVENT
DTSTART;TZID=America/Chicago:20250517T080000
DTEND;TZID=America/Chicago:20250517T100000
DTSTAMP:20260424T000505
CREATED:20250401T125951Z
LAST-MODIFIED:20250517T160600Z
UID:10002317-1747468800-1747476000@www.racetime.info
SUMMARY:Help & Hope 5K Run/Walk
DESCRIPTION:Help & Hope 5K Overall Results
URL:https://www.racetime.info/event/help-hope-5k-run-walk-3/
LOCATION:LeRoy Oakes Forest Preserve\, 37W584 Dean Street\, St. Charles\, IL\, 60175\, United States
CATEGORIES:2025-05 Results (May)
ORGANIZER;CN="Amy Bennett":MAILTO:bennettamy24@gmail.com
GEO:41.929212;-88.352091
X-APPLE-STRUCTURED-LOCATION;VALUE=URI;X-ADDRESS=LeRoy Oakes Forest Preserve 37W584 Dean Street St. Charles IL 60175 United States;X-APPLE-RADIUS=500;X-TITLE=37W584 Dean Street:geo:-88.352091,41.929212
END:VEVENT
BEGIN:VEVENT
DTSTART;TZID=America/Chicago:20240511T090000
DTEND;TZID=America/Chicago:20240511T103000
DTSTAMP:20260424T000505
CREATED:20220213T141147Z
LAST-MODIFIED:20240511T175640Z
UID:10002083-1715418000-1715423400@www.racetime.info
SUMMARY:Help & Hope 5K Run/Walk
DESCRIPTION:Help & Hope 5K Overall Results
URL:https://www.racetime.info/event/copy-of-help-hope-5k-run-walk-2/
LOCATION:LeRoy Oakes Forest Preserve\, 37W584 Dean Street\, St. Charles\, IL\, 60175\, United States
CATEGORIES:2024-05 Results (May)
ORGANIZER;CN="Amy Bennett":MAILTO:bennettamy24@gmail.com
GEO:41.929212;-88.352091
X-APPLE-STRUCTURED-LOCATION;VALUE=URI;X-ADDRESS=LeRoy Oakes Forest Preserve 37W584 Dean Street St. Charles IL 60175 United States;X-APPLE-RADIUS=500;X-TITLE=37W584 Dean Street:geo:-88.352091,41.929212
END:VEVENT
BEGIN:VEVENT
DTSTART;TZID=America/Chicago:20230520T080000
DTEND;TZID=America/Chicago:20230520T100000
DTSTAMP:20260424T000505
CREATED:20220213T141147Z
LAST-MODIFIED:20230520T182648Z
UID:10002082-1684569600-1684576800@www.racetime.info
SUMMARY:Help & Hope 5K Run/Walk
DESCRIPTION:Help and Hope 5K Overall Results
URL:https://www.racetime.info/event/copy-of-help-hope-5k-run-walk/
LOCATION:LeRoy Oakes Forest Preserve\, 37W584 Dean Street\, St. Charles\, IL\, 60175\, United States
CATEGORIES:2023-05 Results (May)
ORGANIZER;CN="Amy Bennett":MAILTO:bennettamy24@gmail.com
GEO:41.929212;-88.352091
X-APPLE-STRUCTURED-LOCATION;VALUE=URI;X-ADDRESS=LeRoy Oakes Forest Preserve 37W584 Dean Street St. Charles IL 60175 United States;X-APPLE-RADIUS=500;X-TITLE=37W584 Dean Street:geo:-88.352091,41.929212
END:VEVENT
BEGIN:VEVENT
DTSTART;TZID=America/Chicago:20220521T080000
DTEND;TZID=America/Chicago:20220521T100000
DTSTAMP:20260424T000505
CREATED:20220213T141147Z
LAST-MODIFIED:20220521T155546Z
UID:10002081-1653120000-1653127200@www.racetime.info
SUMMARY:Help & Hope 5K Run/Walk
DESCRIPTION:Help and Hope 5K Overall Results
URL:https://www.racetime.info/event/help-hope-5k-run-walk-2/
LOCATION:LeRoy Oakes Forest Preserve\, 37W584 Dean Street\, St. Charles\, IL\, 60175\, United States
CATEGORIES:2022-05 Results (May)
ORGANIZER;CN="Amy Bennett":MAILTO:bennettamy24@gmail.com
GEO:41.929212;-88.352091
X-APPLE-STRUCTURED-LOCATION;VALUE=URI;X-ADDRESS=LeRoy Oakes Forest Preserve 37W584 Dean Street St. Charles IL 60175 United States;X-APPLE-RADIUS=500;X-TITLE=37W584 Dean Street:geo:-88.352091,41.929212
END:VEVENT
END:VCALENDAR