BEGIN:VCALENDAR
VERSION:2.0
PRODID:-//Race Time - ECPv6.15.13//NONSGML v1.0//EN
CALSCALE:GREGORIAN
METHOD:PUBLISH
X-ORIGINAL-URL:https://www.racetime.info
X-WR-CALDESC:Events for Race Time
REFRESH-INTERVAL;VALUE=DURATION:PT1H
X-Robots-Tag:noindex
X-PUBLISHED-TTL:PT1H
BEGIN:VTIMEZONE
TZID:America/Chicago
BEGIN:DAYLIGHT
TZOFFSETFROM:-0600
TZOFFSETTO:-0500
TZNAME:CDT
DTSTART:20140309T080000
END:DAYLIGHT
BEGIN:STANDARD
TZOFFSETFROM:-0500
TZOFFSETTO:-0600
TZNAME:CST
DTSTART:20141102T070000
END:STANDARD
BEGIN:DAYLIGHT
TZOFFSETFROM:-0600
TZOFFSETTO:-0500
TZNAME:CDT
DTSTART:20150308T080000
END:DAYLIGHT
BEGIN:STANDARD
TZOFFSETFROM:-0500
TZOFFSETTO:-0600
TZNAME:CST
DTSTART:20151101T070000
END:STANDARD
BEGIN:DAYLIGHT
TZOFFSETFROM:-0600
TZOFFSETTO:-0500
TZNAME:CDT
DTSTART:20160313T080000
END:DAYLIGHT
BEGIN:STANDARD
TZOFFSETFROM:-0500
TZOFFSETTO:-0600
TZNAME:CST
DTSTART:20161106T070000
END:STANDARD
END:VTIMEZONE
BEGIN:VEVENT
DTSTART;TZID=America/Chicago:20150516T080000
DTEND;TZID=America/Chicago:20150516T170000
DTSTAMP:20260424T051002
CREATED:20150409T034505Z
LAST-MODIFIED:20150829T201521Z
UID:10000003-1431763200-1431795600@www.racetime.info
SUMMARY:Live Like Leah 5K Run/Walk
DESCRIPTION:Live Like Leah 5K Overall Results
URL:https://www.racetime.info/event/live-like-leah-5k-runwalk-2/
LOCATION:Unnamed Venue\, 520 Glendale Avenue\, Winnetka\, IL\, 60093\, United States
CATEGORIES:2015-05 Results (May)
ORGANIZER;CN="Ashley Groeneveld":MAILTO:ashleygroeneveld@winnetka36.org
GEO:42.1057406;-87.7460323
X-APPLE-STRUCTURED-LOCATION;VALUE=URI;X-ADDRESS=Unnamed Venue 520 Glendale Avenue Winnetka IL 60093 United States;X-APPLE-RADIUS=500;X-TITLE=520 Glendale Avenue:geo:-87.7460323,42.1057406
END:VEVENT
END:VCALENDAR