BEGIN:VCALENDAR
VERSION:2.0
PRODID:-//Race Time - ECPv6.15.13//NONSGML v1.0//EN
CALSCALE:GREGORIAN
METHOD:PUBLISH
X-ORIGINAL-URL:https://www.racetime.info
X-WR-CALDESC:Events for Race Time
REFRESH-INTERVAL;VALUE=DURATION:PT1H
X-Robots-Tag:noindex
X-PUBLISHED-TTL:PT1H
BEGIN:VTIMEZONE
TZID:America/Chicago
BEGIN:DAYLIGHT
TZOFFSETFROM:-0600
TZOFFSETTO:-0500
TZNAME:CDT
DTSTART:20140309T080000
END:DAYLIGHT
BEGIN:STANDARD
TZOFFSETFROM:-0500
TZOFFSETTO:-0600
TZNAME:CST
DTSTART:20141102T070000
END:STANDARD
BEGIN:DAYLIGHT
TZOFFSETFROM:-0600
TZOFFSETTO:-0500
TZNAME:CDT
DTSTART:20150308T080000
END:DAYLIGHT
BEGIN:STANDARD
TZOFFSETFROM:-0500
TZOFFSETTO:-0600
TZNAME:CST
DTSTART:20151101T070000
END:STANDARD
BEGIN:DAYLIGHT
TZOFFSETFROM:-0600
TZOFFSETTO:-0500
TZNAME:CDT
DTSTART:20160313T080000
END:DAYLIGHT
BEGIN:STANDARD
TZOFFSETFROM:-0500
TZOFFSETTO:-0600
TZNAME:CST
DTSTART:20161106T070000
END:STANDARD
BEGIN:DAYLIGHT
TZOFFSETFROM:-0600
TZOFFSETTO:-0500
TZNAME:CDT
DTSTART:20170312T080000
END:DAYLIGHT
BEGIN:STANDARD
TZOFFSETFROM:-0500
TZOFFSETTO:-0600
TZNAME:CST
DTSTART:20171105T070000
END:STANDARD
BEGIN:DAYLIGHT
TZOFFSETFROM:-0600
TZOFFSETTO:-0500
TZNAME:CDT
DTSTART:20180311T080000
END:DAYLIGHT
BEGIN:STANDARD
TZOFFSETFROM:-0500
TZOFFSETTO:-0600
TZNAME:CST
DTSTART:20181104T070000
END:STANDARD
BEGIN:DAYLIGHT
TZOFFSETFROM:-0600
TZOFFSETTO:-0500
TZNAME:CDT
DTSTART:20190310T080000
END:DAYLIGHT
BEGIN:STANDARD
TZOFFSETFROM:-0500
TZOFFSETTO:-0600
TZNAME:CST
DTSTART:20191103T070000
END:STANDARD
BEGIN:DAYLIGHT
TZOFFSETFROM:-0600
TZOFFSETTO:-0500
TZNAME:CDT
DTSTART:20200308T080000
END:DAYLIGHT
BEGIN:STANDARD
TZOFFSETFROM:-0500
TZOFFSETTO:-0600
TZNAME:CST
DTSTART:20201101T070000
END:STANDARD
BEGIN:DAYLIGHT
TZOFFSETFROM:-0600
TZOFFSETTO:-0500
TZNAME:CDT
DTSTART:20210314T080000
END:DAYLIGHT
BEGIN:STANDARD
TZOFFSETFROM:-0500
TZOFFSETTO:-0600
TZNAME:CST
DTSTART:20211107T070000
END:STANDARD
BEGIN:DAYLIGHT
TZOFFSETFROM:-0600
TZOFFSETTO:-0500
TZNAME:CDT
DTSTART:20220313T080000
END:DAYLIGHT
BEGIN:STANDARD
TZOFFSETFROM:-0500
TZOFFSETTO:-0600
TZNAME:CST
DTSTART:20221106T070000
END:STANDARD
END:VTIMEZONE
BEGIN:VEVENT
DTSTART;TZID=America/Chicago:20210424T090000
DTEND;TZID=America/Chicago:20210424T110000
DTSTAMP:20260424T012452
CREATED:20170222T130519Z
LAST-MODIFIED:20210424T170412Z
UID:10001056-1619254800-1619262000@www.racetime.info
SUMMARY:Shelter\, Inc. Run4Kidz
DESCRIPTION:Shelter’s Run4Kidz 5K Age Group Results\n\nShelter’s Run4Kidz 5K Overall Results
URL:https://www.racetime.info/event/shelter-5k-run-walk-4-kidz-4/
LOCATION:Busse Woods\, Groves 5-16\, Higgins Road & S. Arlington Heights Rd\, Elk Grove Village\, IL\, 60007\, United States
CATEGORIES:2021-04 Results (April)
ORGANIZER;CN="Barb Mazursky":MAILTO:bmazursky@shelter-inc.org
GEO:42.0126908;-87.9982495
X-APPLE-STRUCTURED-LOCATION;VALUE=URI;X-ADDRESS=Busse Woods Groves 5-16 Higgins Road & S. Arlington Heights Rd Elk Grove Village IL 60007 United States;X-APPLE-RADIUS=500;X-TITLE=Higgins Road & S. Arlington Heights Rd:geo:-87.9982495,42.0126908
END:VEVENT
BEGIN:VEVENT
DTSTART;TZID=America/Chicago:20210201T080000
DTEND;TZID=America/Chicago:20210201T170000
DTSTAMP:20260424T012452
CREATED:20210203T121839Z
LAST-MODIFIED:20210203T121839Z
UID:10001146-1612166400-1612198800@www.racetime.info
SUMMARY:Shelter\, Inc. February Challenge
DESCRIPTION:
URL:https://www.racetime.info/event/shelter-inc-february-challenge/
LOCATION:Busse Woods\, Groves 5-16\, Higgins Road & S. Arlington Heights Rd\, Elk Grove Village\, IL\, 60007\, United States
ORGANIZER;CN="Barb Mazursky":MAILTO:bmazursky@shelter-inc.org
GEO:42.0126908;-87.9982495
X-APPLE-STRUCTURED-LOCATION;VALUE=URI;X-ADDRESS=Busse Woods Groves 5-16 Higgins Road & S. Arlington Heights Rd Elk Grove Village IL 60007 United States;X-APPLE-RADIUS=500;X-TITLE=Higgins Road & S. Arlington Heights Rd:geo:-87.9982495,42.0126908
END:VEVENT
BEGIN:VEVENT
DTSTART;TZID=America/Chicago:20200425T090000
DTEND;TZID=America/Chicago:20200425T110000
DTSTAMP:20260424T012452
CREATED:20170222T130519Z
LAST-MODIFIED:20200401T141501Z
UID:10001052-1587805200-1587812400@www.racetime.info
SUMMARY:Shelter 5K Run/Walk 4 Kidz: VIRTUAL RUN
DESCRIPTION:
URL:https://www.racetime.info/event/shelter-5k-run-walk-4-kidz-3/
LOCATION:Busse Woods\, Groves 5-16\, Higgins Road & S. Arlington Heights Rd\, Elk Grove Village\, IL\, 60007\, United States
ORGANIZER;CN="Barb Mazursky":MAILTO:bmazursky@shelter-inc.org
GEO:42.0126908;-87.9982495
X-APPLE-STRUCTURED-LOCATION;VALUE=URI;X-ADDRESS=Busse Woods Groves 5-16 Higgins Road & S. Arlington Heights Rd Elk Grove Village IL 60007 United States;X-APPLE-RADIUS=500;X-TITLE=Higgins Road & S. Arlington Heights Rd:geo:-87.9982495,42.0126908
END:VEVENT
BEGIN:VEVENT
DTSTART;TZID=America/Chicago:20190427T090000
DTEND;TZID=America/Chicago:20190427T110000
DTSTAMP:20260424T012452
CREATED:20170222T130519Z
LAST-MODIFIED:20190427T182219Z
UID:10000433-1556355600-1556362800@www.racetime.info
SUMMARY:Shelter 5K Run/Walk 4 Kidz
DESCRIPTION:Run4Kidz 5K Age Group Results\n\nRun4Kidz 5K Overall Results\n\nRun4Kidz 5K Team Results
URL:https://www.racetime.info/event/shelter-5k-run-walk-4-kidz-2/
LOCATION:Busse Woods\, Groves 5-16\, Higgins Road & S. Arlington Heights Rd\, Elk Grove Village\, IL\, 60007\, United States
CATEGORIES:2019-04 Results (April)
ORGANIZER;CN="Barb Mazursky":MAILTO:bmazursky@shelter-inc.org
GEO:42.0126908;-87.9982495
X-APPLE-STRUCTURED-LOCATION;VALUE=URI;X-ADDRESS=Busse Woods Groves 5-16 Higgins Road & S. Arlington Heights Rd Elk Grove Village IL 60007 United States;X-APPLE-RADIUS=500;X-TITLE=Higgins Road & S. Arlington Heights Rd:geo:-87.9982495,42.0126908
END:VEVENT
BEGIN:VEVENT
DTSTART;TZID=America/Chicago:20180428T090000
DTEND;TZID=America/Chicago:20180428T110000
DTSTAMP:20260424T012452
CREATED:20170222T130519Z
LAST-MODIFIED:20180428T192000Z
UID:10000430-1524906000-1524913200@www.racetime.info
SUMMARY:Shelter 5K Run/Walk 4 Kidz
DESCRIPTION:Run4Kidz 5K Age Group Results\n\nRun4Kidz 5K Overall Results\n\nRun4Kidz 5K Clydsdale Overall Results
URL:https://www.racetime.info/event/shelter-5k-run-walk-4-kidz/
LOCATION:Busse Woods\, Groves 5-16\, Higgins Road & S. Arlington Heights Rd\, Elk Grove Village\, IL\, 60007\, United States
CATEGORIES:2018-04 Results (April)
ORGANIZER;CN="Barb Mazursky":MAILTO:bmazursky@shelter-inc.org
GEO:42.0126908;-87.9982495
X-APPLE-STRUCTURED-LOCATION;VALUE=URI;X-ADDRESS=Busse Woods Groves 5-16 Higgins Road & S. Arlington Heights Rd Elk Grove Village IL 60007 United States;X-APPLE-RADIUS=500;X-TITLE=Higgins Road & S. Arlington Heights Rd:geo:-87.9982495,42.0126908
END:VEVENT
BEGIN:VEVENT
DTSTART;TZID=America/Chicago:20170429T090000
DTEND;TZID=America/Chicago:20170429T110000
DTSTAMP:20260424T012452
CREATED:20170222T130519Z
LAST-MODIFIED:20170430T163213Z
UID:10000428-1493456400-1493463600@www.racetime.info
SUMMARY:Shelter 5K Run/Walk 4 Kidz
DESCRIPTION:Run4Kids 5K Age Group Results\n\nRun4Kids 5K Overall Results\n\nRun4Kids 5K Clydesdale Division Overall Results\n\nRun4Kids Team Results
URL:https://www.racetime.info/event/shelter-5k-runwalk-4-kidz/
LOCATION:Busse Woods\, Groves 5-16\, Higgins Road & S. Arlington Heights Rd\, Elk Grove Village\, IL\, 60007\, United States
CATEGORIES:2017-04 Results (April)
ORGANIZER;CN="Barb Mazursky":MAILTO:bmazursky@shelter-inc.org
GEO:42.0126908;-87.9982495
X-APPLE-STRUCTURED-LOCATION;VALUE=URI;X-ADDRESS=Busse Woods Groves 5-16 Higgins Road & S. Arlington Heights Rd Elk Grove Village IL 60007 United States;X-APPLE-RADIUS=500;X-TITLE=Higgins Road & S. Arlington Heights Rd:geo:-87.9982495,42.0126908
END:VEVENT
BEGIN:VEVENT
DTSTART;TZID=America/Chicago:20160507T080000
DTEND;TZID=America/Chicago:20160507T100000
DTSTAMP:20260424T012452
CREATED:20160502T234158Z
LAST-MODIFIED:20160507T191530Z
UID:10000633-1462608000-1462615200@www.racetime.info
SUMMARY:Shelter\, Inc. 5K Run/Walk
DESCRIPTION:Shelter 5K Age Group Results\n\nShelter 5K Overall Results\n\nShelter 5K Clydesdale Division
URL:https://www.racetime.info/event/shelter-inc-5k-runwalk/
LOCATION:Busse Woods\, Groves 5-16\, Higgins Road & S. Arlington Heights Rd\, Elk Grove Village\, IL\, 60007\, United States
CATEGORIES:2016-05 Results (May)
ORGANIZER;CN="Barb Mazursky":MAILTO:bmazursky@shelter-inc.org
GEO:42.0126908;-87.9982495
X-APPLE-STRUCTURED-LOCATION;VALUE=URI;X-ADDRESS=Busse Woods Groves 5-16 Higgins Road & S. Arlington Heights Rd Elk Grove Village IL 60007 United States;X-APPLE-RADIUS=500;X-TITLE=Higgins Road & S. Arlington Heights Rd:geo:-87.9982495,42.0126908
END:VEVENT
BEGIN:VEVENT
DTSTART;TZID=America/Chicago:20150502T090000
DTEND;TZID=America/Chicago:20150502T110000
DTSTAMP:20260424T012452
CREATED:20150409T034459Z
LAST-MODIFIED:20150829T200751Z
UID:10000143-1430557200-1430564400@www.racetime.info
SUMMARY:5K Run 4 Kidz
DESCRIPTION:Run4Kids 5K Age Group Results\n\nRun4Kids 5K Overall Results\n\nRun4Kids Athena Division
URL:https://www.racetime.info/event/5k-run-4-kidz-2/
LOCATION:Busse Woods\, Groves 5-16\, Higgins Road & S. Arlington Heights Rd\, Elk Grove Village\, IL\, 60007\, United States
CATEGORIES:2015-05 Results (May)
ORGANIZER;CN="Barb Mazursky":MAILTO:bmazursky@shelter-inc.org
GEO:42.0126908;-87.9982495
X-APPLE-STRUCTURED-LOCATION;VALUE=URI;X-ADDRESS=Busse Woods Groves 5-16 Higgins Road & S. Arlington Heights Rd Elk Grove Village IL 60007 United States;X-APPLE-RADIUS=500;X-TITLE=Higgins Road & S. Arlington Heights Rd:geo:-87.9982495,42.0126908
END:VEVENT
END:VCALENDAR