BEGIN:VCALENDAR
VERSION:2.0
PRODID:-//Race Time - ECPv6.15.13//NONSGML v1.0//EN
CALSCALE:GREGORIAN
METHOD:PUBLISH
X-WR-CALNAME:Race Time
X-ORIGINAL-URL:https://www.racetime.info
X-WR-CALDESC:Events for Race Time
REFRESH-INTERVAL;VALUE=DURATION:PT1H
X-Robots-Tag:noindex
X-PUBLISHED-TTL:PT1H
BEGIN:VTIMEZONE
TZID:America/Chicago
BEGIN:DAYLIGHT
TZOFFSETFROM:-0600
TZOFFSETTO:-0500
TZNAME:CDT
DTSTART:20170312T080000
END:DAYLIGHT
BEGIN:STANDARD
TZOFFSETFROM:-0500
TZOFFSETTO:-0600
TZNAME:CST
DTSTART:20171105T070000
END:STANDARD
BEGIN:DAYLIGHT
TZOFFSETFROM:-0600
TZOFFSETTO:-0500
TZNAME:CDT
DTSTART:20180311T080000
END:DAYLIGHT
BEGIN:STANDARD
TZOFFSETFROM:-0500
TZOFFSETTO:-0600
TZNAME:CST
DTSTART:20181104T070000
END:STANDARD
BEGIN:DAYLIGHT
TZOFFSETFROM:-0600
TZOFFSETTO:-0500
TZNAME:CDT
DTSTART:20190310T080000
END:DAYLIGHT
BEGIN:STANDARD
TZOFFSETFROM:-0500
TZOFFSETTO:-0600
TZNAME:CST
DTSTART:20191103T070000
END:STANDARD
BEGIN:DAYLIGHT
TZOFFSETFROM:-0600
TZOFFSETTO:-0500
TZNAME:CDT
DTSTART:20200308T080000
END:DAYLIGHT
BEGIN:STANDARD
TZOFFSETFROM:-0500
TZOFFSETTO:-0600
TZNAME:CST
DTSTART:20201101T070000
END:STANDARD
BEGIN:DAYLIGHT
TZOFFSETFROM:-0600
TZOFFSETTO:-0500
TZNAME:CDT
DTSTART:20210314T080000
END:DAYLIGHT
BEGIN:STANDARD
TZOFFSETFROM:-0500
TZOFFSETTO:-0600
TZNAME:CST
DTSTART:20211107T070000
END:STANDARD
END:VTIMEZONE
BEGIN:VEVENT
DTSTART;TZID=America/Chicago:20200801T150000
DTEND;TZID=America/Chicago:20200801T170000
DTSTAMP:20260424T041151
CREATED:20180516T002523Z
LAST-MODIFIED:20200629T122838Z
UID:10001789-1596294000-1596301200@www.racetime.info
SUMMARY:#SunnyVibes 5K Run/Walk
DESCRIPTION:
URL:https://www.racetime.info/event/sunnyvibes-5k-run-walk-3/
LOCATION:United Plattville Association\, 6617 Chicago Road\, Yorkville\, IL\, 60560\, United States
ORGANIZER;CN="Beth Fals":MAILTO:bardaugh@att.net
GEO:41.5327992;-88.3785215
X-APPLE-STRUCTURED-LOCATION;VALUE=URI;X-ADDRESS=United Plattville Association 6617 Chicago Road Yorkville IL 60560 United States;X-APPLE-RADIUS=500;X-TITLE=6617 Chicago Road:geo:-88.3785215,41.5327992
END:VEVENT
BEGIN:VEVENT
DTSTART;TZID=America/Chicago:20190727T150000
DTEND;TZID=America/Chicago:20190727T170000
DTSTAMP:20260424T041151
CREATED:20180516T002523Z
LAST-MODIFIED:20190727T233414Z
UID:10001790-1564239600-1564246800@www.racetime.info
SUMMARY:#SunnyVibes 5K Run/Walk
DESCRIPTION:#Sunnyvibes 5K Overall Results
URL:https://www.racetime.info/event/sunnyvibes-5k-run-walk-2/
LOCATION:United Plattville Association\, 6617 Chicago Road\, Yorkville\, IL\, 60560\, United States
CATEGORIES:2019-07 Results (July)
ORGANIZER;CN="Beth Fals":MAILTO:bardaugh@att.net
GEO:41.5327992;-88.3785215
X-APPLE-STRUCTURED-LOCATION;VALUE=URI;X-ADDRESS=United Plattville Association 6617 Chicago Road Yorkville IL 60560 United States;X-APPLE-RADIUS=500;X-TITLE=6617 Chicago Road:geo:-88.3785215,41.5327992
END:VEVENT
BEGIN:VEVENT
DTSTART;TZID=America/Chicago:20180728T150000
DTEND;TZID=America/Chicago:20180728T170000
DTSTAMP:20260424T041151
CREATED:20180516T002523Z
LAST-MODIFIED:20180728T225137Z
UID:10001787-1532790000-1532797200@www.racetime.info
SUMMARY:#SunnyVibes 5K Run/Walk
DESCRIPTION:#SunnyVibes 5K Overall Results\n\n#SunnyVibes Team Results
URL:https://www.racetime.info/event/sunnyvibes-5k-run-walk/
LOCATION:United Plattville Association\, 6617 Chicago Road\, Yorkville\, IL\, 60560\, United States
CATEGORIES:2018-07 Results (July)
ORGANIZER;CN="Beth Fals":MAILTO:bardaugh@att.net
GEO:41.5327992;-88.3785215
X-APPLE-STRUCTURED-LOCATION;VALUE=URI;X-ADDRESS=United Plattville Association 6617 Chicago Road Yorkville IL 60560 United States;X-APPLE-RADIUS=500;X-TITLE=6617 Chicago Road:geo:-88.3785215,41.5327992
END:VEVENT
END:VCALENDAR