BEGIN:VCALENDAR
VERSION:2.0
PRODID:-//Race Time - ECPv6.15.13//NONSGML v1.0//EN
CALSCALE:GREGORIAN
METHOD:PUBLISH
X-ORIGINAL-URL:https://www.racetime.info
X-WR-CALDESC:Events for Race Time
REFRESH-INTERVAL;VALUE=DURATION:PT1H
X-Robots-Tag:noindex
X-PUBLISHED-TTL:PT1H
BEGIN:VTIMEZONE
TZID:America/Chicago
BEGIN:DAYLIGHT
TZOFFSETFROM:-0600
TZOFFSETTO:-0500
TZNAME:CDT
DTSTART:20150308T080000
END:DAYLIGHT
BEGIN:STANDARD
TZOFFSETFROM:-0500
TZOFFSETTO:-0600
TZNAME:CST
DTSTART:20151101T070000
END:STANDARD
BEGIN:DAYLIGHT
TZOFFSETFROM:-0600
TZOFFSETTO:-0500
TZNAME:CDT
DTSTART:20160313T080000
END:DAYLIGHT
BEGIN:STANDARD
TZOFFSETFROM:-0500
TZOFFSETTO:-0600
TZNAME:CST
DTSTART:20161106T070000
END:STANDARD
BEGIN:DAYLIGHT
TZOFFSETFROM:-0600
TZOFFSETTO:-0500
TZNAME:CDT
DTSTART:20170312T080000
END:DAYLIGHT
BEGIN:STANDARD
TZOFFSETFROM:-0500
TZOFFSETTO:-0600
TZNAME:CST
DTSTART:20171105T070000
END:STANDARD
BEGIN:DAYLIGHT
TZOFFSETFROM:-0600
TZOFFSETTO:-0500
TZNAME:CDT
DTSTART:20180311T080000
END:DAYLIGHT
BEGIN:STANDARD
TZOFFSETFROM:-0500
TZOFFSETTO:-0600
TZNAME:CST
DTSTART:20181104T070000
END:STANDARD
END:VTIMEZONE
BEGIN:VEVENT
DTSTART;TZID=America/Chicago:20171105T080000
DTEND;TZID=America/Chicago:20171105T100000
DTSTAMP:20260423T235949
CREATED:20170717T155333Z
LAST-MODIFIED:20171105T192937Z
UID:10000717-1509868800-1509876000@www.racetime.info
SUMMARY:Wheeling's Chevy Chase 5K Run
DESCRIPTION:Chevy Chase 5K Age Group Results\n\nChevy Chase 5K Overall Results
URL:https://www.racetime.info/event/wheelings-chevy-chase-5k-run/
LOCATION:Chevy Chase Golf Course\, 1000 N. Milwaukee Avenue\, Wheeling\, IL\, 60090\, United States
CATEGORIES:2017-11 Results (November)
ORGANIZER;CN="Juan Acevedo":MAILTO:jacevedo@wheelingparkdistrict.com
GEO:42.1578868;-87.9194706
X-APPLE-STRUCTURED-LOCATION;VALUE=URI;X-ADDRESS=Chevy Chase Golf Course 1000 N. Milwaukee Avenue Wheeling IL 60090 United States;X-APPLE-RADIUS=500;X-TITLE=1000 N. Milwaukee Avenue:geo:-87.9194706,42.1578868
END:VEVENT
BEGIN:VEVENT
DTSTART;TZID=America/Chicago:20161113T090000
DTEND;TZID=America/Chicago:20161113T230000
DTSTAMP:20260423T235949
CREATED:20160624T184432Z
LAST-MODIFIED:20161114T192741Z
UID:10000706-1479027600-1479078000@www.racetime.info
SUMMARY:Chevy Chase 5K Run/Walk
DESCRIPTION:Chevy Chase 5K Age Group Results\n\nChevy Chase 5K Overall Results\n\nChevy Chase 5K (5 Year) Age Group Results
URL:https://www.racetime.info/event/chevy-chase-5k-runwalk/
LOCATION:Chevy Chase Golf Course\, 1000 N. Milwaukee Avenue\, Wheeling\, IL\, 60090\, United States
CATEGORIES:2016-11 Results (November)
ORGANIZER;CN="Juan Acevedo":MAILTO:jacevedo@wheelingparkdistrict.com
GEO:42.1578868;-87.9194706
X-APPLE-STRUCTURED-LOCATION;VALUE=URI;X-ADDRESS=Chevy Chase Golf Course 1000 N. Milwaukee Avenue Wheeling IL 60090 United States;X-APPLE-RADIUS=500;X-TITLE=1000 N. Milwaukee Avenue:geo:-87.9194706,42.1578868
END:VEVENT
END:VCALENDAR