BEGIN:VCALENDAR
VERSION:2.0
PRODID:-//Race Time - ECPv6.15.13//NONSGML v1.0//EN
CALSCALE:GREGORIAN
METHOD:PUBLISH
X-WR-CALNAME:Race Time
X-ORIGINAL-URL:https://www.racetime.info
X-WR-CALDESC:Events for Race Time
REFRESH-INTERVAL;VALUE=DURATION:PT1H
X-Robots-Tag:noindex
X-PUBLISHED-TTL:PT1H
BEGIN:VTIMEZONE
TZID:America/Chicago
BEGIN:DAYLIGHT
TZOFFSETFROM:-0600
TZOFFSETTO:-0500
TZNAME:CDT
DTSTART:20140309T080000
END:DAYLIGHT
BEGIN:STANDARD
TZOFFSETFROM:-0500
TZOFFSETTO:-0600
TZNAME:CST
DTSTART:20141102T070000
END:STANDARD
BEGIN:DAYLIGHT
TZOFFSETFROM:-0600
TZOFFSETTO:-0500
TZNAME:CDT
DTSTART:20150308T080000
END:DAYLIGHT
BEGIN:STANDARD
TZOFFSETFROM:-0500
TZOFFSETTO:-0600
TZNAME:CST
DTSTART:20151101T070000
END:STANDARD
BEGIN:DAYLIGHT
TZOFFSETFROM:-0600
TZOFFSETTO:-0500
TZNAME:CDT
DTSTART:20160313T080000
END:DAYLIGHT
BEGIN:STANDARD
TZOFFSETFROM:-0500
TZOFFSETTO:-0600
TZNAME:CST
DTSTART:20161106T070000
END:STANDARD
END:VTIMEZONE
BEGIN:VEVENT
DTSTART;TZID=America/Chicago:20150912T090000
DTEND;TZID=America/Chicago:20150912T110000
DTSTAMP:20260424T024444
CREATED:20150902T010723Z
LAST-MODIFIED:20150912T203509Z
UID:10000135-1442048400-1442055600@www.racetime.info
SUMMARY:Step For Hope 5K Run/Walk
DESCRIPTION:Step For Hope 5K Age Group Results\n\nStep For Hope 5K Overall Results
URL:https://www.racetime.info/event/step-for-hope-5k-runwalk/
LOCATION:Ross Ferraro Town Center\, N. Gary Avenue and Lies Road\, Carol Stream\, IL\, 60188\, United States
CATEGORIES:2015-09 Results (September)
ORGANIZER;CN="Beth Ruddock":MAILTO:firedancer97@hotmail.com
GEO:41.9311036;-88.1202514
X-APPLE-STRUCTURED-LOCATION;VALUE=URI;X-ADDRESS=Ross Ferraro Town Center N. Gary Avenue and Lies Road Carol Stream IL 60188 United States;X-APPLE-RADIUS=500;X-TITLE=N. Gary Avenue and Lies Road:geo:-88.1202514,41.9311036
END:VEVENT
END:VCALENDAR