BEGIN:VCALENDAR
VERSION:2.0
PRODID:-//Race Time - ECPv6.15.13//NONSGML v1.0//EN
CALSCALE:GREGORIAN
METHOD:PUBLISH
X-ORIGINAL-URL:https://www.racetime.info
X-WR-CALDESC:Events for Race Time
REFRESH-INTERVAL;VALUE=DURATION:PT1H
X-Robots-Tag:noindex
X-PUBLISHED-TTL:PT1H
BEGIN:VTIMEZONE
TZID:America/Chicago
BEGIN:DAYLIGHT
TZOFFSETFROM:-0600
TZOFFSETTO:-0500
TZNAME:CDT
DTSTART:20160313T080000
END:DAYLIGHT
BEGIN:STANDARD
TZOFFSETFROM:-0500
TZOFFSETTO:-0600
TZNAME:CST
DTSTART:20161106T070000
END:STANDARD
BEGIN:DAYLIGHT
TZOFFSETFROM:-0600
TZOFFSETTO:-0500
TZNAME:CDT
DTSTART:20170312T080000
END:DAYLIGHT
BEGIN:STANDARD
TZOFFSETFROM:-0500
TZOFFSETTO:-0600
TZNAME:CST
DTSTART:20171105T070000
END:STANDARD
BEGIN:DAYLIGHT
TZOFFSETFROM:-0600
TZOFFSETTO:-0500
TZNAME:CDT
DTSTART:20180311T080000
END:DAYLIGHT
BEGIN:STANDARD
TZOFFSETFROM:-0500
TZOFFSETTO:-0600
TZNAME:CST
DTSTART:20181104T070000
END:STANDARD
BEGIN:DAYLIGHT
TZOFFSETFROM:-0600
TZOFFSETTO:-0500
TZNAME:CDT
DTSTART:20190310T080000
END:DAYLIGHT
BEGIN:STANDARD
TZOFFSETFROM:-0500
TZOFFSETTO:-0600
TZNAME:CST
DTSTART:20191103T070000
END:STANDARD
BEGIN:DAYLIGHT
TZOFFSETFROM:-0600
TZOFFSETTO:-0500
TZNAME:CDT
DTSTART:20200308T080000
END:DAYLIGHT
BEGIN:STANDARD
TZOFFSETFROM:-0500
TZOFFSETTO:-0600
TZNAME:CST
DTSTART:20201101T070000
END:STANDARD
BEGIN:DAYLIGHT
TZOFFSETFROM:-0600
TZOFFSETTO:-0500
TZNAME:CDT
DTSTART:20210314T080000
END:DAYLIGHT
BEGIN:STANDARD
TZOFFSETFROM:-0500
TZOFFSETTO:-0600
TZNAME:CST
DTSTART:20211107T070000
END:STANDARD
BEGIN:DAYLIGHT
TZOFFSETFROM:-0600
TZOFFSETTO:-0500
TZNAME:CDT
DTSTART:20220313T080000
END:DAYLIGHT
BEGIN:STANDARD
TZOFFSETFROM:-0500
TZOFFSETTO:-0600
TZNAME:CST
DTSTART:20221106T070000
END:STANDARD
BEGIN:DAYLIGHT
TZOFFSETFROM:-0600
TZOFFSETTO:-0500
TZNAME:CDT
DTSTART:20230312T080000
END:DAYLIGHT
BEGIN:STANDARD
TZOFFSETFROM:-0500
TZOFFSETTO:-0600
TZNAME:CST
DTSTART:20231105T070000
END:STANDARD
BEGIN:DAYLIGHT
TZOFFSETFROM:-0600
TZOFFSETTO:-0500
TZNAME:CDT
DTSTART:20240310T080000
END:DAYLIGHT
BEGIN:STANDARD
TZOFFSETFROM:-0500
TZOFFSETTO:-0600
TZNAME:CST
DTSTART:20241103T070000
END:STANDARD
BEGIN:DAYLIGHT
TZOFFSETFROM:-0600
TZOFFSETTO:-0500
TZNAME:CDT
DTSTART:20250309T080000
END:DAYLIGHT
BEGIN:STANDARD
TZOFFSETFROM:-0500
TZOFFSETTO:-0600
TZNAME:CST
DTSTART:20251102T070000
END:STANDARD
BEGIN:DAYLIGHT
TZOFFSETFROM:-0600
TZOFFSETTO:-0500
TZNAME:CDT
DTSTART:20260308T080000
END:DAYLIGHT
BEGIN:STANDARD
TZOFFSETFROM:-0500
TZOFFSETTO:-0600
TZNAME:CST
DTSTART:20261101T070000
END:STANDARD
BEGIN:DAYLIGHT
TZOFFSETFROM:-0600
TZOFFSETTO:-0500
TZNAME:CDT
DTSTART:20270314T080000
END:DAYLIGHT
BEGIN:STANDARD
TZOFFSETFROM:-0500
TZOFFSETTO:-0600
TZNAME:CST
DTSTART:20271107T070000
END:STANDARD
END:VTIMEZONE
BEGIN:VEVENT
DTSTART;TZID=America/Chicago:20260207T100000
DTEND;TZID=America/Chicago:20260207T113000
DTSTAMP:20260424T011043
CREATED:20251028T192335Z
LAST-MODIFIED:20260207T192507Z
UID:10002449-1770458400-1770463800@www.racetime.info
SUMMARY:Randall Frozen Oaks 5K Run/Walk
DESCRIPTION:Frozen Oaks 5K Age Group Results\n\nFrozen Oaks 5K Overall Results
URL:https://www.racetime.info/event/the-randall-oaks-frozen-oaks-5k-run-walk-4/
LOCATION:Randall Oaks Golf Club\, 4101 Binnie Road\, West Dundee\, IL\, 60118\, United States
CATEGORIES:2026-02 Results (February)
ORGANIZER;CN="Bill Hepperle":MAILTO:bhepperle@dtpd.org
END:VEVENT
BEGIN:VEVENT
DTSTART;TZID=America/Chicago:20250208T100000
DTEND;TZID=America/Chicago:20250208T113000
DTSTAMP:20260424T011043
CREATED:20170406T133031Z
LAST-MODIFIED:20250208T193934Z
UID:10001290-1739008800-1739014200@www.racetime.info
SUMMARY:The Randall Oaks Frozen Oaks 5K Run/Walk
DESCRIPTION:Frozen Oaks 5K Age Group Results\n\nFrozen Oaks 5K Overall Results
URL:https://www.racetime.info/event/copy-of-the-randall-oaks-frozen-oaks-5k-run-walk-3/
LOCATION:Randall Oaks Golf Club\, 4101 Binnie Road\, West Dundee\, IL\, 60118\, United States
CATEGORIES:2025-02 Results (February)
ORGANIZER;CN="Bill Hepperle":MAILTO:bhepperle@dtpd.org
END:VEVENT
BEGIN:VEVENT
DTSTART;TZID=America/Chicago:20240210T100000
DTEND;TZID=America/Chicago:20240210T120000
DTSTAMP:20260424T011043
CREATED:20170406T133031Z
LAST-MODIFIED:20240210T191733Z
UID:10001286-1707559200-1707566400@www.racetime.info
SUMMARY:The Randall Oaks Frozen Oaks 5K Run/Walk
DESCRIPTION:Frozen Oaks 5K Age Group Results\n\nFrozen Oaks 5K Overall Results
URL:https://www.racetime.info/event/copy-of-the-randall-oaks-frozen-oaks-5k-run-walk-2/
LOCATION:Randall Oaks Golf Club\, 4101 Binnie Road\, West Dundee\, IL\, 60118\, United States
CATEGORIES:2024-02 Results (February)
ORGANIZER;CN="Bill Hepperle":MAILTO:bhepperle@dtpd.org
END:VEVENT
BEGIN:VEVENT
DTSTART;TZID=America/Chicago:20230204T100000
DTEND;TZID=America/Chicago:20230204T113000
DTSTAMP:20260424T011043
CREATED:20170406T133031Z
LAST-MODIFIED:20230220T191805Z
UID:10001284-1675504800-1675510200@www.racetime.info
SUMMARY:The Randall Oaks Frozen Oaks 5K Run/Walk
DESCRIPTION:Frozen Oak 5K Overall Results\n\nFrozen Oaks 5K Age Group Results
URL:https://www.racetime.info/event/copy-of-the-randall-oaks-frozen-oaks-5k-run-walk/
LOCATION:Randall Oaks Golf Club\, 4101 Binnie Road\, West Dundee\, IL\, 60118\, United States
CATEGORIES:2023-02 Results (February)
ORGANIZER;CN="Bill Hepperle":MAILTO:bhepperle@dtpd.org
END:VEVENT
BEGIN:VEVENT
DTSTART;TZID=America/Chicago:20220612T080000
DTEND;TZID=America/Chicago:20220612T100000
DTSTAMP:20260424T011043
CREATED:20170406T133031Z
LAST-MODIFIED:20220612T165643Z
UID:10001283-1655020800-1655028000@www.racetime.info
SUMMARY:The Randall Oaks 5K Run/Walk & Kids Fun Runs
DESCRIPTION:Randall Oaks 5K Age Group Results\n\nRandall Oaks 5K Overall Results\n\nRandall Oaks 5K Wheel Division\n\nRandall Oaks Youth Runs
URL:https://www.racetime.info/event/copy-of-the-randall-oaks-5k-run-walk-kids-fun-runs/
LOCATION:Randall Oaks Recreation Center\, 500 North Randall Road\, West Dundee\, IL\, 60118\, United States
CATEGORIES:2022-06 Results (June)
ORGANIZER;CN="Bill Hepperle":MAILTO:bhepperle@dtpd.org
GEO:42.109152;-88.3362828
X-APPLE-STRUCTURED-LOCATION;VALUE=URI;X-ADDRESS=Randall Oaks Recreation Center 500 North Randall Road West Dundee IL 60118 United States;X-APPLE-RADIUS=500;X-TITLE=500 North Randall Road:geo:-88.3362828,42.109152
END:VEVENT
BEGIN:VEVENT
DTSTART;TZID=America/Chicago:20220212T100000
DTEND;TZID=America/Chicago:20220212T113000
DTSTAMP:20260424T011043
CREATED:20170406T133031Z
LAST-MODIFIED:20220212T193626Z
UID:10001282-1644660000-1644665400@www.racetime.info
SUMMARY:The Randall Oaks Frozen Oaks 5K Run/Walk
DESCRIPTION:Frozen Oaks 5K Age Group Results \n \nFrozen Oaks 5K Overall Results
URL:https://www.racetime.info/event/the-randall-oaks-frozen-oaks-5k-run-walk-3/
LOCATION:Randall Oaks Golf Club\, 4101 Binnie Road\, West Dundee\, IL\, 60118\, United States
CATEGORIES:2022-02 Results (February)
ORGANIZER;CN="Bill Hepperle":MAILTO:bhepperle@dtpd.org
END:VEVENT
BEGIN:VEVENT
DTSTART;TZID=America/Chicago:20210613T080000
DTEND;TZID=America/Chicago:20210613T110000
DTSTAMP:20260424T011043
CREATED:20170406T133031Z
LAST-MODIFIED:20210613T163202Z
UID:10000538-1623571200-1623582000@www.racetime.info
SUMMARY:The Randall Oaks 5K Run/Walk & Kids Fun Runs
DESCRIPTION:Randall Oaks -5K Age Group Race Results\n\nRandall Oaks -5K Overall Race Results\n\nRandall Oaks Youth Runs Overall Results
URL:https://www.racetime.info/event/the-randall-oaks-3-mile-kids-fun-runs-3/
LOCATION:Randall Oaks Recreation Center\, 500 North Randall Road\, West Dundee\, IL\, 60118\, United States
CATEGORIES:2021-06 Results (June)
ORGANIZER;CN="Bill Hepperle":MAILTO:bhepperle@dtpd.org
GEO:42.109152;-88.3362828
X-APPLE-STRUCTURED-LOCATION;VALUE=URI;X-ADDRESS=Randall Oaks Recreation Center 500 North Randall Road West Dundee IL 60118 United States;X-APPLE-RADIUS=500;X-TITLE=500 North Randall Road:geo:-88.3362828,42.109152
END:VEVENT
BEGIN:VEVENT
DTSTART;TZID=America/Chicago:20210213T100000
DTEND;TZID=America/Chicago:20210213T130000
DTSTAMP:20260424T011043
CREATED:20170406T133031Z
LAST-MODIFIED:20210215T172213Z
UID:10000536-1613210400-1613221200@www.racetime.info
SUMMARY:The Randall Oaks Frozen Oaks 5K Run/Walk
DESCRIPTION:Frozen Oaks 5K Overall Results
URL:https://www.racetime.info/event/the-randall-oaks-frozen-oaks-5k-run-walk-2/
LOCATION:Randall Oaks Golf Club\, 4101 Binnie Road\, West Dundee\, IL\, 60118\, United States
CATEGORIES:2021-02 Results (February)
ORGANIZER;CN="Bill Hepperle":MAILTO:bhepperle@dtpd.org
END:VEVENT
BEGIN:VEVENT
DTSTART;TZID=America/Chicago:20200614T080000
DTEND;TZID=America/Chicago:20200614T110000
DTSTAMP:20260424T011043
CREATED:20170406T133031Z
LAST-MODIFIED:20200418T141641Z
UID:10000534-1592121600-1592132400@www.racetime.info
SUMMARY:The Randall Oaks 3 Mile & Kids Fun Runs: CANCELLED
DESCRIPTION:
URL:https://www.racetime.info/event/the-randall-oaks-3-mile-kids-fun-runs-2/
LOCATION:Randall Oaks Recreation Center\, 500 North Randall Road\, West Dundee\, IL\, 60118\, United States
ORGANIZER;CN="Bill Hepperle":MAILTO:bhepperle@dtpd.org
GEO:42.109152;-88.3362828
X-APPLE-STRUCTURED-LOCATION;VALUE=URI;X-ADDRESS=Randall Oaks Recreation Center 500 North Randall Road West Dundee IL 60118 United States;X-APPLE-RADIUS=500;X-TITLE=500 North Randall Road:geo:-88.3362828,42.109152
END:VEVENT
BEGIN:VEVENT
DTSTART;TZID=America/Chicago:20200208T100000
DTEND;TZID=America/Chicago:20200208T130000
DTSTAMP:20260424T011043
CREATED:20170406T133031Z
LAST-MODIFIED:20200208T185805Z
UID:10000532-1581156000-1581166800@www.racetime.info
SUMMARY:The Randall Oaks Frozen Oaks 5K Run/Walk
DESCRIPTION:Frozen Oaks 5K Age Group Results\n\nFrozen Oaks 5K Overall Results
URL:https://www.racetime.info/event/the-randall-oaks-frozen-oaks-5k-run-walk/
LOCATION:Randall Oaks Golf Club\, 4101 Binnie Road\, West Dundee\, IL\, 60118\, United States
CATEGORIES:2020-02 Results (February)
ORGANIZER;CN="Bill Hepperle":MAILTO:bhepperle@dtpd.org
END:VEVENT
BEGIN:VEVENT
DTSTART;TZID=America/Chicago:20190609T080000
DTEND;TZID=America/Chicago:20190609T110000
DTSTAMP:20260424T011043
CREATED:20170406T133031Z
LAST-MODIFIED:20190609T180544Z
UID:10000530-1560067200-1560078000@www.racetime.info
SUMMARY:The Randall Oaks 3 Mile & Kids Fun Runs
DESCRIPTION:Randall Oaks 5K Age Group Results\n\nRandall Oaks 5K Overall Results\n\nRandall Oaks Youth Runs
URL:https://www.racetime.info/event/the-randall-oaks-3-mile-kids-fun-runs/
LOCATION:Randall Oaks Recreation Center\, 500 North Randall Road\, West Dundee\, IL\, 60118\, United States
CATEGORIES:2019-06 Results (June)
ORGANIZER;CN="Bill Hepperle":MAILTO:bhepperle@dtpd.org
GEO:42.109152;-88.3362828
X-APPLE-STRUCTURED-LOCATION;VALUE=URI;X-ADDRESS=Randall Oaks Recreation Center 500 North Randall Road West Dundee IL 60118 United States;X-APPLE-RADIUS=500;X-TITLE=500 North Randall Road:geo:-88.3362828,42.109152
END:VEVENT
BEGIN:VEVENT
DTSTART;TZID=America/Chicago:20180610T080000
DTEND;TZID=America/Chicago:20180610T110000
DTSTAMP:20260424T011043
CREATED:20170406T133031Z
LAST-MODIFIED:20180610T164116Z
UID:10000529-1528617600-1528628400@www.racetime.info
SUMMARY:The Randall Oaks 3 Mile & Kids Fun Runs
DESCRIPTION:Randall Oaks 3 Mile Age Group Results\n\nRandall Oaks 3 Mile Overall Results\n\nRandall Oaks Youth 1 Mile & 1/2 Mile Fun Run Overall Results
URL:https://www.racetime.info/event/the-randall-oaks-5k-kids-fun-runs-2/
LOCATION:Randall Oaks Recreation Center\, 500 North Randall Road\, West Dundee\, IL\, 60118\, United States
CATEGORIES:2018-06 Results (June)
ORGANIZER;CN="Bill Hepperle":MAILTO:bhepperle@dtpd.org
GEO:42.109152;-88.3362828
X-APPLE-STRUCTURED-LOCATION;VALUE=URI;X-ADDRESS=Randall Oaks Recreation Center 500 North Randall Road West Dundee IL 60118 United States;X-APPLE-RADIUS=500;X-TITLE=500 North Randall Road:geo:-88.3362828,42.109152
END:VEVENT
BEGIN:VEVENT
DTSTART;TZID=America/Chicago:20170715T073000
DTEND;TZID=America/Chicago:20170715T100000
DTSTAMP:20260424T011043
CREATED:20170613T201813Z
LAST-MODIFIED:20170613T201813Z
UID:10001485-1500103800-1500112800@www.racetime.info
SUMMARY:Splash & Dash Youth Triathlon
DESCRIPTION:
URL:https://www.racetime.info/event/splash-dash-youth-triathlon/
LOCATION:Sleepy Hollow Pool\, Winmoor Drive & Glen Oak Drive\, Sleepy Hollow\, IL\, 60118\, United States
ORGANIZER;CN="Bill Hepperle":MAILTO:bhepperle@dtpd.org
GEO:42.090624;-88.309321
X-APPLE-STRUCTURED-LOCATION;VALUE=URI;X-ADDRESS=Sleepy Hollow Pool Winmoor Drive & Glen Oak Drive Sleepy Hollow IL 60118 United States;X-APPLE-RADIUS=500;X-TITLE=Winmoor Drive & Glen Oak Drive:geo:-88.309321,42.090624
END:VEVENT
BEGIN:VEVENT
DTSTART;TZID=America/Chicago:20170611T080000
DTEND;TZID=America/Chicago:20170611T110000
DTSTAMP:20260424T011043
CREATED:20170406T133031Z
LAST-MODIFIED:20170611T170047Z
UID:10000528-1497168000-1497178800@www.racetime.info
SUMMARY:The Randall Oaks 5K & Kids Fun Runs
DESCRIPTION:Randall Oaks 5K Age Group Results\n\nRandall Oaks 5K Overall Results\n\nRandall Oaks 1 Mile Youth Run\n\nRandall Oaks Half Mile Youth Run
URL:https://www.racetime.info/event/the-randall-oaks-5k-kids-fun-runs/
LOCATION:Randall Oaks Recreation Center\, 500 North Randall Road\, West Dundee\, IL\, 60118\, United States
CATEGORIES:2017-06 Results (June)
ORGANIZER;CN="Bill Hepperle":MAILTO:bhepperle@dtpd.org
GEO:42.109152;-88.3362828
X-APPLE-STRUCTURED-LOCATION;VALUE=URI;X-ADDRESS=Randall Oaks Recreation Center 500 North Randall Road West Dundee IL 60118 United States;X-APPLE-RADIUS=500;X-TITLE=500 North Randall Road:geo:-88.3362828,42.109152
END:VEVENT
END:VCALENDAR