BEGIN:VCALENDAR
VERSION:2.0
PRODID:-//Race Time - ECPv6.15.13//NONSGML v1.0//EN
CALSCALE:GREGORIAN
METHOD:PUBLISH
X-ORIGINAL-URL:https://www.racetime.info
X-WR-CALDESC:Events for Race Time
REFRESH-INTERVAL;VALUE=DURATION:PT1H
X-Robots-Tag:noindex
X-PUBLISHED-TTL:PT1H
BEGIN:VTIMEZONE
TZID:America/Chicago
BEGIN:DAYLIGHT
TZOFFSETFROM:-0600
TZOFFSETTO:-0500
TZNAME:CDT
DTSTART:20170312T080000
END:DAYLIGHT
BEGIN:STANDARD
TZOFFSETFROM:-0500
TZOFFSETTO:-0600
TZNAME:CST
DTSTART:20171105T070000
END:STANDARD
BEGIN:DAYLIGHT
TZOFFSETFROM:-0600
TZOFFSETTO:-0500
TZNAME:CDT
DTSTART:20180311T080000
END:DAYLIGHT
BEGIN:STANDARD
TZOFFSETFROM:-0500
TZOFFSETTO:-0600
TZNAME:CST
DTSTART:20181104T070000
END:STANDARD
BEGIN:DAYLIGHT
TZOFFSETFROM:-0600
TZOFFSETTO:-0500
TZNAME:CDT
DTSTART:20190310T080000
END:DAYLIGHT
BEGIN:STANDARD
TZOFFSETFROM:-0500
TZOFFSETTO:-0600
TZNAME:CST
DTSTART:20191103T070000
END:STANDARD
BEGIN:DAYLIGHT
TZOFFSETFROM:-0600
TZOFFSETTO:-0500
TZNAME:CDT
DTSTART:20200308T080000
END:DAYLIGHT
BEGIN:STANDARD
TZOFFSETFROM:-0500
TZOFFSETTO:-0600
TZNAME:CST
DTSTART:20201101T070000
END:STANDARD
BEGIN:DAYLIGHT
TZOFFSETFROM:-0600
TZOFFSETTO:-0500
TZNAME:CDT
DTSTART:20210314T080000
END:DAYLIGHT
BEGIN:STANDARD
TZOFFSETFROM:-0500
TZOFFSETTO:-0600
TZNAME:CST
DTSTART:20211107T070000
END:STANDARD
BEGIN:DAYLIGHT
TZOFFSETFROM:-0600
TZOFFSETTO:-0500
TZNAME:CDT
DTSTART:20220313T080000
END:DAYLIGHT
BEGIN:STANDARD
TZOFFSETFROM:-0500
TZOFFSETTO:-0600
TZNAME:CST
DTSTART:20221106T070000
END:STANDARD
BEGIN:DAYLIGHT
TZOFFSETFROM:-0600
TZOFFSETTO:-0500
TZNAME:CDT
DTSTART:20230312T080000
END:DAYLIGHT
BEGIN:STANDARD
TZOFFSETFROM:-0500
TZOFFSETTO:-0600
TZNAME:CST
DTSTART:20231105T070000
END:STANDARD
BEGIN:DAYLIGHT
TZOFFSETFROM:-0600
TZOFFSETTO:-0500
TZNAME:CDT
DTSTART:20240310T080000
END:DAYLIGHT
BEGIN:STANDARD
TZOFFSETFROM:-0500
TZOFFSETTO:-0600
TZNAME:CST
DTSTART:20241103T070000
END:STANDARD
BEGIN:DAYLIGHT
TZOFFSETFROM:-0600
TZOFFSETTO:-0500
TZNAME:CDT
DTSTART:20250309T080000
END:DAYLIGHT
BEGIN:STANDARD
TZOFFSETFROM:-0500
TZOFFSETTO:-0600
TZNAME:CST
DTSTART:20251102T070000
END:STANDARD
END:VTIMEZONE
BEGIN:VEVENT
DTSTART;TZID=America/Chicago:20240120T100000
DTEND;TZID=America/Chicago:20240120T120000
DTSTAMP:20260424T001216
CREATED:20180104T133856Z
LAST-MODIFIED:20240123T163432Z
UID:10001708-1705744800-1705752000@www.racetime.info
SUMMARY:Joliet Nordic Ski Race 12K & 4K
DESCRIPTION:Joliet Nordic 12K Skate Age Group Results\n\nJoliet Nordic 12K Classic Age Group Results \nJoliet Nordic Ski Overall Results
URL:https://www.racetime.info/event/copy-of-joliet-nordic-ski-race-12k-4k/
LOCATION:Woodruff Golf Course\, 621 Gougar Road\, Joliet\, IL\, 60432\, United States
CATEGORIES:2024-01 Results (January)
GEO:41.536618;-88.009168
X-APPLE-STRUCTURED-LOCATION;VALUE=URI;X-ADDRESS=Woodruff Golf Course 621 Gougar Road Joliet IL 60432 United States;X-APPLE-RADIUS=500;X-TITLE=621 Gougar Road:geo:-88.009168,41.536618
END:VEVENT
BEGIN:VEVENT
DTSTART;TZID=America/Chicago:20180107T093000
DTEND;TZID=America/Chicago:20180107T120000
DTSTAMP:20260424T001216
CREATED:20180104T133856Z
LAST-MODIFIED:20180107T204540Z
UID:10001707-1515317400-1515326400@www.racetime.info
SUMMARY:Joliet Nordic Ski Race 12K & 4K
DESCRIPTION:Joliet Nordic 4K Classic Overall Results\n\nJoliet Nordic 4K Skate Overall Results\n\nJoliet Nordic 12K Classic Overall Results\n\nJoliet Nordic 12K Skate Overall Results\n\nJoliet Nordic 12K Skate Age Group Results
URL:https://www.racetime.info/event/joliet-nordic-ski-race-12k-4k/
LOCATION:Woodruff Golf Course\, 621 Gougar Road\, Joliet\, IL\, 60432\, United States
CATEGORIES:2018-01 Results (January)
GEO:41.536618;-88.009168
X-APPLE-STRUCTURED-LOCATION;VALUE=URI;X-ADDRESS=Woodruff Golf Course 621 Gougar Road Joliet IL 60432 United States;X-APPLE-RADIUS=500;X-TITLE=621 Gougar Road:geo:-88.009168,41.536618
END:VEVENT
END:VCALENDAR