BEGIN:VCALENDAR
VERSION:2.0
PRODID:-//Race Time - ECPv6.15.13//NONSGML v1.0//EN
CALSCALE:GREGORIAN
METHOD:PUBLISH
X-WR-CALNAME:Race Time
X-ORIGINAL-URL:https://www.racetime.info
X-WR-CALDESC:Events for Race Time
REFRESH-INTERVAL;VALUE=DURATION:PT1H
X-Robots-Tag:noindex
X-PUBLISHED-TTL:PT1H
BEGIN:VTIMEZONE
TZID:America/Chicago
BEGIN:DAYLIGHT
TZOFFSETFROM:-0600
TZOFFSETTO:-0500
TZNAME:CDT
DTSTART:20140309T080000
END:DAYLIGHT
BEGIN:STANDARD
TZOFFSETFROM:-0500
TZOFFSETTO:-0600
TZNAME:CST
DTSTART:20141102T070000
END:STANDARD
BEGIN:DAYLIGHT
TZOFFSETFROM:-0600
TZOFFSETTO:-0500
TZNAME:CDT
DTSTART:20150308T080000
END:DAYLIGHT
BEGIN:STANDARD
TZOFFSETFROM:-0500
TZOFFSETTO:-0600
TZNAME:CST
DTSTART:20151101T070000
END:STANDARD
BEGIN:DAYLIGHT
TZOFFSETFROM:-0600
TZOFFSETTO:-0500
TZNAME:CDT
DTSTART:20160313T080000
END:DAYLIGHT
BEGIN:STANDARD
TZOFFSETFROM:-0500
TZOFFSETTO:-0600
TZNAME:CST
DTSTART:20161106T070000
END:STANDARD
END:VTIMEZONE
BEGIN:VEVENT
DTSTART;TZID=America/Chicago:20151003T083000
DTEND;TZID=America/Chicago:20151003T170000
DTSTAMP:20260424T020137
CREATED:20150707T155518Z
LAST-MODIFIED:20151031T112930Z
UID:10000085-1443861000-1443891600@www.racetime.info
SUMMARY:Run For The Hills 10K+ (7.3 Miles) & Half Marathon
DESCRIPTION:Run For The Hills Half Marathon Age Group Results\n\nRun For The Hills Half Marathon Overall Results\n\nRun For The Hills 10K+ Age Group Results\n\nRun For The Hills 10K+ Overall Results
URL:https://www.racetime.info/event/run-for-the-hills-10k-half-marathon/
LOCATION:Moraine Hills State Park\, 1510 S. River Road\, McHenry\, IL\, 60051\, United States
CATEGORIES:2015-10 Results (October)
ORGANIZER;CN="Bonnie Sheehan":MAILTO:camelot1808@sbcglobal.net
GEO:42.3097539;-88.2276231
X-APPLE-STRUCTURED-LOCATION;VALUE=URI;X-ADDRESS=Moraine Hills State Park 1510 S. River Road McHenry IL 60051 United States;X-APPLE-RADIUS=500;X-TITLE=1510 S. River Road:geo:-88.2276231,42.3097539
END:VEVENT
END:VCALENDAR