BEGIN:VCALENDAR
VERSION:2.0
PRODID:-//Race Time - ECPv6.15.13//NONSGML v1.0//EN
CALSCALE:GREGORIAN
METHOD:PUBLISH
X-ORIGINAL-URL:https://www.racetime.info
X-WR-CALDESC:Events for Race Time
REFRESH-INTERVAL;VALUE=DURATION:PT1H
X-Robots-Tag:noindex
X-PUBLISHED-TTL:PT1H
BEGIN:VTIMEZONE
TZID:America/Chicago
BEGIN:DAYLIGHT
TZOFFSETFROM:-0600
TZOFFSETTO:-0500
TZNAME:CDT
DTSTART:20180311T080000
END:DAYLIGHT
BEGIN:STANDARD
TZOFFSETFROM:-0500
TZOFFSETTO:-0600
TZNAME:CST
DTSTART:20181104T070000
END:STANDARD
BEGIN:DAYLIGHT
TZOFFSETFROM:-0600
TZOFFSETTO:-0500
TZNAME:CDT
DTSTART:20190310T080000
END:DAYLIGHT
BEGIN:STANDARD
TZOFFSETFROM:-0500
TZOFFSETTO:-0600
TZNAME:CST
DTSTART:20191103T070000
END:STANDARD
BEGIN:DAYLIGHT
TZOFFSETFROM:-0600
TZOFFSETTO:-0500
TZNAME:CDT
DTSTART:20200308T080000
END:DAYLIGHT
BEGIN:STANDARD
TZOFFSETFROM:-0500
TZOFFSETTO:-0600
TZNAME:CST
DTSTART:20201101T070000
END:STANDARD
BEGIN:DAYLIGHT
TZOFFSETFROM:-0600
TZOFFSETTO:-0500
TZNAME:CDT
DTSTART:20210314T080000
END:DAYLIGHT
BEGIN:STANDARD
TZOFFSETFROM:-0500
TZOFFSETTO:-0600
TZNAME:CST
DTSTART:20211107T070000
END:STANDARD
BEGIN:DAYLIGHT
TZOFFSETFROM:-0600
TZOFFSETTO:-0500
TZNAME:CDT
DTSTART:20220313T080000
END:DAYLIGHT
BEGIN:STANDARD
TZOFFSETFROM:-0500
TZOFFSETTO:-0600
TZNAME:CST
DTSTART:20221106T070000
END:STANDARD
BEGIN:DAYLIGHT
TZOFFSETFROM:-0600
TZOFFSETTO:-0500
TZNAME:CDT
DTSTART:20230312T080000
END:DAYLIGHT
BEGIN:STANDARD
TZOFFSETFROM:-0500
TZOFFSETTO:-0600
TZNAME:CST
DTSTART:20231105T070000
END:STANDARD
END:VTIMEZONE
BEGIN:VEVENT
DTSTART;TZID=America/Chicago:20220611T080000
DTEND;TZID=America/Chicago:20220611T100000
DTSTAMP:20260424T024907
CREATED:20190303T192103Z
LAST-MODIFIED:20220611T165637Z
UID:10001865-1654934400-1654941600@www.racetime.info
SUMMARY:CAR Foundation 5K Fun-Raiser
DESCRIPTION:C.A.R. 5K Overall Results
URL:https://www.racetime.info/event/copy-of-car-foundation-5k-fun-raiser/
LOCATION:Diversey Harbor\, 2601 N. Cannon Drive\, Chicago\, IL\, 60614\, United States
CATEGORIES:2022-06 Results (June)
ORGANIZER;CN="Brent Dornbos":MAILTO:bdornbos@chicagorealtor.com
END:VEVENT
BEGIN:VEVENT
DTSTART;TZID=America/Chicago:20210828T080000
DTEND;TZID=America/Chicago:20210828T110000
DTSTAMP:20260424T024907
CREATED:20190303T192103Z
LAST-MODIFIED:20210903T100203Z
UID:10001864-1630137600-1630148400@www.racetime.info
SUMMARY:CAR Foundation 5K Fun-Raiser
DESCRIPTION:CAR Foundation 5K Age Group Results\n\nCAR Foundation 5K Overall Results\n\nCAR Foundation 5K Virtual Results
URL:https://www.racetime.info/event/car-chicago-area-realtors-5k-fun-raiser-virtual/
LOCATION:Jackson Park\, 5700 E. Hayes Drive\, Grove 19A\, Chicago\, IL\, 60649\, United States
CATEGORIES:2021-08 Results (August)
ORGANIZER;CN="Brent Dornbos":MAILTO:bdornbos@chicagorealtor.com
GEO:41.7906088;-87.5830586
X-APPLE-STRUCTURED-LOCATION;VALUE=URI;X-ADDRESS=Jackson Park 5700 E. Hayes Drive Grove 19A Chicago IL 60649 United States;X-APPLE-RADIUS=500;X-TITLE=5700 E. Hayes Drive\, Grove 19A:geo:-87.5830586,41.7906088
END:VEVENT
BEGIN:VEVENT
DTSTART;TZID=America/Chicago:20200809T080000
DTEND;TZID=America/Chicago:20200809T110000
DTSTAMP:20260424T024907
CREATED:20190303T192103Z
LAST-MODIFIED:20200630T221852Z
UID:10001863-1596960000-1596970800@www.racetime.info
SUMMARY:CAR: Chicago Area Realtors 5K Fun-Raiser: VIRTUAL
DESCRIPTION:
URL:https://www.racetime.info/event/chicago-realtors-5k-run-walk-2/
LOCATION:Diversey Harbor\, 2601 N. Cannon Drive\, Chicago\, IL\, 60614\, United States
ORGANIZER;CN="Brent Dornbos":MAILTO:bdornbos@chicagorealtor.com
END:VEVENT
BEGIN:VEVENT
DTSTART;TZID=America/Chicago:20190622T080000
DTEND;TZID=America/Chicago:20190622T110000
DTSTAMP:20260424T024907
CREATED:20190303T192103Z
LAST-MODIFIED:20190622T160948Z
UID:10001862-1561190400-1561201200@www.racetime.info
SUMMARY:Chicago Realtors 5K Run/Walk
DESCRIPTION:CAR Foundation 5K Age Group Results\n\nCAR Foundation 5K Overall Results
URL:https://www.racetime.info/event/chicago-realtors-5k-run-walk/
LOCATION:Diversey Harbor\, 2601 N. Cannon Drive\, Chicago\, IL\, 60614\, United States
CATEGORIES:2019-06 Results (June)
ORGANIZER;CN="Brent Dornbos":MAILTO:bdornbos@chicagorealtor.com
END:VEVENT
END:VCALENDAR