BEGIN:VCALENDAR
VERSION:2.0
PRODID:-//Race Time - ECPv6.15.13//NONSGML v1.0//EN
CALSCALE:GREGORIAN
METHOD:PUBLISH
X-ORIGINAL-URL:https://www.racetime.info
X-WR-CALDESC:Events for Race Time
REFRESH-INTERVAL;VALUE=DURATION:PT1H
X-Robots-Tag:noindex
X-PUBLISHED-TTL:PT1H
BEGIN:VTIMEZONE
TZID:America/Chicago
BEGIN:DAYLIGHT
TZOFFSETFROM:-0600
TZOFFSETTO:-0500
TZNAME:CDT
DTSTART:20240310T080000
END:DAYLIGHT
BEGIN:STANDARD
TZOFFSETFROM:-0500
TZOFFSETTO:-0600
TZNAME:CST
DTSTART:20241103T070000
END:STANDARD
BEGIN:DAYLIGHT
TZOFFSETFROM:-0600
TZOFFSETTO:-0500
TZNAME:CDT
DTSTART:20250309T080000
END:DAYLIGHT
BEGIN:STANDARD
TZOFFSETFROM:-0500
TZOFFSETTO:-0600
TZNAME:CST
DTSTART:20251102T070000
END:STANDARD
BEGIN:DAYLIGHT
TZOFFSETFROM:-0600
TZOFFSETTO:-0500
TZNAME:CDT
DTSTART:20260308T080000
END:DAYLIGHT
BEGIN:STANDARD
TZOFFSETFROM:-0500
TZOFFSETTO:-0600
TZNAME:CST
DTSTART:20261101T070000
END:STANDARD
END:VTIMEZONE
BEGIN:VEVENT
DTSTART;TZID=America/Chicago:20250906T091100
DTEND;TZID=America/Chicago:20250906T110000
DTSTAMP:20260423T210741
CREATED:20250819T101410Z
LAST-MODIFIED:20250906T230114Z
UID:10002409-1757149860-1757156400@www.racetime.info
SUMMARY:Travis Manion Heroes 5K * 1 Mile * Ruck Run/Walk
DESCRIPTION:Travis Manion Hero Run 5K Age Group Results\n\nTravis Manion Hero Run 5K Overall Results\n\nTravis Manion Ruck Overall Results
URL:https://www.racetime.info/event/travis-manion-heroes-5k-1-mile-ruck-run-walk/
LOCATION:South Barrington Community Park\, South Barrington\, 60010\, United States
CATEGORIES:2025-09 Results (September)
ORGANIZER;CN="Brandon Tole":MAILTO:brandontole@gmail.com
END:VEVENT
END:VCALENDAR