BEGIN:VCALENDAR
VERSION:2.0
PRODID:-//Race Time - ECPv6.15.13//NONSGML v1.0//EN
CALSCALE:GREGORIAN
METHOD:PUBLISH
X-ORIGINAL-URL:https://www.racetime.info
X-WR-CALDESC:Events for Race Time
REFRESH-INTERVAL;VALUE=DURATION:PT1H
X-Robots-Tag:noindex
X-PUBLISHED-TTL:PT1H
BEGIN:VTIMEZONE
TZID:America/Chicago
BEGIN:DAYLIGHT
TZOFFSETFROM:-0600
TZOFFSETTO:-0500
TZNAME:CDT
DTSTART:20150308T080000
END:DAYLIGHT
BEGIN:STANDARD
TZOFFSETFROM:-0500
TZOFFSETTO:-0600
TZNAME:CST
DTSTART:20151101T070000
END:STANDARD
BEGIN:DAYLIGHT
TZOFFSETFROM:-0600
TZOFFSETTO:-0500
TZNAME:CDT
DTSTART:20160313T080000
END:DAYLIGHT
BEGIN:STANDARD
TZOFFSETFROM:-0500
TZOFFSETTO:-0600
TZNAME:CST
DTSTART:20161106T070000
END:STANDARD
BEGIN:DAYLIGHT
TZOFFSETFROM:-0600
TZOFFSETTO:-0500
TZNAME:CDT
DTSTART:20170312T080000
END:DAYLIGHT
BEGIN:STANDARD
TZOFFSETFROM:-0500
TZOFFSETTO:-0600
TZNAME:CST
DTSTART:20171105T070000
END:STANDARD
BEGIN:DAYLIGHT
TZOFFSETFROM:-0600
TZOFFSETTO:-0500
TZNAME:CDT
DTSTART:20180311T080000
END:DAYLIGHT
BEGIN:STANDARD
TZOFFSETFROM:-0500
TZOFFSETTO:-0600
TZNAME:CST
DTSTART:20181104T070000
END:STANDARD
BEGIN:DAYLIGHT
TZOFFSETFROM:-0600
TZOFFSETTO:-0500
TZNAME:CDT
DTSTART:20190310T080000
END:DAYLIGHT
BEGIN:STANDARD
TZOFFSETFROM:-0500
TZOFFSETTO:-0600
TZNAME:CST
DTSTART:20191103T070000
END:STANDARD
BEGIN:DAYLIGHT
TZOFFSETFROM:-0600
TZOFFSETTO:-0500
TZNAME:CDT
DTSTART:20200308T080000
END:DAYLIGHT
BEGIN:STANDARD
TZOFFSETFROM:-0500
TZOFFSETTO:-0600
TZNAME:CST
DTSTART:20201101T070000
END:STANDARD
BEGIN:DAYLIGHT
TZOFFSETFROM:-0600
TZOFFSETTO:-0500
TZNAME:CDT
DTSTART:20210314T080000
END:DAYLIGHT
BEGIN:STANDARD
TZOFFSETFROM:-0500
TZOFFSETTO:-0600
TZNAME:CST
DTSTART:20211107T070000
END:STANDARD
END:VTIMEZONE
BEGIN:VEVENT
DTSTART;TZID=America/Chicago:20200404T080000
DTEND;TZID=America/Chicago:20200404T100000
DTSTAMP:20260424T024916
CREATED:20170206T053734Z
LAST-MODIFIED:20200317T111754Z
UID:10000944-1585987200-1585994400@www.racetime.info
SUMMARY:Fast & Furriest 5K Run/Walk: CANCELLED
DESCRIPTION:
URL:https://www.racetime.info/event/fast-furriest-5k-run-walk-3/
LOCATION:Indian Valley Vocational Center\, 600 Lions Road\, Sandwich\, IL\, 60548\, United States
ORGANIZER;CN="Bridget Kreiger":MAILTO:bkreiter@kidsroe.org
GEO:41.637407;-88.613423
X-APPLE-STRUCTURED-LOCATION;VALUE=URI;X-ADDRESS=Indian Valley Vocational Center 600 Lions Road Sandwich IL 60548 United States;X-APPLE-RADIUS=500;X-TITLE=600 Lions Road:geo:-88.613423,41.637407
END:VEVENT
BEGIN:VEVENT
DTSTART;TZID=America/Chicago:20190406T080000
DTEND;TZID=America/Chicago:20190406T100000
DTSTAMP:20260424T024916
CREATED:20170206T053734Z
LAST-MODIFIED:20190406T171200Z
UID:10000943-1554537600-1554544800@www.racetime.info
SUMMARY:Fast & Furriest 5K Run/Walk
DESCRIPTION:Fast and Furriest 5K Age Group Results\n\nFast and Furriest 5K Overall Results
URL:https://www.racetime.info/event/fast-furriest-5k-run-walk-2/
LOCATION:Indian Valley Vocational Center\, 600 Lions Road\, Sandwich\, IL\, 60548\, United States
CATEGORIES:2019-04 Results (April)
ORGANIZER;CN="Bridget Kreiger":MAILTO:bkreiter@kidsroe.org
GEO:41.637407;-88.613423
X-APPLE-STRUCTURED-LOCATION;VALUE=URI;X-ADDRESS=Indian Valley Vocational Center 600 Lions Road Sandwich IL 60548 United States;X-APPLE-RADIUS=500;X-TITLE=600 Lions Road:geo:-88.613423,41.637407
END:VEVENT
BEGIN:VEVENT
DTSTART;TZID=America/Chicago:20180407T080000
DTEND;TZID=America/Chicago:20180407T100000
DTSTAMP:20260424T024916
CREATED:20170206T053734Z
LAST-MODIFIED:20180407T193934Z
UID:10000942-1523088000-1523095200@www.racetime.info
SUMMARY:Fast & Furriest 5K Run/Walk
DESCRIPTION:Fast & Furriest 5K Age Group Results\n\nFast & Furriest 5K Overall Results
URL:https://www.racetime.info/event/fast-furriest-5k-run-walk/
LOCATION:Indian Valley Vocational Center\, 600 Lions Road\, Sandwich\, IL\, 60548\, United States
CATEGORIES:2018-04 Results (April)
ORGANIZER;CN="Bridget Kreiger":MAILTO:bkreiter@kidsroe.org
GEO:41.637407;-88.613423
X-APPLE-STRUCTURED-LOCATION;VALUE=URI;X-ADDRESS=Indian Valley Vocational Center 600 Lions Road Sandwich IL 60548 United States;X-APPLE-RADIUS=500;X-TITLE=600 Lions Road:geo:-88.613423,41.637407
END:VEVENT
BEGIN:VEVENT
DTSTART;TZID=America/Chicago:20170408T080000
DTEND;TZID=America/Chicago:20170408T100000
DTSTAMP:20260424T024916
CREATED:20170206T053734Z
LAST-MODIFIED:20170408T174322Z
UID:10000940-1491638400-1491645600@www.racetime.info
SUMMARY:Fast & Furriest 5K Run/Walk
DESCRIPTION:Fast & Furriest 5K Age Group Results\n\nFast & Furriest 5K Overall Results
URL:https://www.racetime.info/event/ivvc-sports-medicine-5k-runwalk/
LOCATION:Indian Valley Vocational Center\, 600 Lions Road\, Sandwich\, IL\, 60548\, United States
CATEGORIES:2017-04 Results (April)
ORGANIZER;CN="Bridget Kreiger":MAILTO:bkreiter@kidsroe.org
GEO:41.637407;-88.613423
X-APPLE-STRUCTURED-LOCATION;VALUE=URI;X-ADDRESS=Indian Valley Vocational Center 600 Lions Road Sandwich IL 60548 United States;X-APPLE-RADIUS=500;X-TITLE=600 Lions Road:geo:-88.613423,41.637407
END:VEVENT
BEGIN:VEVENT
DTSTART;TZID=America/Chicago:20160402T080000
DTEND;TZID=America/Chicago:20160402T100000
DTSTAMP:20260424T024916
CREATED:20160129T025705Z
LAST-MODIFIED:20160402T164108Z
UID:10000523-1459584000-1459591200@www.racetime.info
SUMMARY:IVVC HERO 5K RUN/WALK
DESCRIPTION:IVVC Hero 5K Age Group Results\n\nIVVC Hero 5K Overall Results
URL:https://www.racetime.info/event/ivvc-hero-5k-runwalk/
LOCATION:Indian Valley Vocational Center\, 600 Lions Road\, Sandwich\, IL\, 60548\, United States
CATEGORIES:2016-04 Results (April)
ORGANIZER;CN="Bridget Kreiger":MAILTO:bkreiter@kidsroe.org
GEO:41.637407;-88.613423
X-APPLE-STRUCTURED-LOCATION;VALUE=URI;X-ADDRESS=Indian Valley Vocational Center 600 Lions Road Sandwich IL 60548 United States;X-APPLE-RADIUS=500;X-TITLE=600 Lions Road:geo:-88.613423,41.637407
END:VEVENT
END:VCALENDAR