BEGIN:VCALENDAR
VERSION:2.0
PRODID:-//Race Time - ECPv6.15.13//NONSGML v1.0//EN
CALSCALE:GREGORIAN
METHOD:PUBLISH
X-WR-CALNAME:Race Time
X-ORIGINAL-URL:https://www.racetime.info
X-WR-CALDESC:Events for Race Time
REFRESH-INTERVAL;VALUE=DURATION:PT1H
X-Robots-Tag:noindex
X-PUBLISHED-TTL:PT1H
BEGIN:VTIMEZONE
TZID:America/Chicago
BEGIN:DAYLIGHT
TZOFFSETFROM:-0600
TZOFFSETTO:-0500
TZNAME:CDT
DTSTART:20220313T080000
END:DAYLIGHT
BEGIN:STANDARD
TZOFFSETFROM:-0500
TZOFFSETTO:-0600
TZNAME:CST
DTSTART:20221106T070000
END:STANDARD
BEGIN:DAYLIGHT
TZOFFSETFROM:-0600
TZOFFSETTO:-0500
TZNAME:CDT
DTSTART:20230312T080000
END:DAYLIGHT
BEGIN:STANDARD
TZOFFSETFROM:-0500
TZOFFSETTO:-0600
TZNAME:CST
DTSTART:20231105T070000
END:STANDARD
BEGIN:DAYLIGHT
TZOFFSETFROM:-0600
TZOFFSETTO:-0500
TZNAME:CDT
DTSTART:20240310T080000
END:DAYLIGHT
BEGIN:STANDARD
TZOFFSETFROM:-0500
TZOFFSETTO:-0600
TZNAME:CST
DTSTART:20241103T070000
END:STANDARD
END:VTIMEZONE
BEGIN:VEVENT
DTSTART;TZID=America/Chicago:20230506T080000
DTEND;TZID=America/Chicago:20230506T093000
DTSTAMP:20260424T024443
CREATED:20230321T110012Z
LAST-MODIFIED:20230506T162654Z
UID:10001342-1683360000-1683365400@www.racetime.info
SUMMARY:St. Vincent Ferrer Derby Dash 5K & 1 Mile Run/Walk
DESCRIPTION:SVF Derby Dash 1 Mile Results\n\nSVF Derby Dash 5K Age Group Results\n\nSVF Derby Dash 5K Overall Results
URL:https://www.racetime.info/event/st-vincent-ferrer-derby-dash-5k-1-mile-run-walk/
LOCATION:St. Vincent Ferrer Parish School\, 1515 N. Lathrop\, River Forest\, IL\, 60305\, United States
CATEGORIES:2023-05 Results (May)
ORGANIZER;CN="Cailey Mazur":MAILTO:svf5k@svfschool.org
GEO:41.9073627;-87.8148828
X-APPLE-STRUCTURED-LOCATION;VALUE=URI;X-ADDRESS=St. Vincent Ferrer Parish School 1515 N. Lathrop River Forest IL 60305 United States;X-APPLE-RADIUS=500;X-TITLE=1515 N. Lathrop:geo:-87.8148828,41.9073627
END:VEVENT
END:VCALENDAR