BEGIN:VCALENDAR
VERSION:2.0
PRODID:-//Race Time - ECPv6.15.13//NONSGML v1.0//EN
CALSCALE:GREGORIAN
METHOD:PUBLISH
X-WR-CALNAME:Race Time
X-ORIGINAL-URL:https://www.racetime.info
X-WR-CALDESC:Events for Race Time
REFRESH-INTERVAL;VALUE=DURATION:PT1H
X-Robots-Tag:noindex
X-PUBLISHED-TTL:PT1H
BEGIN:VTIMEZONE
TZID:America/Chicago
BEGIN:DAYLIGHT
TZOFFSETFROM:-0600
TZOFFSETTO:-0500
TZNAME:CDT
DTSTART:20200308T080000
END:DAYLIGHT
BEGIN:STANDARD
TZOFFSETFROM:-0500
TZOFFSETTO:-0600
TZNAME:CST
DTSTART:20201101T070000
END:STANDARD
BEGIN:DAYLIGHT
TZOFFSETFROM:-0600
TZOFFSETTO:-0500
TZNAME:CDT
DTSTART:20210314T080000
END:DAYLIGHT
BEGIN:STANDARD
TZOFFSETFROM:-0500
TZOFFSETTO:-0600
TZNAME:CST
DTSTART:20211107T070000
END:STANDARD
BEGIN:DAYLIGHT
TZOFFSETFROM:-0600
TZOFFSETTO:-0500
TZNAME:CDT
DTSTART:20220313T080000
END:DAYLIGHT
BEGIN:STANDARD
TZOFFSETFROM:-0500
TZOFFSETTO:-0600
TZNAME:CST
DTSTART:20221106T070000
END:STANDARD
BEGIN:DAYLIGHT
TZOFFSETFROM:-0600
TZOFFSETTO:-0500
TZNAME:CDT
DTSTART:20230312T080000
END:DAYLIGHT
BEGIN:STANDARD
TZOFFSETFROM:-0500
TZOFFSETTO:-0600
TZNAME:CST
DTSTART:20231105T070000
END:STANDARD
BEGIN:DAYLIGHT
TZOFFSETFROM:-0600
TZOFFSETTO:-0500
TZNAME:CDT
DTSTART:20240310T080000
END:DAYLIGHT
BEGIN:STANDARD
TZOFFSETFROM:-0500
TZOFFSETTO:-0600
TZNAME:CST
DTSTART:20241103T070000
END:STANDARD
BEGIN:DAYLIGHT
TZOFFSETFROM:-0600
TZOFFSETTO:-0500
TZNAME:CDT
DTSTART:20250309T080000
END:DAYLIGHT
BEGIN:STANDARD
TZOFFSETFROM:-0500
TZOFFSETTO:-0600
TZNAME:CST
DTSTART:20251102T070000
END:STANDARD
BEGIN:DAYLIGHT
TZOFFSETFROM:-0600
TZOFFSETTO:-0500
TZNAME:CDT
DTSTART:20260308T080000
END:DAYLIGHT
BEGIN:STANDARD
TZOFFSETFROM:-0500
TZOFFSETTO:-0600
TZNAME:CST
DTSTART:20261101T070000
END:STANDARD
END:VTIMEZONE
BEGIN:VEVENT
DTSTART;TZID=America/Chicago:20250704T073000
DTEND;TZID=America/Chicago:20250705T090000
DTSTAMP:20260423T181503
CREATED:20250623T122525Z
LAST-MODIFIED:20250718T120837Z
UID:10002372-1751614200-1751706000@www.racetime.info
SUMMARY:Liberty Loop 5K Run/Walk
DESCRIPTION:Liberty Loop 5K Age Group Results\n\nLiberty Loop 5K Overall Results
URL:https://www.racetime.info/event/liberty-loop-5k-run-walk-5/
LOCATION:Techny Prairie Activity Center\, 180 Anets Drive\, Northbrook\, IL\, 60062\, United States
CATEGORIES:2025-07 Results (July)
ORGANIZER;CN="Isaac Urow":MAILTO:iurow@nbparks.org
GEO:42.1275267;-87.8289548
X-APPLE-STRUCTURED-LOCATION;VALUE=URI;X-ADDRESS=Techny Prairie Activity Center 180 Anets Drive Northbrook IL 60062 United States;X-APPLE-RADIUS=500;X-TITLE=180 Anets Drive:geo:-87.8289548,42.1275267
END:VEVENT
BEGIN:VEVENT
DTSTART;TZID=America/Chicago:20240704T073000
DTEND;TZID=America/Chicago:20240705T090000
DTSTAMP:20260423T181503
CREATED:20170613T174104Z
LAST-MODIFIED:20240705T201927Z
UID:10000649-1720078200-1720170000@www.racetime.info
SUMMARY:Liberty Loop 5K Run/Walk
DESCRIPTION:Liberty Loop 5K Age Group Results\n\nLiberty Loop 5K Overall Results
URL:https://www.racetime.info/event/copy-of-liberty-loop-5k-run-walk-3/
LOCATION:Techny Prairie Activity Center\, 180 Anets Drive\, Northbrook\, IL\, 60062\, United States
CATEGORIES:2024-07 Results (July)
ORGANIZER;CN="Isaac Urow":MAILTO:iurow@nbparks.org
GEO:42.1275267;-87.8289548
X-APPLE-STRUCTURED-LOCATION;VALUE=URI;X-ADDRESS=Techny Prairie Activity Center 180 Anets Drive Northbrook IL 60062 United States;X-APPLE-RADIUS=500;X-TITLE=180 Anets Drive:geo:-87.8289548,42.1275267
END:VEVENT
BEGIN:VEVENT
DTSTART;TZID=America/Chicago:20230701T073000
DTEND;TZID=America/Chicago:20230701T090000
DTSTAMP:20260423T181503
CREATED:20170613T174104Z
LAST-MODIFIED:20230701T163842Z
UID:10000648-1688196600-1688202000@www.racetime.info
SUMMARY:Liberty Loop 5K Run/Walk
DESCRIPTION:Liberty Loop 5K Age Group Results\n\nLiberty Loop 5K Overall Results
URL:https://www.racetime.info/event/copy-of-liberty-loop-5k-run-walk-2/
LOCATION:Techny Prairie Activity Center\, 180 Anets Drive\, Northbrook\, IL\, 60062\, United States
CATEGORIES:2023-07 Results (July)
ORGANIZER;CN="Isaac Urow":MAILTO:iurow@nbparks.org
GEO:42.1275267;-87.8289548
X-APPLE-STRUCTURED-LOCATION;VALUE=URI;X-ADDRESS=Techny Prairie Activity Center 180 Anets Drive Northbrook IL 60062 United States;X-APPLE-RADIUS=500;X-TITLE=180 Anets Drive:geo:-87.8289548,42.1275267
END:VEVENT
BEGIN:VEVENT
DTSTART;TZID=America/Chicago:20220704T073000
DTEND;TZID=America/Chicago:20220704T090000
DTSTAMP:20260423T181503
CREATED:20170613T174104Z
LAST-MODIFIED:20220704T164356Z
UID:10000646-1656919800-1656925200@www.racetime.info
SUMMARY:Liberty Loop 5K Run/Walk
DESCRIPTION:Liberty Loop 5K Age Group Results\n\nLiberty Loop 5K Overall Results
URL:https://www.racetime.info/event/copy-of-liberty-loop-5k-run-walk/
LOCATION:Techny Prairie Activity Center\, 180 Anets Drive\, Northbrook\, IL\, 60062\, United States
CATEGORIES:2022-07 Results (July)
ORGANIZER;CN="Isaac Urow":MAILTO:iurow@nbparks.org
GEO:42.1275267;-87.8289548
X-APPLE-STRUCTURED-LOCATION;VALUE=URI;X-ADDRESS=Techny Prairie Activity Center 180 Anets Drive Northbrook IL 60062 United States;X-APPLE-RADIUS=500;X-TITLE=180 Anets Drive:geo:-87.8289548,42.1275267
END:VEVENT
BEGIN:VEVENT
DTSTART;TZID=America/Chicago:20210703T073000
DTEND;TZID=America/Chicago:20210703T170000
DTSTAMP:20260423T181503
CREATED:20170613T174104Z
LAST-MODIFIED:20210715T223204Z
UID:10000644-1625297400-1625331600@www.racetime.info
SUMMARY:Liberty Loop 5K Run/Walk
DESCRIPTION:Liberty Loop 5K Age Group Results\n\nLiberty Loop 5K Overall Results
URL:https://www.racetime.info/event/liberty-loop-5k-run-walk-4/
LOCATION:Techny Prairie Activity Center\, 180 Anets Drive\, Northbrook\, IL\, 60062\, United States
CATEGORIES:2021-07 Results (July)
ORGANIZER;CN="Isaac Urow":MAILTO:iurow@nbparks.org
GEO:42.1275267;-87.8289548
X-APPLE-STRUCTURED-LOCATION;VALUE=URI;X-ADDRESS=Techny Prairie Activity Center 180 Anets Drive Northbrook IL 60062 United States;X-APPLE-RADIUS=500;X-TITLE=180 Anets Drive:geo:-87.8289548,42.1275267
END:VEVENT
END:VCALENDAR