BEGIN:VCALENDAR
VERSION:2.0
PRODID:-//Race Time - ECPv6.15.13//NONSGML v1.0//EN
CALSCALE:GREGORIAN
METHOD:PUBLISH
X-WR-CALNAME:Race Time
X-ORIGINAL-URL:https://www.racetime.info
X-WR-CALDESC:Events for Race Time
REFRESH-INTERVAL;VALUE=DURATION:PT1H
X-Robots-Tag:noindex
X-PUBLISHED-TTL:PT1H
BEGIN:VTIMEZONE
TZID:America/Chicago
BEGIN:DAYLIGHT
TZOFFSETFROM:-0600
TZOFFSETTO:-0500
TZNAME:CDT
DTSTART:20160313T080000
END:DAYLIGHT
BEGIN:STANDARD
TZOFFSETFROM:-0500
TZOFFSETTO:-0600
TZNAME:CST
DTSTART:20161106T070000
END:STANDARD
BEGIN:DAYLIGHT
TZOFFSETFROM:-0600
TZOFFSETTO:-0500
TZNAME:CDT
DTSTART:20170312T080000
END:DAYLIGHT
BEGIN:STANDARD
TZOFFSETFROM:-0500
TZOFFSETTO:-0600
TZNAME:CST
DTSTART:20171105T070000
END:STANDARD
BEGIN:DAYLIGHT
TZOFFSETFROM:-0600
TZOFFSETTO:-0500
TZNAME:CDT
DTSTART:20180311T080000
END:DAYLIGHT
BEGIN:STANDARD
TZOFFSETFROM:-0500
TZOFFSETTO:-0600
TZNAME:CST
DTSTART:20181104T070000
END:STANDARD
BEGIN:DAYLIGHT
TZOFFSETFROM:-0600
TZOFFSETTO:-0500
TZNAME:CDT
DTSTART:20190310T080000
END:DAYLIGHT
BEGIN:STANDARD
TZOFFSETFROM:-0500
TZOFFSETTO:-0600
TZNAME:CST
DTSTART:20191103T070000
END:STANDARD
BEGIN:DAYLIGHT
TZOFFSETFROM:-0600
TZOFFSETTO:-0500
TZNAME:CDT
DTSTART:20200308T080000
END:DAYLIGHT
BEGIN:STANDARD
TZOFFSETFROM:-0500
TZOFFSETTO:-0600
TZNAME:CST
DTSTART:20201101T070000
END:STANDARD
BEGIN:DAYLIGHT
TZOFFSETFROM:-0600
TZOFFSETTO:-0500
TZNAME:CDT
DTSTART:20210314T080000
END:DAYLIGHT
BEGIN:STANDARD
TZOFFSETFROM:-0500
TZOFFSETTO:-0600
TZNAME:CST
DTSTART:20211107T070000
END:STANDARD
END:VTIMEZONE
BEGIN:VEVENT
DTSTART;TZID=America/Chicago:20200425T160000
DTEND;TZID=America/Chicago:20200425T190000
DTSTAMP:20260424T013450
CREATED:20170214T192039Z
LAST-MODIFIED:20200418T135723Z
UID:10000405-1587830400-1587841200@www.racetime.info
SUMMARY:Saw Wee Kee Spring Trail Run 5K: RESCHEDULED - DATE TBD
DESCRIPTION:
URL:https://www.racetime.info/event/saw-wee-kee-spring-trail-run-5k-4/
LOCATION:Saw Wee Kee Park\, 7100 Sundown Lane\, Yorkville\, IL\, 60560\, United States
ORGANIZER;CN="Zack Donati":MAILTO:zdonati@oswegolandpd.org
GEO:41.6669959;-88.4011599
X-APPLE-STRUCTURED-LOCATION;VALUE=URI;X-ADDRESS=Saw Wee Kee Park 7100 Sundown Lane Yorkville IL 60560 United States;X-APPLE-RADIUS=500;X-TITLE=7100 Sundown Lane:geo:-88.4011599,41.6669959
END:VEVENT
BEGIN:VEVENT
DTSTART;TZID=America/Chicago:20190413T160000
DTEND;TZID=America/Chicago:20190413T190000
DTSTAMP:20260424T013450
CREATED:20170214T192039Z
LAST-MODIFIED:20190416T003920Z
UID:10000404-1555171200-1555182000@www.racetime.info
SUMMARY:Saw Wee Kee Spring Trail Run 5K
DESCRIPTION:Saw Wee Kee Trail 5K Overall Results
URL:https://www.racetime.info/event/saw-wee-kee-spring-trail-run-5k-3/
LOCATION:Saw Wee Kee Park\, 7100 Sundown Lane\, Yorkville\, IL\, 60560\, United States
CATEGORIES:2019-04 Results (April)
ORGANIZER;CN="Zack Donati":MAILTO:zdonati@oswegolandpd.org
GEO:41.6669959;-88.4011599
X-APPLE-STRUCTURED-LOCATION;VALUE=URI;X-ADDRESS=Saw Wee Kee Park 7100 Sundown Lane Yorkville IL 60560 United States;X-APPLE-RADIUS=500;X-TITLE=7100 Sundown Lane:geo:-88.4011599,41.6669959
END:VEVENT
BEGIN:VEVENT
DTSTART;TZID=America/Chicago:20180414T160000
DTEND;TZID=America/Chicago:20180414T190000
DTSTAMP:20260424T013450
CREATED:20170214T192039Z
LAST-MODIFIED:20180416T003232Z
UID:10000402-1523721600-1523732400@www.racetime.info
SUMMARY:Saw Wee Kee Spring Trail Run 5K
DESCRIPTION:Saw Wee Kee Trail 5K Overall Results
URL:https://www.racetime.info/event/saw-wee-kee-spring-trail-run-5k-2/
LOCATION:Saw Wee Kee Park\, 7100 Sundown Lane\, Yorkville\, IL\, 60560\, United States
CATEGORIES:2018-04 Results (April)
ORGANIZER;CN="Zack Donati":MAILTO:zdonati@oswegolandpd.org
GEO:41.6669959;-88.4011599
X-APPLE-STRUCTURED-LOCATION;VALUE=URI;X-ADDRESS=Saw Wee Kee Park 7100 Sundown Lane Yorkville IL 60560 United States;X-APPLE-RADIUS=500;X-TITLE=7100 Sundown Lane:geo:-88.4011599,41.6669959
END:VEVENT
BEGIN:VEVENT
DTSTART;TZID=America/Chicago:20170924T110000
DTEND;TZID=America/Chicago:20170924T140000
DTSTAMP:20260424T013450
CREATED:20170727T115040Z
LAST-MODIFIED:20170926T211422Z
UID:10000730-1506250800-1506261600@www.racetime.info
SUMMARY:Oswego Youth Triathlon
DESCRIPTION:Oswego Youth Tri Team Results\n\nOswego Youth Tri Individual Results
URL:https://www.racetime.info/event/kids-triathlon/
LOCATION:Oswego East High School\, 1525 Harvey Road\, Oswego\, IL\, 60543\, United States
CATEGORIES:2017-09 Results (September)
ORGANIZER;CN="Zack Donati":MAILTO:zdonati@oswegolandpd.org
GEO:41.6995606;-88.2806611
X-APPLE-STRUCTURED-LOCATION;VALUE=URI;X-ADDRESS=Oswego East High School 1525 Harvey Road Oswego IL 60543 United States;X-APPLE-RADIUS=500;X-TITLE=1525 Harvey Road:geo:-88.2806611,41.6995606
END:VEVENT
BEGIN:VEVENT
DTSTART;TZID=America/Chicago:20170806T080000
DTEND;TZID=America/Chicago:20170806T100000
DTSTAMP:20260424T013450
CREATED:20170621T203157Z
LAST-MODIFIED:20170806T170833Z
UID:10001495-1502006400-1502013600@www.racetime.info
SUMMARY:I Tried a Tri Sprint Triathlon
DESCRIPTION:I Tried A Tri Sprint Triathlon Age Group Results\n\nI Tried A Tri Sprint Triathlon Overall Results
URL:https://www.racetime.info/event/i-tried-a-tri-2017/
LOCATION:Oswegoland Park District Civic Center\, 5 Ashlawn Avenue\, Montgomery\, IL\, 60538\, United States
CATEGORIES:2017-08 Results (August)
ORGANIZER;CN="Zack Donati":MAILTO:zdonati@oswegolandpd.org
GEO:41.702849;-88.3445277
X-APPLE-STRUCTURED-LOCATION;VALUE=URI;X-ADDRESS=Oswegoland Park District Civic Center 5 Ashlawn Avenue Montgomery IL 60538 United States;X-APPLE-RADIUS=500;X-TITLE=5 Ashlawn Avenue:geo:-88.3445277,41.702849
END:VEVENT
BEGIN:VEVENT
DTSTART;TZID=America/Chicago:20170415T160000
DTEND;TZID=America/Chicago:20170415T190000
DTSTAMP:20260424T013450
CREATED:20170214T192039Z
LAST-MODIFIED:20170416T002056Z
UID:10000416-1492272000-1492282800@www.racetime.info
SUMMARY:Saw Wee Kee Spring Trail Run 5K
DESCRIPTION:Saw Wee Kee Trail Run Overall By Gender\n\nSaw Wee Kee Trail Run Overall
URL:https://www.racetime.info/event/saw-wee-kee-spring-trail-run-5k/
LOCATION:Saw Wee Kee Park\, 7100 Sundown Lane\, Yorkville\, IL\, 60560\, United States
CATEGORIES:2017-04 Results (April)
ORGANIZER;CN="Zack Donati":MAILTO:zdonati@oswegolandpd.org
GEO:41.6669959;-88.4011599
X-APPLE-STRUCTURED-LOCATION;VALUE=URI;X-ADDRESS=Saw Wee Kee Park 7100 Sundown Lane Yorkville IL 60560 United States;X-APPLE-RADIUS=500;X-TITLE=7100 Sundown Lane:geo:-88.4011599,41.6669959
END:VEVENT
END:VCALENDAR