BEGIN:VCALENDAR
VERSION:2.0
PRODID:-//Race Time - ECPv6.15.13//NONSGML v1.0//EN
CALSCALE:GREGORIAN
METHOD:PUBLISH
X-ORIGINAL-URL:https://www.racetime.info
X-WR-CALDESC:Events for Race Time
REFRESH-INTERVAL;VALUE=DURATION:PT1H
X-Robots-Tag:noindex
X-PUBLISHED-TTL:PT1H
BEGIN:VTIMEZONE
TZID:America/Chicago
BEGIN:DAYLIGHT
TZOFFSETFROM:-0600
TZOFFSETTO:-0500
TZNAME:CDT
DTSTART:20250309T080000
END:DAYLIGHT
BEGIN:STANDARD
TZOFFSETFROM:-0500
TZOFFSETTO:-0600
TZNAME:CST
DTSTART:20251102T070000
END:STANDARD
BEGIN:DAYLIGHT
TZOFFSETFROM:-0600
TZOFFSETTO:-0500
TZNAME:CDT
DTSTART:20260308T080000
END:DAYLIGHT
BEGIN:STANDARD
TZOFFSETFROM:-0500
TZOFFSETTO:-0600
TZNAME:CST
DTSTART:20261101T070000
END:STANDARD
BEGIN:DAYLIGHT
TZOFFSETFROM:-0600
TZOFFSETTO:-0500
TZNAME:CDT
DTSTART:20270314T080000
END:DAYLIGHT
BEGIN:STANDARD
TZOFFSETFROM:-0500
TZOFFSETTO:-0600
TZNAME:CST
DTSTART:20271107T070000
END:STANDARD
END:VTIMEZONE
BEGIN:VEVENT
DTSTART;TZID=America/Chicago:20260613T210000
DTEND;TZID=America/Chicago:20260613T220000
DTSTAMP:20260423T193535
CREATED:20260327T122006Z
LAST-MODIFIED:20260327T122006Z
UID:10002545-1781384400-1781388000@www.racetime.info
SUMMARY:Red White and Glow 5K Run/Walk * 1.5 Mile Walk (Evening Race)
DESCRIPTION:
URL:https://www.racetime.info/event/red-white-and-glow-5k-run-walk-1-5-mile-walk-evening-race/
LOCATION:The Oaks at River’s Edge\, 429 S. Elks Club Road\, Pontiac\, IL\, 61764\, United States
ORGANIZER;CN="Carrie Lueker":MAILTO:cschmidt52@hotmail.com
END:VEVENT
END:VCALENDAR