BEGIN:VCALENDAR
VERSION:2.0
PRODID:-//Race Time - ECPv6.15.13//NONSGML v1.0//EN
CALSCALE:GREGORIAN
METHOD:PUBLISH
X-ORIGINAL-URL:https://www.racetime.info
X-WR-CALDESC:Events for Race Time
REFRESH-INTERVAL;VALUE=DURATION:PT1H
X-Robots-Tag:noindex
X-PUBLISHED-TTL:PT1H
BEGIN:VTIMEZONE
TZID:America/Chicago
BEGIN:DAYLIGHT
TZOFFSETFROM:-0600
TZOFFSETTO:-0500
TZNAME:CDT
DTSTART:20150308T080000
END:DAYLIGHT
BEGIN:STANDARD
TZOFFSETFROM:-0500
TZOFFSETTO:-0600
TZNAME:CST
DTSTART:20151101T070000
END:STANDARD
BEGIN:DAYLIGHT
TZOFFSETFROM:-0600
TZOFFSETTO:-0500
TZNAME:CDT
DTSTART:20160313T080000
END:DAYLIGHT
BEGIN:STANDARD
TZOFFSETFROM:-0500
TZOFFSETTO:-0600
TZNAME:CST
DTSTART:20161106T070000
END:STANDARD
BEGIN:DAYLIGHT
TZOFFSETFROM:-0600
TZOFFSETTO:-0500
TZNAME:CDT
DTSTART:20170312T080000
END:DAYLIGHT
BEGIN:STANDARD
TZOFFSETFROM:-0500
TZOFFSETTO:-0600
TZNAME:CST
DTSTART:20171105T070000
END:STANDARD
BEGIN:DAYLIGHT
TZOFFSETFROM:-0600
TZOFFSETTO:-0500
TZNAME:CDT
DTSTART:20180311T080000
END:DAYLIGHT
BEGIN:STANDARD
TZOFFSETFROM:-0500
TZOFFSETTO:-0600
TZNAME:CST
DTSTART:20181104T070000
END:STANDARD
BEGIN:DAYLIGHT
TZOFFSETFROM:-0600
TZOFFSETTO:-0500
TZNAME:CDT
DTSTART:20190310T080000
END:DAYLIGHT
BEGIN:STANDARD
TZOFFSETFROM:-0500
TZOFFSETTO:-0600
TZNAME:CST
DTSTART:20191103T070000
END:STANDARD
BEGIN:DAYLIGHT
TZOFFSETFROM:-0600
TZOFFSETTO:-0500
TZNAME:CDT
DTSTART:20200308T080000
END:DAYLIGHT
BEGIN:STANDARD
TZOFFSETFROM:-0500
TZOFFSETTO:-0600
TZNAME:CST
DTSTART:20201101T070000
END:STANDARD
END:VTIMEZONE
BEGIN:VEVENT
DTSTART;TZID=America/Chicago:20190825T080000
DTEND;TZID=America/Chicago:20190825T100000
DTSTAMP:20260424T012846
CREATED:20170723T102042Z
LAST-MODIFIED:20190825T175504Z
UID:10001549-1566720000-1566727200@www.racetime.info
SUMMARY:Lions Day Dash: 10K Run\, 5K Run/Walk & Kids Dash!
DESCRIPTION:Lions Day Dash 5K Age Group Results\n\nLions Day Dash 5K Overall Results\n\nLions Day Dash 10K Age Group Results\n\nLions Day Dash 10K Overall Results
URL:https://www.racetime.info/event/lions-day-dash-10k-run-5k-run-walk-kids-dash-2/
LOCATION:James “Pate” Phillips State Park (Bartlett Nature Center\, 2050 W. Stearns Road\, Bartlett\, IL\, 60103\, United States
CATEGORIES:2019-08 Results (August)
ORGANIZER;CN="Carrie Sypherd":MAILTO:carrie@sypherd.com
GEO:41.9772137;-88.2551583
X-APPLE-STRUCTURED-LOCATION;VALUE=URI;X-ADDRESS=James “Pate” Phillips State Park (Bartlett Nature Center 2050 W. Stearns Road Bartlett IL 60103 United States;X-APPLE-RADIUS=500;X-TITLE=2050 W. Stearns Road:geo:-88.2551583,41.9772137
END:VEVENT
BEGIN:VEVENT
DTSTART;TZID=America/Chicago:20180826T080000
DTEND;TZID=America/Chicago:20180826T100000
DTSTAMP:20260424T012846
CREATED:20170723T102042Z
LAST-MODIFIED:20180826T182016Z
UID:10001548-1535270400-1535277600@www.racetime.info
SUMMARY:Lions Day Dash: 10K Run\, 5K Run/Walk & Kids Dash!
DESCRIPTION:Lions Day Dash 5K Age Group Results\n\nLions Day Dash 5K Overall Results\n\nLions Day Dash 10K Age Group Results\n\nLions Day Dash 10K Overall Results
URL:https://www.racetime.info/event/lions-day-dash-10k-run-5k-run-walk-kids-dash/
LOCATION:Bartlett Town Square\, Main Street and Railroad Avenue\, Bartlett\, IL\, 60103\, United States
CATEGORIES:2018-08 Results (August)
ORGANIZER;CN="Carrie Sypherd":MAILTO:carrie@sypherd.com
GEO:41.9921354;-88.1845552
X-APPLE-STRUCTURED-LOCATION;VALUE=URI;X-ADDRESS=Bartlett Town Square Main Street and Railroad Avenue Bartlett IL 60103 United States;X-APPLE-RADIUS=500;X-TITLE=Main Street and Railroad Avenue:geo:-88.1845552,41.9921354
END:VEVENT
BEGIN:VEVENT
DTSTART;TZID=America/Chicago:20170910T080000
DTEND;TZID=America/Chicago:20170910T100000
DTSTAMP:20260424T012846
CREATED:20170723T102042Z
LAST-MODIFIED:20170910T194415Z
UID:10001547-1505030400-1505037600@www.racetime.info
SUMMARY:Lions Day Dash: 10K Run\, 5K Run/Walk & Kids Dash!
DESCRIPTION:Lions Day Dash 5K Age Group Results\n\nLions Day Dash 5K Overall Results\n\nLions Day Dash 10K Age Group Results\n\nLions Day Dash 10K Overall Results
URL:https://www.racetime.info/event/lions-day-dash-10k-run-5k-runwalk-kids-dash/
LOCATION:Bartlett Town Square\, Main Street and Railroad Avenue\, Bartlett\, IL\, 60103\, United States
CATEGORIES:2017-09 Results (September)
ORGANIZER;CN="Carrie Sypherd":MAILTO:carrie@sypherd.com
GEO:41.9921354;-88.1845552
X-APPLE-STRUCTURED-LOCATION;VALUE=URI;X-ADDRESS=Bartlett Town Square Main Street and Railroad Avenue Bartlett IL 60103 United States;X-APPLE-RADIUS=500;X-TITLE=Main Street and Railroad Avenue:geo:-88.1845552,41.9921354
END:VEVENT
BEGIN:VEVENT
DTSTART;TZID=America/Chicago:20160911T080000
DTEND;TZID=America/Chicago:20160911T110000
DTSTAMP:20260424T012846
CREATED:20160223T021738Z
LAST-MODIFIED:20160917T045704Z
UID:10000198-1473580800-1473591600@www.racetime.info
SUMMARY:Bartlett Lions Day Dash 5K\, 10K & Youth Dash
DESCRIPTION:Bartlett Lions Day Dash 5K Age Group Results\n\nBartlett Lions Day Dash 5K Overall Results\n\nBartlett Lions Day Dash 10K Age Group Results\n\nBartlett Lions Day Dash 10K Overall Results
URL:https://www.racetime.info/event/lions-day-dash-5k-10k-youth-dash/
LOCATION:Bartlett Town Square\, Main Street and Railroad Avenue\, Bartlett\, IL\, 60103\, United States
CATEGORIES:2016-09 Results (September)
ORGANIZER;CN="Carrie Sypherd":MAILTO:carrie@sypherd.com
GEO:41.9921354;-88.1845552
X-APPLE-STRUCTURED-LOCATION;VALUE=URI;X-ADDRESS=Bartlett Town Square Main Street and Railroad Avenue Bartlett IL 60103 United States;X-APPLE-RADIUS=500;X-TITLE=Main Street and Railroad Avenue:geo:-88.1845552,41.9921354
END:VEVENT
END:VCALENDAR