BEGIN:VCALENDAR
VERSION:2.0
PRODID:-//Race Time - ECPv6.15.13//NONSGML v1.0//EN
CALSCALE:GREGORIAN
METHOD:PUBLISH
X-WR-CALNAME:Race Time
X-ORIGINAL-URL:https://www.racetime.info
X-WR-CALDESC:Events for Race Time
REFRESH-INTERVAL;VALUE=DURATION:PT1H
X-Robots-Tag:noindex
X-PUBLISHED-TTL:PT1H
BEGIN:VTIMEZONE
TZID:America/Chicago
BEGIN:DAYLIGHT
TZOFFSETFROM:-0600
TZOFFSETTO:-0500
TZNAME:CDT
DTSTART:20200308T080000
END:DAYLIGHT
BEGIN:STANDARD
TZOFFSETFROM:-0500
TZOFFSETTO:-0600
TZNAME:CST
DTSTART:20201101T070000
END:STANDARD
BEGIN:DAYLIGHT
TZOFFSETFROM:-0600
TZOFFSETTO:-0500
TZNAME:CDT
DTSTART:20210314T080000
END:DAYLIGHT
BEGIN:STANDARD
TZOFFSETFROM:-0500
TZOFFSETTO:-0600
TZNAME:CST
DTSTART:20211107T070000
END:STANDARD
BEGIN:DAYLIGHT
TZOFFSETFROM:-0600
TZOFFSETTO:-0500
TZNAME:CDT
DTSTART:20220313T080000
END:DAYLIGHT
BEGIN:STANDARD
TZOFFSETFROM:-0500
TZOFFSETTO:-0600
TZNAME:CST
DTSTART:20221106T070000
END:STANDARD
END:VTIMEZONE
BEGIN:VEVENT
DTSTART;TZID=America/Chicago:20210814T180000
DTEND;TZID=America/Chicago:20210814T193000
DTSTAMP:20260424T011629
CREATED:20210815T035503Z
LAST-MODIFIED:20210815T035503Z
UID:10001179-1628964000-1628969400@www.racetime.info
SUMMARY:Gravity Hill 5K & 1 Mile Run/Walk
DESCRIPTION:Gravity Hill 1 Mile Overall Results\n\nGravity Hill 5K Age Group Results\n\nGravity Hill 5K Overall Results
URL:https://www.racetime.info/event/gravity-hill-5k-1-mile-run-walk/
LOCATION:Badger Park\, 279 Esty Street\, Shullsberg\, WI\, United States
CATEGORIES:2021-08 Results (August)
ORGANIZER;CN="Cassidy Reilly":MAILTO:cjreilly28#gmail.com
END:VEVENT
END:VCALENDAR