BEGIN:VCALENDAR
VERSION:2.0
PRODID:-//Race Time - ECPv6.15.13//NONSGML v1.0//EN
CALSCALE:GREGORIAN
METHOD:PUBLISH
X-WR-CALNAME:Race Time
X-ORIGINAL-URL:https://www.racetime.info
X-WR-CALDESC:Events for Race Time
REFRESH-INTERVAL;VALUE=DURATION:PT1H
X-Robots-Tag:noindex
X-PUBLISHED-TTL:PT1H
BEGIN:VTIMEZONE
TZID:America/Chicago
BEGIN:DAYLIGHT
TZOFFSETFROM:-0600
TZOFFSETTO:-0500
TZNAME:CDT
DTSTART:20140309T080000
END:DAYLIGHT
BEGIN:STANDARD
TZOFFSETFROM:-0500
TZOFFSETTO:-0600
TZNAME:CST
DTSTART:20141102T070000
END:STANDARD
BEGIN:DAYLIGHT
TZOFFSETFROM:-0600
TZOFFSETTO:-0500
TZNAME:CDT
DTSTART:20150308T080000
END:DAYLIGHT
BEGIN:STANDARD
TZOFFSETFROM:-0500
TZOFFSETTO:-0600
TZNAME:CST
DTSTART:20151101T070000
END:STANDARD
BEGIN:DAYLIGHT
TZOFFSETFROM:-0600
TZOFFSETTO:-0500
TZNAME:CDT
DTSTART:20160313T080000
END:DAYLIGHT
BEGIN:STANDARD
TZOFFSETFROM:-0500
TZOFFSETTO:-0600
TZNAME:CST
DTSTART:20161106T070000
END:STANDARD
BEGIN:DAYLIGHT
TZOFFSETFROM:-0600
TZOFFSETTO:-0500
TZNAME:CDT
DTSTART:20170312T080000
END:DAYLIGHT
BEGIN:STANDARD
TZOFFSETFROM:-0500
TZOFFSETTO:-0600
TZNAME:CST
DTSTART:20171105T070000
END:STANDARD
BEGIN:DAYLIGHT
TZOFFSETFROM:-0600
TZOFFSETTO:-0500
TZNAME:CDT
DTSTART:20180311T080000
END:DAYLIGHT
BEGIN:STANDARD
TZOFFSETFROM:-0500
TZOFFSETTO:-0600
TZNAME:CST
DTSTART:20181104T070000
END:STANDARD
BEGIN:DAYLIGHT
TZOFFSETFROM:-0600
TZOFFSETTO:-0500
TZNAME:CDT
DTSTART:20190310T080000
END:DAYLIGHT
BEGIN:STANDARD
TZOFFSETFROM:-0500
TZOFFSETTO:-0600
TZNAME:CST
DTSTART:20191103T070000
END:STANDARD
BEGIN:DAYLIGHT
TZOFFSETFROM:-0600
TZOFFSETTO:-0500
TZNAME:CDT
DTSTART:20200308T080000
END:DAYLIGHT
BEGIN:STANDARD
TZOFFSETFROM:-0500
TZOFFSETTO:-0600
TZNAME:CST
DTSTART:20201101T070000
END:STANDARD
END:VTIMEZONE
BEGIN:VEVENT
DTSTART;TZID=America/Chicago:20190728T080000
DTEND;TZID=America/Chicago:20190728T110000
DTSTAMP:20260424T001134
CREATED:20170609T172131Z
LAST-MODIFIED:20190728T191029Z
UID:10001433-1564300800-1564311600@www.racetime.info
SUMMARY:Get Your Rear In Gear 5K Run/Walk
DESCRIPTION:Get Your Rear In Gear 5K Age Group Results\n\nGet Your Rear In Gear 5K Overall Results\n\nGet Your Rear In Gear 5K Survivor Overall Results
URL:https://www.racetime.info/event/get-your-rear-in-gear-5k-run-walk-2/
LOCATION:Community Park\, 8105 W. 171st Street\, Tinley Park\, IL\, 60477\, United States
CATEGORIES:2019-07 Results (July)
ORGANIZER;CN="Celeste Hayward":MAILTO:tinleyparkgyrig@gmail.com
GEO:41.5800197;-87.8160163
X-APPLE-STRUCTURED-LOCATION;VALUE=URI;X-ADDRESS=Community Park 8105 W. 171st Street Tinley Park IL 60477 United States;X-APPLE-RADIUS=500;X-TITLE=8105 W. 171st Street:geo:-87.8160163,41.5800197
END:VEVENT
BEGIN:VEVENT
DTSTART;TZID=America/Chicago:20180722T080000
DTEND;TZID=America/Chicago:20180722T110000
DTSTAMP:20260424T001134
CREATED:20170609T172131Z
LAST-MODIFIED:20180722T161628Z
UID:10001432-1532246400-1532257200@www.racetime.info
SUMMARY:Get Your Rear In Gear 5K Run/Walk
DESCRIPTION:Get Your Rear In Gear 5K Age Group Results\n\nGet Your Rear In Gear 5K Overall Results\n\nGet Your Rear In Gear 5K Survivors
URL:https://www.racetime.info/event/get-your-rear-in-gear-5k-run-walk/
LOCATION:Community Park\, 8105 W. 171st Street\, Tinley Park\, IL\, 60477\, United States
CATEGORIES:2018-07 Results (July)
ORGANIZER;CN="Celeste Hayward":MAILTO:tinleyparkgyrig@gmail.com
GEO:41.5800197;-87.8160163
X-APPLE-STRUCTURED-LOCATION;VALUE=URI;X-ADDRESS=Community Park 8105 W. 171st Street Tinley Park IL 60477 United States;X-APPLE-RADIUS=500;X-TITLE=8105 W. 171st Street:geo:-87.8160163,41.5800197
END:VEVENT
BEGIN:VEVENT
DTSTART;TZID=America/Chicago:20170723T080000
DTEND;TZID=America/Chicago:20170723T170000
DTSTAMP:20260424T001134
CREATED:20170609T172131Z
LAST-MODIFIED:20170723T160521Z
UID:10000601-1500796800-1500829200@www.racetime.info
SUMMARY:Get Your Rear In Gear 5K Run/Walk
DESCRIPTION:Get Your Rear In Gear Survivor Results\n\nGet Your Rear In Gear 5K Age Group Results\n\nGet Your Rear In Gear 5K Overall Results
URL:https://www.racetime.info/event/get-your-rear-in-gear-5k-runwalk-2/
LOCATION:Community Park\, 8105 W. 171st Street\, Tinley Park\, IL\, 60477\, United States
CATEGORIES:2017-07 Results (July)
ORGANIZER;CN="Celeste Hayward":MAILTO:tinleyparkgyrig@gmail.com
GEO:41.5800197;-87.8160163
X-APPLE-STRUCTURED-LOCATION;VALUE=URI;X-ADDRESS=Community Park 8105 W. 171st Street Tinley Park IL 60477 United States;X-APPLE-RADIUS=500;X-TITLE=8105 W. 171st Street:geo:-87.8160163,41.5800197
END:VEVENT
BEGIN:VEVENT
DTSTART;TZID=America/Chicago:20150726T080000
DTEND;TZID=America/Chicago:20150726T110000
DTSTAMP:20260424T001134
CREATED:20150409T034518Z
LAST-MODIFIED:20150728T021521Z
UID:10000191-1437897600-1437908400@www.racetime.info
SUMMARY:Get Your Rear In Gear 5K Run/Walk
DESCRIPTION:Get Your Rear In Gear Survivor Results\n\nGet Your Rear In Gear 5K Age Group Results\n\nGet Your Rear In Gear 5K Overall Results
URL:https://www.racetime.info/event/get-your-rear-in-gear-2/
LOCATION:Community Park\, 8105 W. 171st Street\, Tinley Park\, IL\, 60477\, United States
CATEGORIES:2015-07 Results (July)
ORGANIZER;CN="Celeste Hayward":MAILTO:tinleyparkgyrig@gmail.com
GEO:41.5800197;-87.8160163
X-APPLE-STRUCTURED-LOCATION;VALUE=URI;X-ADDRESS=Community Park 8105 W. 171st Street Tinley Park IL 60477 United States;X-APPLE-RADIUS=500;X-TITLE=8105 W. 171st Street:geo:-87.8160163,41.5800197
END:VEVENT
END:VCALENDAR