BEGIN:VCALENDAR
VERSION:2.0
PRODID:-//Race Time - ECPv6.15.13//NONSGML v1.0//EN
CALSCALE:GREGORIAN
METHOD:PUBLISH
X-WR-CALNAME:Race Time
X-ORIGINAL-URL:https://www.racetime.info
X-WR-CALDESC:Events for Race Time
REFRESH-INTERVAL;VALUE=DURATION:PT1H
X-Robots-Tag:noindex
X-PUBLISHED-TTL:PT1H
BEGIN:VTIMEZONE
TZID:America/Chicago
BEGIN:DAYLIGHT
TZOFFSETFROM:-0600
TZOFFSETTO:-0500
TZNAME:CDT
DTSTART:20150308T080000
END:DAYLIGHT
BEGIN:STANDARD
TZOFFSETFROM:-0500
TZOFFSETTO:-0600
TZNAME:CST
DTSTART:20151101T070000
END:STANDARD
BEGIN:DAYLIGHT
TZOFFSETFROM:-0600
TZOFFSETTO:-0500
TZNAME:CDT
DTSTART:20160313T080000
END:DAYLIGHT
BEGIN:STANDARD
TZOFFSETFROM:-0500
TZOFFSETTO:-0600
TZNAME:CST
DTSTART:20161106T070000
END:STANDARD
BEGIN:DAYLIGHT
TZOFFSETFROM:-0600
TZOFFSETTO:-0500
TZNAME:CDT
DTSTART:20170312T080000
END:DAYLIGHT
BEGIN:STANDARD
TZOFFSETFROM:-0500
TZOFFSETTO:-0600
TZNAME:CST
DTSTART:20171105T070000
END:STANDARD
BEGIN:DAYLIGHT
TZOFFSETFROM:-0600
TZOFFSETTO:-0500
TZNAME:CDT
DTSTART:20180311T080000
END:DAYLIGHT
BEGIN:STANDARD
TZOFFSETFROM:-0500
TZOFFSETTO:-0600
TZNAME:CST
DTSTART:20181104T070000
END:STANDARD
BEGIN:DAYLIGHT
TZOFFSETFROM:-0600
TZOFFSETTO:-0500
TZNAME:CDT
DTSTART:20190310T080000
END:DAYLIGHT
BEGIN:STANDARD
TZOFFSETFROM:-0500
TZOFFSETTO:-0600
TZNAME:CST
DTSTART:20191103T070000
END:STANDARD
BEGIN:DAYLIGHT
TZOFFSETFROM:-0600
TZOFFSETTO:-0500
TZNAME:CDT
DTSTART:20200308T080000
END:DAYLIGHT
BEGIN:STANDARD
TZOFFSETFROM:-0500
TZOFFSETTO:-0600
TZNAME:CST
DTSTART:20201101T070000
END:STANDARD
BEGIN:DAYLIGHT
TZOFFSETFROM:-0600
TZOFFSETTO:-0500
TZNAME:CDT
DTSTART:20210314T080000
END:DAYLIGHT
BEGIN:STANDARD
TZOFFSETFROM:-0500
TZOFFSETTO:-0600
TZNAME:CST
DTSTART:20211107T070000
END:STANDARD
BEGIN:DAYLIGHT
TZOFFSETFROM:-0600
TZOFFSETTO:-0500
TZNAME:CDT
DTSTART:20220313T080000
END:DAYLIGHT
BEGIN:STANDARD
TZOFFSETFROM:-0500
TZOFFSETTO:-0600
TZNAME:CST
DTSTART:20221106T070000
END:STANDARD
BEGIN:DAYLIGHT
TZOFFSETFROM:-0600
TZOFFSETTO:-0500
TZNAME:CDT
DTSTART:20230312T080000
END:DAYLIGHT
BEGIN:STANDARD
TZOFFSETFROM:-0500
TZOFFSETTO:-0600
TZNAME:CST
DTSTART:20231105T070000
END:STANDARD
BEGIN:DAYLIGHT
TZOFFSETFROM:-0600
TZOFFSETTO:-0500
TZNAME:CDT
DTSTART:20240310T080000
END:DAYLIGHT
BEGIN:STANDARD
TZOFFSETFROM:-0500
TZOFFSETTO:-0600
TZNAME:CST
DTSTART:20241103T070000
END:STANDARD
BEGIN:DAYLIGHT
TZOFFSETFROM:-0600
TZOFFSETTO:-0500
TZNAME:CDT
DTSTART:20250309T080000
END:DAYLIGHT
BEGIN:STANDARD
TZOFFSETFROM:-0500
TZOFFSETTO:-0600
TZNAME:CST
DTSTART:20251102T070000
END:STANDARD
END:VTIMEZONE
BEGIN:VEVENT
DTSTART;TZID=America/Chicago:20240728T080000
DTEND;TZID=America/Chicago:20240728T100000
DTSTAMP:20260423T212228
CREATED:20170425T131515Z
LAST-MODIFIED:20240728T184508Z
UID:10001351-1722153600-1722160800@www.racetime.info
SUMMARY:Algonquin "Let's Go To The Movies" 10K Run\, 5K Run/Walk & Youth 1 Mile Fun Run
DESCRIPTION:Algonquin Let’s Go To The Movies Youth 1 Mile Results\n\nAlgonquin Let’s Go To The Movies 5K Age Group Results\n\nAlgonquin Let’s Go To The Movies 5K Overall Results\n\nAlgonquin Let’s Go To The Movies 10K Age Group Results\n\nAlgonquin Let’s Go To The Movies 10K Overall Results
URL:https://www.racetime.info/event/copy-of-algonquin-founders-day-10k-run-5k-run-walk-youth-1-mile-fun-run-2/
LOCATION:Algonquin Middle School\, 520 Longwood Drive\, Algonquin\, IL\, 60102\, United States
CATEGORIES:2024-07 Results (July)
ORGANIZER;CN="Cheryl Hagen":MAILTO:foundersrun1@yahoo.com
GEO:42.1583261;-88.2831554
X-APPLE-STRUCTURED-LOCATION;VALUE=URI;X-ADDRESS=Algonquin Middle School 520 Longwood Drive Algonquin IL 60102 United States;X-APPLE-RADIUS=500;X-TITLE=520 Longwood Drive:geo:-88.2831554,42.1583261
END:VEVENT
BEGIN:VEVENT
DTSTART;TZID=America/Chicago:20230723T080000
DTEND;TZID=America/Chicago:20230723T100000
DTSTAMP:20260423T212228
CREATED:20170425T131515Z
LAST-MODIFIED:20230723T161645Z
UID:10001350-1690099200-1690106400@www.racetime.info
SUMMARY:Algonquin Founders' Day 10K Run\, 5K Run/Walk & Youth 1 Mile Fun Run
DESCRIPTION:Algonquin Founders Youth 1 Mile Run\n\nAlgonquin Founders 5K Age Group Results\n\nAlgonquin Founders 5K Overall Results\n\nAlgonquin Founders 10K Age Group Results\n\nAlgonquin Founders 10K Overall Results
URL:https://www.racetime.info/event/copy-of-algonquin-founders-day-10k-run-5k-run-walk-youth-1-mile-fun-run/
LOCATION:Algonquin Middle School\, 520 Longwood Drive\, Algonquin\, IL\, 60102\, United States
CATEGORIES:2023-07 Results (July)
ORGANIZER;CN="Cheryl Hagen":MAILTO:foundersrun1@yahoo.com
GEO:42.1583261;-88.2831554
X-APPLE-STRUCTURED-LOCATION;VALUE=URI;X-ADDRESS=Algonquin Middle School 520 Longwood Drive Algonquin IL 60102 United States;X-APPLE-RADIUS=500;X-TITLE=520 Longwood Drive:geo:-88.2831554,42.1583261
END:VEVENT
BEGIN:VEVENT
DTSTART;TZID=America/Chicago:20220731T080000
DTEND;TZID=America/Chicago:20220731T100000
DTSTAMP:20260423T212228
CREATED:20170425T131515Z
LAST-MODIFIED:20220731T165115Z
UID:10001349-1659254400-1659261600@www.racetime.info
SUMMARY:Algonquin Founders' Day 10K Run\, 5K Run/Walk & Youth 1 Mile Fun Run
DESCRIPTION:Algonquin Founders Youth 1 Mile Overall Results\n\nAlgonquin Founders 5K Age Group Results\n\nAlgonquin Founders 5K Overall Results\n\nAlgonquin Founders 10K Age Group Results\n\nAlgonquin Founders 10K Overall Results
URL:https://www.racetime.info/event/algonquin-founders-day-10k-run-5k-run-walk-youth-1-mile-fun-run-4/
LOCATION:Algonquin Middle School\, 520 Longwood Drive\, Algonquin\, IL\, 60102\, United States
CATEGORIES:2022-07 Results (July)
ORGANIZER;CN="Cheryl Hagen":MAILTO:foundersrun1@yahoo.com
GEO:42.1583261;-88.2831554
X-APPLE-STRUCTURED-LOCATION;VALUE=URI;X-ADDRESS=Algonquin Middle School 520 Longwood Drive Algonquin IL 60102 United States;X-APPLE-RADIUS=500;X-TITLE=520 Longwood Drive:geo:-88.2831554,42.1583261
END:VEVENT
BEGIN:VEVENT
DTSTART;TZID=America/Chicago:20210725T080000
DTEND;TZID=America/Chicago:20210725T110000
DTSTAMP:20260423T212228
CREATED:20170425T131515Z
LAST-MODIFIED:20210725T163333Z
UID:10001345-1627200000-1627210800@www.racetime.info
SUMMARY:Algonquin Founders' Day 10K Run\, 5K Run/Walk & Youth 1 Mile Fun Run
DESCRIPTION:Algonquin Founders Day 1 Mile Youth Overall Results\n\nAlgonquin Founders Day 5K Age Group Results\n\nAlgonquin Founders Day 5K Overall Results\n\nAlgonquin Founders Day 10K Age Group Results\n\nAlgonquin Founders Day 10K Overall Results
URL:https://www.racetime.info/event/algonquin-founders-day-10k-run-5k-run-walk-youth-1-mile-fun-run-3/
LOCATION:Algonquin Middle School\, 520 Longwood Drive\, Algonquin\, IL\, 60102\, United States
CATEGORIES:2021-07 Results (July)
ORGANIZER;CN="Cheryl Hagen":MAILTO:foundersrun1@yahoo.com
GEO:42.1583261;-88.2831554
X-APPLE-STRUCTURED-LOCATION;VALUE=URI;X-ADDRESS=Algonquin Middle School 520 Longwood Drive Algonquin IL 60102 United States;X-APPLE-RADIUS=500;X-TITLE=520 Longwood Drive:geo:-88.2831554,42.1583261
END:VEVENT
BEGIN:VEVENT
DTSTART;TZID=America/Chicago:20200726T080000
DTEND;TZID=America/Chicago:20200726T110000
DTSTAMP:20260423T212228
CREATED:20170425T131515Z
LAST-MODIFIED:20200629T120704Z
UID:10001343-1595750400-1595761200@www.racetime.info
SUMMARY:Algonquin Founders' Day 10K Run\, 5K Run/Walk & Youth 1 Mile Fun Run: CANCELLED
DESCRIPTION:
URL:https://www.racetime.info/event/algonquin-founders-day-10k-run-5k-run-walk-youth-1-mile-fun-run-2/
LOCATION:Algonquin Middle School\, 520 Longwood Drive\, Algonquin\, IL\, 60102\, United States
ORGANIZER;CN="Cheryl Hagen":MAILTO:foundersrun1@yahoo.com
GEO:42.1583261;-88.2831554
X-APPLE-STRUCTURED-LOCATION;VALUE=URI;X-ADDRESS=Algonquin Middle School 520 Longwood Drive Algonquin IL 60102 United States;X-APPLE-RADIUS=500;X-TITLE=520 Longwood Drive:geo:-88.2831554,42.1583261
END:VEVENT
BEGIN:VEVENT
DTSTART;TZID=America/Chicago:20190728T080000
DTEND;TZID=America/Chicago:20190728T110000
DTSTAMP:20260423T212228
CREATED:20170425T131515Z
LAST-MODIFIED:20190728T191331Z
UID:10001340-1564300800-1564311600@www.racetime.info
SUMMARY:Algonquin Founders' Day 10K Run\, 5K Run/Walk & Youth 1 Mile Fun Run
DESCRIPTION:Algonquin Founders 1 Mile Youth Results\n\nAlgonquin Founders 5K Age Group Results\n\nAlgonquin Founders 5K Overall Results\n\nAlgonquin Founders 10K Age Group Results\n\nAlgonquin Founders 10K Overall Results
URL:https://www.racetime.info/event/algonquin-founders-day-10k-run-5k-run-walk-youth-1-mile-fun-run/
LOCATION:Algonquin Middle School\, 520 Longwood Drive\, Algonquin\, IL\, 60102\, United States
CATEGORIES:2019-07 Results (July)
ORGANIZER;CN="Cheryl Hagen":MAILTO:foundersrun1@yahoo.com
GEO:42.1583261;-88.2831554
X-APPLE-STRUCTURED-LOCATION;VALUE=URI;X-ADDRESS=Algonquin Middle School 520 Longwood Drive Algonquin IL 60102 United States;X-APPLE-RADIUS=500;X-TITLE=520 Longwood Drive:geo:-88.2831554,42.1583261
END:VEVENT
BEGIN:VEVENT
DTSTART;TZID=America/Chicago:20180729T080000
DTEND;TZID=America/Chicago:20180729T110000
DTSTAMP:20260423T212228
CREATED:20170425T131515Z
LAST-MODIFIED:20180729T170909Z
UID:10001336-1532851200-1532862000@www.racetime.info
SUMMARY:Algonquin Founders' Day 10K Run\, 5K Run/Walk & Youth 1 Mile Fun Run
DESCRIPTION:Founders’ Day 1 Mile Youth Run\n\nFounders’ Day 5K Age Group Results\n\nFounders’ Day 5K Overall Results\n\nFounders’ Day 10K Age Group Results\n\nFounders’ Day 10K Overall Results
URL:https://www.racetime.info/event/algonquin-founders-day-10k-run-5k-run-walk/
LOCATION:Algonquin Middle School\, 520 Longwood Drive\, Algonquin\, IL\, 60102\, United States
CATEGORIES:2018-07 Results (July)
ORGANIZER;CN="Cheryl Hagen":MAILTO:foundersrun1@yahoo.com
GEO:42.1583261;-88.2831554
X-APPLE-STRUCTURED-LOCATION;VALUE=URI;X-ADDRESS=Algonquin Middle School 520 Longwood Drive Algonquin IL 60102 United States;X-APPLE-RADIUS=500;X-TITLE=520 Longwood Drive:geo:-88.2831554,42.1583261
END:VEVENT
BEGIN:VEVENT
DTSTART;TZID=America/Chicago:20170910T080000
DTEND;TZID=America/Chicago:20170910T110000
DTSTAMP:20260423T212228
CREATED:20170425T131515Z
LAST-MODIFIED:20170910T194613Z
UID:10001334-1505030400-1505041200@www.racetime.info
SUMMARY:Algonquin Founders' Day 10K Run & 5K Run/Walk
DESCRIPTION:Algonquin Founder’s Day 5K Age Group Results\n\nAlgonquin Founder’s Day 5K Overall Results\n\nAlgonquin Founder’s Day 10K Age Group Results\n\nAlgonquin Founder’s Day 10K Overall Results
URL:https://www.racetime.info/event/algonquin-founders-day-10k-run-5k-runwalk-1-mile-kids-run/
LOCATION:Algonquin Middle School\, 520 Longwood Drive\, Algonquin\, IL\, 60102\, United States
CATEGORIES:2017-09 Results (September)
ORGANIZER;CN="Cheryl Hagen":MAILTO:foundersrun1@yahoo.com
GEO:42.1583261;-88.2831554
X-APPLE-STRUCTURED-LOCATION;VALUE=URI;X-ADDRESS=Algonquin Middle School 520 Longwood Drive Algonquin IL 60102 United States;X-APPLE-RADIUS=500;X-TITLE=520 Longwood Drive:geo:-88.2831554,42.1583261
END:VEVENT
BEGIN:VEVENT
DTSTART;TZID=America/Chicago:20160731T080000
DTEND;TZID=America/Chicago:20160731T110000
DTSTAMP:20260423T212228
CREATED:20160426T191803Z
LAST-MODIFIED:20160731T171855Z
UID:10000624-1469952000-1469962800@www.racetime.info
SUMMARY:Algonquin Founders Day Runs: 1 Mile\, 5K & 10K
DESCRIPTION:Founders Day 1 Mile Youth Run\n\nFounders Day 5K Age Group Results\n\nFounders Day 5K Overall Results\n\nFounders Day 10K Age Group Results\n\nFounders Day 10K Overall Results
URL:https://www.racetime.info/event/algonquin-founders-day-runs-1-mile-5k-10k/
LOCATION:Algonquin Middle School\, 520 Longwood Drive\, Algonquin\, IL\, 60102\, United States
CATEGORIES:2016-07 Results (July)
ORGANIZER;CN="Cheryl Hagen":MAILTO:foundersrun1@yahoo.com
GEO:42.1583261;-88.2831554
X-APPLE-STRUCTURED-LOCATION;VALUE=URI;X-ADDRESS=Algonquin Middle School 520 Longwood Drive Algonquin IL 60102 United States;X-APPLE-RADIUS=500;X-TITLE=520 Longwood Drive:geo:-88.2831554,42.1583261
END:VEVENT
END:VCALENDAR