BEGIN:VCALENDAR
VERSION:2.0
PRODID:-//Race Time - ECPv6.15.13//NONSGML v1.0//EN
CALSCALE:GREGORIAN
METHOD:PUBLISH
X-ORIGINAL-URL:https://www.racetime.info
X-WR-CALDESC:Events for Race Time
REFRESH-INTERVAL;VALUE=DURATION:PT1H
X-Robots-Tag:noindex
X-PUBLISHED-TTL:PT1H
BEGIN:VTIMEZONE
TZID:America/Chicago
BEGIN:DAYLIGHT
TZOFFSETFROM:-0600
TZOFFSETTO:-0500
TZNAME:CDT
DTSTART:20170312T080000
END:DAYLIGHT
BEGIN:STANDARD
TZOFFSETFROM:-0500
TZOFFSETTO:-0600
TZNAME:CST
DTSTART:20171105T070000
END:STANDARD
BEGIN:DAYLIGHT
TZOFFSETFROM:-0600
TZOFFSETTO:-0500
TZNAME:CDT
DTSTART:20180311T080000
END:DAYLIGHT
BEGIN:STANDARD
TZOFFSETFROM:-0500
TZOFFSETTO:-0600
TZNAME:CST
DTSTART:20181104T070000
END:STANDARD
BEGIN:DAYLIGHT
TZOFFSETFROM:-0600
TZOFFSETTO:-0500
TZNAME:CDT
DTSTART:20190310T080000
END:DAYLIGHT
BEGIN:STANDARD
TZOFFSETFROM:-0500
TZOFFSETTO:-0600
TZNAME:CST
DTSTART:20191103T070000
END:STANDARD
BEGIN:DAYLIGHT
TZOFFSETFROM:-0600
TZOFFSETTO:-0500
TZNAME:CDT
DTSTART:20200308T080000
END:DAYLIGHT
BEGIN:STANDARD
TZOFFSETFROM:-0500
TZOFFSETTO:-0600
TZNAME:CST
DTSTART:20201101T070000
END:STANDARD
END:VTIMEZONE
BEGIN:VEVENT
DTSTART;TZID=America/Chicago:20190608T090000
DTEND;TZID=America/Chicago:20190608T103000
DTSTAMP:20260424T035418
CREATED:20180526T112424Z
LAST-MODIFIED:20190608T182022Z
UID:10001796-1559984400-1559989800@www.racetime.info
SUMMARY:Tanner Kitelinger Memorial 5K Run/Walk
DESCRIPTION:Tanner Kitelinger 5K Age Group Results\n\nTanner Kitelinger 5K Overall Results
URL:https://www.racetime.info/event/tanner-kitelinger-memorial-5k-run-walk-2/
LOCATION:Downtown Beloit\, WI\, Intersection of Riverside Drive and Henry Avenue\, Beloit\, WI\, United States
CATEGORIES:2019-06 Results (June)
ORGANIZER;CN="Chris DeMarb":MAILTO:cdemarb@aol.com
GEO:42.522379;-89.0345144
X-APPLE-STRUCTURED-LOCATION;VALUE=URI;X-ADDRESS=Downtown Beloit WI Intersection of Riverside Drive and Henry Avenue Beloit WI United States;X-APPLE-RADIUS=500;X-TITLE=Intersection of Riverside Drive and Henry Avenue:geo:-89.0345144,42.522379
END:VEVENT
BEGIN:VEVENT
DTSTART;TZID=America/Chicago:20180609T090000
DTEND;TZID=America/Chicago:20180609T103000
DTSTAMP:20260424T035418
CREATED:20180526T112424Z
LAST-MODIFIED:20180609T213514Z
UID:10001795-1528534800-1528540200@www.racetime.info
SUMMARY:Tanner Kitelinger Memorial 5K Run/Walk
DESCRIPTION:Tanner Kitelinger 5K Age Group Results\n\nTanner Kitelinger 5K Overall Results
URL:https://www.racetime.info/event/tanner-kitelinger-memorial-5k-run-walk/
LOCATION:Downtown Beloit\, WI\, Intersection of Riverside Drive and Henry Avenue\, Beloit\, WI\, United States
CATEGORIES:2018-06 Results (June)
ORGANIZER;CN="Chris DeMarb":MAILTO:cdemarb@aol.com
GEO:42.522379;-89.0345144
X-APPLE-STRUCTURED-LOCATION;VALUE=URI;X-ADDRESS=Downtown Beloit WI Intersection of Riverside Drive and Henry Avenue Beloit WI United States;X-APPLE-RADIUS=500;X-TITLE=Intersection of Riverside Drive and Henry Avenue:geo:-89.0345144,42.522379
END:VEVENT
END:VCALENDAR