BEGIN:VCALENDAR
VERSION:2.0
PRODID:-//Race Time - ECPv6.15.13//NONSGML v1.0//EN
CALSCALE:GREGORIAN
METHOD:PUBLISH
X-ORIGINAL-URL:https://www.racetime.info
X-WR-CALDESC:Events for Race Time
REFRESH-INTERVAL;VALUE=DURATION:PT1H
X-Robots-Tag:noindex
X-PUBLISHED-TTL:PT1H
BEGIN:VTIMEZONE
TZID:America/Chicago
BEGIN:DAYLIGHT
TZOFFSETFROM:-0600
TZOFFSETTO:-0500
TZNAME:CDT
DTSTART:20150308T080000
END:DAYLIGHT
BEGIN:STANDARD
TZOFFSETFROM:-0500
TZOFFSETTO:-0600
TZNAME:CST
DTSTART:20151101T070000
END:STANDARD
BEGIN:DAYLIGHT
TZOFFSETFROM:-0600
TZOFFSETTO:-0500
TZNAME:CDT
DTSTART:20160313T080000
END:DAYLIGHT
BEGIN:STANDARD
TZOFFSETFROM:-0500
TZOFFSETTO:-0600
TZNAME:CST
DTSTART:20161106T070000
END:STANDARD
BEGIN:DAYLIGHT
TZOFFSETFROM:-0600
TZOFFSETTO:-0500
TZNAME:CDT
DTSTART:20170312T080000
END:DAYLIGHT
BEGIN:STANDARD
TZOFFSETFROM:-0500
TZOFFSETTO:-0600
TZNAME:CST
DTSTART:20171105T070000
END:STANDARD
BEGIN:DAYLIGHT
TZOFFSETFROM:-0600
TZOFFSETTO:-0500
TZNAME:CDT
DTSTART:20180311T080000
END:DAYLIGHT
BEGIN:STANDARD
TZOFFSETFROM:-0500
TZOFFSETTO:-0600
TZNAME:CST
DTSTART:20181104T070000
END:STANDARD
BEGIN:DAYLIGHT
TZOFFSETFROM:-0600
TZOFFSETTO:-0500
TZNAME:CDT
DTSTART:20190310T080000
END:DAYLIGHT
BEGIN:STANDARD
TZOFFSETFROM:-0500
TZOFFSETTO:-0600
TZNAME:CST
DTSTART:20191103T070000
END:STANDARD
BEGIN:DAYLIGHT
TZOFFSETFROM:-0600
TZOFFSETTO:-0500
TZNAME:CDT
DTSTART:20200308T080000
END:DAYLIGHT
BEGIN:STANDARD
TZOFFSETFROM:-0500
TZOFFSETTO:-0600
TZNAME:CST
DTSTART:20201101T070000
END:STANDARD
END:VTIMEZONE
BEGIN:VEVENT
DTSTART;TZID=America/Chicago:20190616T083000
DTEND;TZID=America/Chicago:20190616T100000
DTSTAMP:20260424T023316
CREATED:20170521T112709Z
LAST-MODIFIED:20190616T154500Z
UID:10001413-1560673800-1560679200@www.racetime.info
SUMMARY:Father's Day Kickin' Grass 5K Run/Walk
DESCRIPTION:Father’s Day Kickin’ Grass 5K Age Group Results\n\nFather’s Day Kickin’ Grass 5K Overall Results
URL:https://www.racetime.info/event/fathers-day-kickin-grass-5k-run-walk-2/
LOCATION:Maine East High School\, 2601 W. Dempster Street\, Park Ridge\, IL\, 60068\, United States
CATEGORIES:2019-06 Results (June)
ORGANIZER;CN="Chris Peters":MAILTO:cpeters@maine207.org
GEO:42.0377133;-87.8570946
X-APPLE-STRUCTURED-LOCATION;VALUE=URI;X-ADDRESS=Maine East High School 2601 W. Dempster Street Park Ridge IL 60068 United States;X-APPLE-RADIUS=500;X-TITLE=2601 W. Dempster Street:geo:-87.8570946,42.0377133
END:VEVENT
BEGIN:VEVENT
DTSTART;TZID=America/Chicago:20180617T083000
DTEND;TZID=America/Chicago:20180617T100000
DTSTAMP:20260424T023316
CREATED:20170521T112709Z
LAST-MODIFIED:20180617T162717Z
UID:10001412-1529224200-1529229600@www.racetime.info
SUMMARY:Father's Day Kickin' Grass 5K Run/Walk
DESCRIPTION:Kickin’ Grass 5K Age Group Results\n\nKickin’ Grass 5K Overall Results
URL:https://www.racetime.info/event/fathers-day-kickin-grass-5k-run-walk/
LOCATION:Maine East High School\, 2601 W. Dempster Street\, Park Ridge\, IL\, 60068\, United States
CATEGORIES:2018-06 Results (June)
ORGANIZER;CN="Chris Peters":MAILTO:cpeters@maine207.org
GEO:42.0377133;-87.8570946
X-APPLE-STRUCTURED-LOCATION;VALUE=URI;X-ADDRESS=Maine East High School 2601 W. Dempster Street Park Ridge IL 60068 United States;X-APPLE-RADIUS=500;X-TITLE=2601 W. Dempster Street:geo:-87.8570946,42.0377133
END:VEVENT
BEGIN:VEVENT
DTSTART;TZID=America/Chicago:20170618T080000
DTEND;TZID=America/Chicago:20170618T100000
DTSTAMP:20260424T023316
CREATED:20170521T112709Z
LAST-MODIFIED:20170618T181808Z
UID:10001410-1497772800-1497780000@www.racetime.info
SUMMARY:Father's Day Kickin' Grass 5K Run/Walk
DESCRIPTION:Father’s Day Kickin’ Grass 5K Age Group Results\n\nFather’s Day Kickin’ Grass 5K Overall Results
URL:https://www.racetime.info/event/fathers-day-kickin-grass-5k-runwalk/
LOCATION:Maine East High School\, 2601 W. Dempster Street\, Park Ridge\, IL\, 60068\, United States
CATEGORIES:2017-06 Results (June)
ORGANIZER;CN="Chris Peters":MAILTO:cpeters@maine207.org
GEO:42.0377133;-87.8570946
X-APPLE-STRUCTURED-LOCATION;VALUE=URI;X-ADDRESS=Maine East High School 2601 W. Dempster Street Park Ridge IL 60068 United States;X-APPLE-RADIUS=500;X-TITLE=2601 W. Dempster Street:geo:-87.8570946,42.0377133
END:VEVENT
BEGIN:VEVENT
DTSTART;TZID=America/Chicago:20160619T083000
DTEND;TZID=America/Chicago:20160619T110000
DTSTAMP:20260424T023316
CREATED:20160601T223235Z
LAST-MODIFIED:20160619T162134Z
UID:10000254-1466325000-1466334000@www.racetime.info
SUMMARY:Father's Day 5K Run/Walk: Kickin' Grass
DESCRIPTION:Father’s Day 5K Kickin’ Grass Age Group Results\n\nFather’s Day 5K Kickin’ Grass Overall Results
URL:https://www.racetime.info/event/fathers-day-5k-runwalk-kickin-grass/
LOCATION:Maine East High School\, 2601 W. Dempster Street\, Park Ridge\, IL\, 60068\, United States
CATEGORIES:2016-06 Results (June)
ORGANIZER;CN="Chris Peters":MAILTO:cpeters@maine207.org
GEO:42.0377133;-87.8570946
X-APPLE-STRUCTURED-LOCATION;VALUE=URI;X-ADDRESS=Maine East High School 2601 W. Dempster Street Park Ridge IL 60068 United States;X-APPLE-RADIUS=500;X-TITLE=2601 W. Dempster Street:geo:-87.8570946,42.0377133
END:VEVENT
END:VCALENDAR