BEGIN:VCALENDAR
VERSION:2.0
PRODID:-//Race Time - ECPv6.15.13//NONSGML v1.0//EN
CALSCALE:GREGORIAN
METHOD:PUBLISH
X-ORIGINAL-URL:https://www.racetime.info
X-WR-CALDESC:Events for Race Time
REFRESH-INTERVAL;VALUE=DURATION:PT1H
X-Robots-Tag:noindex
X-PUBLISHED-TTL:PT1H
BEGIN:VTIMEZONE
TZID:America/Chicago
BEGIN:DAYLIGHT
TZOFFSETFROM:-0600
TZOFFSETTO:-0500
TZNAME:CDT
DTSTART:20140309T080000
END:DAYLIGHT
BEGIN:STANDARD
TZOFFSETFROM:-0500
TZOFFSETTO:-0600
TZNAME:CST
DTSTART:20141102T070000
END:STANDARD
BEGIN:DAYLIGHT
TZOFFSETFROM:-0600
TZOFFSETTO:-0500
TZNAME:CDT
DTSTART:20150308T080000
END:DAYLIGHT
BEGIN:STANDARD
TZOFFSETFROM:-0500
TZOFFSETTO:-0600
TZNAME:CST
DTSTART:20151101T070000
END:STANDARD
BEGIN:DAYLIGHT
TZOFFSETFROM:-0600
TZOFFSETTO:-0500
TZNAME:CDT
DTSTART:20160313T080000
END:DAYLIGHT
BEGIN:STANDARD
TZOFFSETFROM:-0500
TZOFFSETTO:-0600
TZNAME:CST
DTSTART:20161106T070000
END:STANDARD
END:VTIMEZONE
BEGIN:VEVENT
DTSTART;TZID=America/Chicago:20150801T080000
DTEND;TZID=America/Chicago:20150801T100000
DTSTAMP:20260424T041616
CREATED:20150613T105301Z
LAST-MODIFIED:20150801T175032Z
UID:10000262-1438416000-1438423200@www.racetime.info
SUMMARY:Red\, White & Blue John Kurtz 5K Run/Walk
DESCRIPTION:Red\, White & Blue 5K Age Group Results\n\nRed\, White & Blue 5K Overall Results
URL:https://www.racetime.info/event/red-white-blue-john-kurtz-5k-runwalk/
LOCATION:Pines Park\, 531 S. Church Road\, Bensenville\, IL\, 60106\, United States
CATEGORIES:2015-08 Results (August)
ORGANIZER;CN="Christine Hartnett":MAILTO:chartnett@bensenvilleparkdistrict.org
GEO:41.9387018;-87.9535202
X-APPLE-STRUCTURED-LOCATION;VALUE=URI;X-ADDRESS=Pines Park 531 S. Church Road Bensenville IL 60106 United States;X-APPLE-RADIUS=500;X-TITLE=531 S. Church Road:geo:-87.9535202,41.9387018
END:VEVENT
END:VCALENDAR