BEGIN:VCALENDAR
VERSION:2.0
PRODID:-//Race Time - ECPv6.15.13//NONSGML v1.0//EN
CALSCALE:GREGORIAN
METHOD:PUBLISH
X-ORIGINAL-URL:https://www.racetime.info
X-WR-CALDESC:Events for Race Time
REFRESH-INTERVAL;VALUE=DURATION:PT1H
X-Robots-Tag:noindex
X-PUBLISHED-TTL:PT1H
BEGIN:VTIMEZONE
TZID:America/Chicago
BEGIN:DAYLIGHT
TZOFFSETFROM:-0600
TZOFFSETTO:-0500
TZNAME:CDT
DTSTART:20140309T080000
END:DAYLIGHT
BEGIN:STANDARD
TZOFFSETFROM:-0500
TZOFFSETTO:-0600
TZNAME:CST
DTSTART:20141102T070000
END:STANDARD
BEGIN:DAYLIGHT
TZOFFSETFROM:-0600
TZOFFSETTO:-0500
TZNAME:CDT
DTSTART:20150308T080000
END:DAYLIGHT
BEGIN:STANDARD
TZOFFSETFROM:-0500
TZOFFSETTO:-0600
TZNAME:CST
DTSTART:20151101T070000
END:STANDARD
BEGIN:DAYLIGHT
TZOFFSETFROM:-0600
TZOFFSETTO:-0500
TZNAME:CDT
DTSTART:20160313T080000
END:DAYLIGHT
BEGIN:STANDARD
TZOFFSETFROM:-0500
TZOFFSETTO:-0600
TZNAME:CST
DTSTART:20161106T070000
END:STANDARD
BEGIN:DAYLIGHT
TZOFFSETFROM:-0600
TZOFFSETTO:-0500
TZNAME:CDT
DTSTART:20170312T080000
END:DAYLIGHT
BEGIN:STANDARD
TZOFFSETFROM:-0500
TZOFFSETTO:-0600
TZNAME:CST
DTSTART:20171105T070000
END:STANDARD
BEGIN:DAYLIGHT
TZOFFSETFROM:-0600
TZOFFSETTO:-0500
TZNAME:CDT
DTSTART:20180311T080000
END:DAYLIGHT
BEGIN:STANDARD
TZOFFSETFROM:-0500
TZOFFSETTO:-0600
TZNAME:CST
DTSTART:20181104T070000
END:STANDARD
END:VTIMEZONE
BEGIN:VEVENT
DTSTART;TZID=America/Chicago:20170520T080000
DTEND;TZID=America/Chicago:20170520T100000
DTSTAMP:20260424T024648
CREATED:20170518T235509Z
LAST-MODIFIED:20170520T205436Z
UID:10000591-1495267200-1495274400@www.racetime.info
SUMMARY:Sertoma 5K Run/Walk
DESCRIPTION:Sertoma 5K Overall Results
URL:https://www.racetime.info/event/sertoma-5k-runwalk-2/
LOCATION:Moraine Valley Community College\, 9000 W. College Pkwy\, Palos Hills\, IL\, 60465\, United States
CATEGORIES:2017-05 Results (May)
ORGANIZER;CN="Christy Woodall":MAILTO:cwoodall@sertomacenter.org
GEO:41.6932523;-87.8354241
X-APPLE-STRUCTURED-LOCATION;VALUE=URI;X-ADDRESS=Moraine Valley Community College 9000 W. College Pkwy Palos Hills IL 60465 United States;X-APPLE-RADIUS=500;X-TITLE=9000 W. College Pkwy:geo:-87.8354241,41.6932523
END:VEVENT
BEGIN:VEVENT
DTSTART;TZID=America/Chicago:20160522T080000
DTEND;TZID=America/Chicago:20160522T100000
DTSTAMP:20260424T024648
CREATED:20160322T163012Z
LAST-MODIFIED:20160522T163830Z
UID:10000216-1463904000-1463911200@www.racetime.info
SUMMARY:Sertoma 5K Run/Walk
DESCRIPTION:Sertoma 5K Age Group Results\n\nSertoma 5K Overall Results
URL:https://www.racetime.info/event/sertoma-5k-runwalk/
LOCATION:Moraine Valley Community College\, 9000 W. College Pkwy\, Palos Hills\, IL\, 60465\, United States
CATEGORIES:2016-05 Results (May)
ORGANIZER;CN="Christy Woodall":MAILTO:cwoodall@sertomacenter.org
GEO:41.6932523;-87.8354241
X-APPLE-STRUCTURED-LOCATION;VALUE=URI;X-ADDRESS=Moraine Valley Community College 9000 W. College Pkwy Palos Hills IL 60465 United States;X-APPLE-RADIUS=500;X-TITLE=9000 W. College Pkwy:geo:-87.8354241,41.6932523
END:VEVENT
BEGIN:VEVENT
DTSTART;TZID=America/Chicago:20150517T080000
DTEND;TZID=America/Chicago:20150517T110000
DTSTAMP:20260424T024648
CREATED:20150409T034506Z
LAST-MODIFIED:20150829T201730Z
UID:10000009-1431849600-1431860400@www.racetime.info
SUMMARY:Sertoma 5K
DESCRIPTION:Sertoma 5K Age Group Results\n\nSertoma 5K Overall Results
URL:https://www.racetime.info/event/sertoma-5k-2/
LOCATION:Moraine Valley Community College\, 9000 W. College Pkwy\, Palos Hills\, IL\, 60465\, United States
CATEGORIES:2015-05 Results (May)
ORGANIZER;CN="Christy Woodall":MAILTO:cwoodall@sertomacenter.org
GEO:41.6932523;-87.8354241
X-APPLE-STRUCTURED-LOCATION;VALUE=URI;X-ADDRESS=Moraine Valley Community College 9000 W. College Pkwy Palos Hills IL 60465 United States;X-APPLE-RADIUS=500;X-TITLE=9000 W. College Pkwy:geo:-87.8354241,41.6932523
END:VEVENT
END:VCALENDAR