BEGIN:VCALENDAR
VERSION:2.0
PRODID:-//Race Time - ECPv6.15.13//NONSGML v1.0//EN
CALSCALE:GREGORIAN
METHOD:PUBLISH
X-WR-CALNAME:Race Time
X-ORIGINAL-URL:https://www.racetime.info
X-WR-CALDESC:Events for Race Time
REFRESH-INTERVAL;VALUE=DURATION:PT1H
X-Robots-Tag:noindex
X-PUBLISHED-TTL:PT1H
BEGIN:VTIMEZONE
TZID:America/Chicago
BEGIN:DAYLIGHT
TZOFFSETFROM:-0600
TZOFFSETTO:-0500
TZNAME:CDT
DTSTART:20150308T080000
END:DAYLIGHT
BEGIN:STANDARD
TZOFFSETFROM:-0500
TZOFFSETTO:-0600
TZNAME:CST
DTSTART:20151101T070000
END:STANDARD
BEGIN:DAYLIGHT
TZOFFSETFROM:-0600
TZOFFSETTO:-0500
TZNAME:CDT
DTSTART:20160313T080000
END:DAYLIGHT
BEGIN:STANDARD
TZOFFSETFROM:-0500
TZOFFSETTO:-0600
TZNAME:CST
DTSTART:20161106T070000
END:STANDARD
BEGIN:DAYLIGHT
TZOFFSETFROM:-0600
TZOFFSETTO:-0500
TZNAME:CDT
DTSTART:20170312T080000
END:DAYLIGHT
BEGIN:STANDARD
TZOFFSETFROM:-0500
TZOFFSETTO:-0600
TZNAME:CST
DTSTART:20171105T070000
END:STANDARD
BEGIN:DAYLIGHT
TZOFFSETFROM:-0600
TZOFFSETTO:-0500
TZNAME:CDT
DTSTART:20180311T080000
END:DAYLIGHT
BEGIN:STANDARD
TZOFFSETFROM:-0500
TZOFFSETTO:-0600
TZNAME:CST
DTSTART:20181104T070000
END:STANDARD
END:VTIMEZONE
BEGIN:VEVENT
DTSTART;TZID=America/Chicago:20170521T093000
DTEND;TZID=America/Chicago:20170521T110000
DTSTAMP:20260424T035122
CREATED:20170228T211734Z
LAST-MODIFIED:20170521T194742Z
UID:10001089-1495359000-1495364400@www.racetime.info
SUMMARY:OCF 5K Run/Walk for Awareness
DESCRIPTION:Run For Awareness 5K Age Group Results\n\nRun For Awareness 5K Overall Results
URL:https://www.racetime.info/event/ocf-5k-runwalk-for-awareness/
LOCATION:Redmond Park\, 735 E. Jefferson Street\, Bensenville\, IL\, 60106\, United States
CATEGORIES:2017-05 Results (May)
ORGANIZER;CN="Chuck Feeney":MAILTO:squamous1@yahoo.com
END:VEVENT
BEGIN:VEVENT
DTSTART;TZID=America/Chicago:20160522T093000
DTEND;TZID=America/Chicago:20160522T113000
DTSTAMP:20260424T035122
CREATED:20160126T032904Z
LAST-MODIFIED:20160522T173450Z
UID:10000513-1463909400-1463916600@www.racetime.info
SUMMARY:Oral Cancer Foundation 5K Run and Walk for Awareness
DESCRIPTION:Oral Cancer 5K Age Group Results\n\nOral Cancer 5K Overall Results
URL:https://www.racetime.info/event/oral-cancer-foundation-5k-run-and-walk-for-awareness/
LOCATION:Redmond Park\, 735 E. Jefferson Street\, Bensenville\, IL\, 60106\, United States
CATEGORIES:2016-05 Results (May)
ORGANIZER;CN="Chuck Feeney":MAILTO:squamous1@yahoo.com
END:VEVENT
END:VCALENDAR