BEGIN:VCALENDAR
VERSION:2.0
PRODID:-//Race Time - ECPv6.15.13//NONSGML v1.0//EN
CALSCALE:GREGORIAN
METHOD:PUBLISH
X-ORIGINAL-URL:https://www.racetime.info
X-WR-CALDESC:Events for Race Time
REFRESH-INTERVAL;VALUE=DURATION:PT1H
X-Robots-Tag:noindex
X-PUBLISHED-TTL:PT1H
BEGIN:VTIMEZONE
TZID:America/Chicago
BEGIN:DAYLIGHT
TZOFFSETFROM:-0600
TZOFFSETTO:-0500
TZNAME:CDT
DTSTART:20170312T080000
END:DAYLIGHT
BEGIN:STANDARD
TZOFFSETFROM:-0500
TZOFFSETTO:-0600
TZNAME:CST
DTSTART:20171105T070000
END:STANDARD
BEGIN:DAYLIGHT
TZOFFSETFROM:-0600
TZOFFSETTO:-0500
TZNAME:CDT
DTSTART:20180311T080000
END:DAYLIGHT
BEGIN:STANDARD
TZOFFSETFROM:-0500
TZOFFSETTO:-0600
TZNAME:CST
DTSTART:20181104T070000
END:STANDARD
BEGIN:DAYLIGHT
TZOFFSETFROM:-0600
TZOFFSETTO:-0500
TZNAME:CDT
DTSTART:20190310T080000
END:DAYLIGHT
BEGIN:STANDARD
TZOFFSETFROM:-0500
TZOFFSETTO:-0600
TZNAME:CST
DTSTART:20191103T070000
END:STANDARD
END:VTIMEZONE
BEGIN:VEVENT
DTSTART;TZID=America/Chicago:20180624T093000
DTEND;TZID=America/Chicago:20180624T110000
DTSTAMP:20260424T041427
CREATED:20180623T174158Z
LAST-MODIFIED:20180624T183322Z
UID:10000982-1529832600-1529838000@www.racetime.info
SUMMARY:Susan Filson Lung Cancer Awareness 5K Walk/Run
DESCRIPTION:Susan Filson Lung Cancer Awareness 5K Walk and Run Age Group Results\n\nSusan Filson Lung Cancer Awareness 5K Walk and Run Overall Results
URL:https://www.racetime.info/event/susan-filson-lung-cancer-awareness-5k-walk-run/
LOCATION:Brookside Park\, 524 W. Jackson Street\, Rensselaer\, IN\, 47978\, United States
CATEGORIES:2018-06 Results (June)
ORGANIZER;CN="Connie Anderson":MAILTO:lca5k@yahoo.com
END:VEVENT
END:VCALENDAR