BEGIN:VCALENDAR
VERSION:2.0
PRODID:-//Race Time - ECPv6.15.13//NONSGML v1.0//EN
CALSCALE:GREGORIAN
METHOD:PUBLISH
X-WR-CALNAME:Race Time
X-ORIGINAL-URL:https://www.racetime.info
X-WR-CALDESC:Events for Race Time
REFRESH-INTERVAL;VALUE=DURATION:PT1H
X-Robots-Tag:noindex
X-PUBLISHED-TTL:PT1H
BEGIN:VTIMEZONE
TZID:America/Chicago
BEGIN:DAYLIGHT
TZOFFSETFROM:-0600
TZOFFSETTO:-0500
TZNAME:CDT
DTSTART:20150308T080000
END:DAYLIGHT
BEGIN:STANDARD
TZOFFSETFROM:-0500
TZOFFSETTO:-0600
TZNAME:CST
DTSTART:20151101T070000
END:STANDARD
BEGIN:DAYLIGHT
TZOFFSETFROM:-0600
TZOFFSETTO:-0500
TZNAME:CDT
DTSTART:20160313T080000
END:DAYLIGHT
BEGIN:STANDARD
TZOFFSETFROM:-0500
TZOFFSETTO:-0600
TZNAME:CST
DTSTART:20161106T070000
END:STANDARD
BEGIN:DAYLIGHT
TZOFFSETFROM:-0600
TZOFFSETTO:-0500
TZNAME:CDT
DTSTART:20170312T080000
END:DAYLIGHT
BEGIN:STANDARD
TZOFFSETFROM:-0500
TZOFFSETTO:-0600
TZNAME:CST
DTSTART:20171105T070000
END:STANDARD
END:VTIMEZONE
BEGIN:VEVENT
DTSTART;TZID=America/Chicago:20160430T083000
DTEND;TZID=America/Chicago:20160430T110000
DTSTAMP:20260424T041314
CREATED:20160306T131440Z
LAST-MODIFIED:20160430T223930Z
UID:10000569-1462005000-1462014000@www.racetime.info
SUMMARY:Homestead Elementary Husky Hustle 5K & 1 Mile Run/Walk
DESCRIPTION:Husky Hustle 1 Mile Age Group Results\n\nHusky Hustle 1 Mile Overall Results\n\nHusky Hustle 5K Age Groups Results\n\nHusky Hustle 5K Overall Results
URL:https://www.racetime.info/event/homestead-elementary-husky-hustle-5k-1-mile-runwalk/
LOCATION:Homestead Elementary School\, 2830 Hillsboro Blvd.\, Aurora\, IL\, 60503\, United States
CATEGORIES:2016-04 Results (April)
ORGANIZER;CN="Courtney DeCarlo":MAILTO:courtneymk@hotmail.com
GEO:41.7117359;-88.243369
X-APPLE-STRUCTURED-LOCATION;VALUE=URI;X-ADDRESS=Homestead Elementary School 2830 Hillsboro Blvd. Aurora IL 60503 United States;X-APPLE-RADIUS=500;X-TITLE=2830 Hillsboro Blvd.:geo:-88.243369,41.7117359
END:VEVENT
END:VCALENDAR