BEGIN:VCALENDAR
VERSION:2.0
PRODID:-//Race Time - ECPv6.15.13//NONSGML v1.0//EN
CALSCALE:GREGORIAN
METHOD:PUBLISH
X-WR-CALNAME:Race Time
X-ORIGINAL-URL:https://www.racetime.info
X-WR-CALDESC:Events for Race Time
REFRESH-INTERVAL;VALUE=DURATION:PT1H
X-Robots-Tag:noindex
X-PUBLISHED-TTL:PT1H
BEGIN:VTIMEZONE
TZID:America/Chicago
BEGIN:DAYLIGHT
TZOFFSETFROM:-0600
TZOFFSETTO:-0500
TZNAME:CDT
DTSTART:20190310T080000
END:DAYLIGHT
BEGIN:STANDARD
TZOFFSETFROM:-0500
TZOFFSETTO:-0600
TZNAME:CST
DTSTART:20191103T070000
END:STANDARD
BEGIN:DAYLIGHT
TZOFFSETFROM:-0600
TZOFFSETTO:-0500
TZNAME:CDT
DTSTART:20200308T080000
END:DAYLIGHT
BEGIN:STANDARD
TZOFFSETFROM:-0500
TZOFFSETTO:-0600
TZNAME:CST
DTSTART:20201101T070000
END:STANDARD
BEGIN:DAYLIGHT
TZOFFSETFROM:-0600
TZOFFSETTO:-0500
TZNAME:CDT
DTSTART:20210314T080000
END:DAYLIGHT
BEGIN:STANDARD
TZOFFSETFROM:-0500
TZOFFSETTO:-0600
TZNAME:CST
DTSTART:20211107T070000
END:STANDARD
BEGIN:DAYLIGHT
TZOFFSETFROM:-0600
TZOFFSETTO:-0500
TZNAME:CDT
DTSTART:20220313T080000
END:DAYLIGHT
BEGIN:STANDARD
TZOFFSETFROM:-0500
TZOFFSETTO:-0600
TZNAME:CST
DTSTART:20221106T070000
END:STANDARD
BEGIN:DAYLIGHT
TZOFFSETFROM:-0600
TZOFFSETTO:-0500
TZNAME:CDT
DTSTART:20230312T080000
END:DAYLIGHT
BEGIN:STANDARD
TZOFFSETFROM:-0500
TZOFFSETTO:-0600
TZNAME:CST
DTSTART:20231105T070000
END:STANDARD
BEGIN:DAYLIGHT
TZOFFSETFROM:-0600
TZOFFSETTO:-0500
TZNAME:CDT
DTSTART:20240310T080000
END:DAYLIGHT
BEGIN:STANDARD
TZOFFSETFROM:-0500
TZOFFSETTO:-0600
TZNAME:CST
DTSTART:20241103T070000
END:STANDARD
BEGIN:DAYLIGHT
TZOFFSETFROM:-0600
TZOFFSETTO:-0500
TZNAME:CDT
DTSTART:20250309T080000
END:DAYLIGHT
BEGIN:STANDARD
TZOFFSETFROM:-0500
TZOFFSETTO:-0600
TZNAME:CST
DTSTART:20251102T070000
END:STANDARD
BEGIN:DAYLIGHT
TZOFFSETFROM:-0600
TZOFFSETTO:-0500
TZNAME:CDT
DTSTART:20260308T080000
END:DAYLIGHT
BEGIN:STANDARD
TZOFFSETFROM:-0500
TZOFFSETTO:-0600
TZNAME:CST
DTSTART:20261101T070000
END:STANDARD
END:VTIMEZONE
BEGIN:VEVENT
DTSTART;TZID=America/Chicago:20250920T073000
DTEND;TZID=America/Chicago:20250920T090000
DTSTAMP:20260423T210754
CREATED:20250820T123133Z
LAST-MODIFIED:20250920T161918Z
UID:10002420-1758353400-1758358800@www.racetime.info
SUMMARY:South Holland's 5K Fun Run
DESCRIPTION:South Holland Fun Run 5K Age Group Results\n\nSouth Holland Fun Run 5K Overall Results
URL:https://www.racetime.info/event/south-hollands-5k-fun-run-2/
LOCATION:Veterans Memorial Park\, 520 E. 160th Place\, South Holland\, IL\, 60444\, United States
CATEGORIES:2025-09 Results (September)
ORGANIZER;CN="Eunice Escobar":MAILTO:events@southholland.org
GEO:41.6042926;-87.6034342
X-APPLE-STRUCTURED-LOCATION;VALUE=URI;X-ADDRESS=Veterans Memorial Park 520 E. 160th Place South Holland IL 60444 United States;X-APPLE-RADIUS=500;X-TITLE=520 E. 160th Place:geo:-87.6034342,41.6042926
END:VEVENT
BEGIN:VEVENT
DTSTART;TZID=America/Chicago:20240921T073000
DTEND;TZID=America/Chicago:20240921T090000
DTSTAMP:20260423T210754
CREATED:20170822T121606Z
LAST-MODIFIED:20240921T191524Z
UID:10001591-1726903800-1726909200@www.racetime.info
SUMMARY:South Holland's 5K Fun Run
DESCRIPTION:South Holland 5K Age Group Results\n\nSouth Holland 5K Overall Results\n\nSouth Holland Team Results
URL:https://www.racetime.info/event/copy-of-south-hollands-5k-fun-run-3/
LOCATION:Veterans Memorial Park\, 520 E. 160th Place\, South Holland\, IL\, 60444\, United States
CATEGORIES:2024-09 Results (September)
ORGANIZER;CN="Eunice Escobar":MAILTO:events@southholland.org
GEO:41.6042926;-87.6034342
X-APPLE-STRUCTURED-LOCATION;VALUE=URI;X-ADDRESS=Veterans Memorial Park 520 E. 160th Place South Holland IL 60444 United States;X-APPLE-RADIUS=500;X-TITLE=520 E. 160th Place:geo:-87.6034342,41.6042926
END:VEVENT
BEGIN:VEVENT
DTSTART;TZID=America/Chicago:20230916T073000
DTEND;TZID=America/Chicago:20230917T090000
DTSTAMP:20260423T210754
CREATED:20170822T121606Z
LAST-MODIFIED:20230916T172339Z
UID:10001590-1694849400-1694941200@www.racetime.info
SUMMARY:South Holland's 5K Fun Run
DESCRIPTION:South Holland 5K Age Group Results\n\nSouth Holland 5K Overall Results
URL:https://www.racetime.info/event/copy-of-south-hollands-5k-fun-run-2/
LOCATION:Veterans Memorial Park\, 520 E. 160th Place\, South Holland\, IL\, 60444\, United States
CATEGORIES:2023-09 Results (September)
ORGANIZER;CN="Eunice Escobar":MAILTO:events@southholland.org
GEO:41.6042926;-87.6034342
X-APPLE-STRUCTURED-LOCATION;VALUE=URI;X-ADDRESS=Veterans Memorial Park 520 E. 160th Place South Holland IL 60444 United States;X-APPLE-RADIUS=500;X-TITLE=520 E. 160th Place:geo:-87.6034342,41.6042926
END:VEVENT
BEGIN:VEVENT
DTSTART;TZID=America/Chicago:20221015T110000
DTEND;TZID=America/Chicago:20221015T130000
DTSTAMP:20260423T210754
CREATED:20221013T202230Z
LAST-MODIFIED:20221015T194435Z
UID:10001329-1665831600-1665838800@www.racetime.info
SUMMARY:M.E.A.N. Girls Empowerment 5K Run/Walk
DESCRIPTION:M.E.A.N. Girls Empowerment 5K Overall Results
URL:https://www.racetime.info/event/m-e-a-n-girls-empowerment-5k-run-walk/
LOCATION:Paarlberg Park\, 172nd Street and Paxton Avenue\, South Holland\, 60473\, United States
CATEGORIES:2022-10 Results (October)
ORGANIZER;CN="Eunice Escobar":MAILTO:events@southholland.org
END:VEVENT
BEGIN:VEVENT
DTSTART;TZID=America/Chicago:20220910T070000
DTEND;TZID=America/Chicago:20220911T083000
DTSTAMP:20260423T210754
CREATED:20170822T121606Z
LAST-MODIFIED:20220910T183347Z
UID:10001589-1662793200-1662885000@www.racetime.info
SUMMARY:South Holland's 5K Fun Run
DESCRIPTION:South Holland 5K Age Group Results\n\nSouth Holland 5K Overall Results
URL:https://www.racetime.info/event/copy-of-south-hollands-5k-fun-run/
LOCATION:Veterans Memorial Park\, 520 E. 160th Place\, South Holland\, IL\, 60444\, United States
CATEGORIES:2022-09 Results (September)
ORGANIZER;CN="Eunice Escobar":MAILTO:events@southholland.org
GEO:41.6042926;-87.6034342
X-APPLE-STRUCTURED-LOCATION;VALUE=URI;X-ADDRESS=Veterans Memorial Park 520 E. 160th Place South Holland IL 60444 United States;X-APPLE-RADIUS=500;X-TITLE=520 E. 160th Place:geo:-87.6034342,41.6042926
END:VEVENT
BEGIN:VEVENT
DTSTART;TZID=America/Chicago:20210911T073000
DTEND;TZID=America/Chicago:20210911T110000
DTSTAMP:20260423T210754
CREATED:20170822T121606Z
LAST-MODIFIED:20210911T211454Z
UID:10001588-1631345400-1631358000@www.racetime.info
SUMMARY:South Holland's 5K Fun Run
DESCRIPTION:S. Holland Fun Run 5K Age Group Results\n\nS. Holland Fun Run 5K Overall Results
URL:https://www.racetime.info/event/south-hollands-5k-fun-run/
LOCATION:Veterans Memorial Park\, 520 E. 160th Place\, South Holland\, IL\, 60444\, United States
CATEGORIES:2021-09 Results (September)
ORGANIZER;CN="Eunice Escobar":MAILTO:events@southholland.org
GEO:41.6042926;-87.6034342
X-APPLE-STRUCTURED-LOCATION;VALUE=URI;X-ADDRESS=Veterans Memorial Park 520 E. 160th Place South Holland IL 60444 United States;X-APPLE-RADIUS=500;X-TITLE=520 E. 160th Place:geo:-87.6034342,41.6042926
END:VEVENT
BEGIN:VEVENT
DTSTART;TZID=America/Chicago:20200919T070000
DTEND;TZID=America/Chicago:20200919T110000
DTSTAMP:20260423T210754
CREATED:20170822T121606Z
LAST-MODIFIED:20200922T183914Z
UID:10001587-1600498800-1600513200@www.racetime.info
SUMMARY:South Holland's 5K Fun Run
DESCRIPTION:South Holland’s Fun Run 5K Age Group Results\n\nSouth Holland’s Fun Run 5K Overall Results
URL:https://www.racetime.info/event/heritage-haul-5k-10k-half-marathon-2/
LOCATION:Veterans Memorial Park\, 520 E. 160th Place\, South Holland\, IL\, 60444\, United States
CATEGORIES:2020-09 Results (September)
ORGANIZER;CN="Eunice Escobar":MAILTO:events@southholland.org
GEO:41.6042926;-87.6034342
X-APPLE-STRUCTURED-LOCATION;VALUE=URI;X-ADDRESS=Veterans Memorial Park 520 E. 160th Place South Holland IL 60444 United States;X-APPLE-RADIUS=500;X-TITLE=520 E. 160th Place:geo:-87.6034342,41.6042926
END:VEVENT
END:VCALENDAR