BEGIN:VCALENDAR
VERSION:2.0
PRODID:-//Race Time - ECPv6.15.13//NONSGML v1.0//EN
CALSCALE:GREGORIAN
METHOD:PUBLISH
X-WR-CALNAME:Race Time
X-ORIGINAL-URL:https://www.racetime.info
X-WR-CALDESC:Events for Race Time
REFRESH-INTERVAL;VALUE=DURATION:PT1H
X-Robots-Tag:noindex
X-PUBLISHED-TTL:PT1H
BEGIN:VTIMEZONE
TZID:America/Chicago
BEGIN:DAYLIGHT
TZOFFSETFROM:-0600
TZOFFSETTO:-0500
TZNAME:CDT
DTSTART:20180311T080000
END:DAYLIGHT
BEGIN:STANDARD
TZOFFSETFROM:-0500
TZOFFSETTO:-0600
TZNAME:CST
DTSTART:20181104T070000
END:STANDARD
BEGIN:DAYLIGHT
TZOFFSETFROM:-0600
TZOFFSETTO:-0500
TZNAME:CDT
DTSTART:20190310T080000
END:DAYLIGHT
BEGIN:STANDARD
TZOFFSETFROM:-0500
TZOFFSETTO:-0600
TZNAME:CST
DTSTART:20191103T070000
END:STANDARD
BEGIN:DAYLIGHT
TZOFFSETFROM:-0600
TZOFFSETTO:-0500
TZNAME:CDT
DTSTART:20200308T080000
END:DAYLIGHT
BEGIN:STANDARD
TZOFFSETFROM:-0500
TZOFFSETTO:-0600
TZNAME:CST
DTSTART:20201101T070000
END:STANDARD
BEGIN:DAYLIGHT
TZOFFSETFROM:-0600
TZOFFSETTO:-0500
TZNAME:CDT
DTSTART:20210314T080000
END:DAYLIGHT
BEGIN:STANDARD
TZOFFSETFROM:-0500
TZOFFSETTO:-0600
TZNAME:CST
DTSTART:20211107T070000
END:STANDARD
END:VTIMEZONE
BEGIN:VEVENT
DTSTART;TZID=America/Chicago:20200905T090000
DTEND;TZID=America/Chicago:20200905T110000
DTSTAMP:20260424T011155
CREATED:20190303T131835Z
LAST-MODIFIED:20200901T105107Z
UID:10001861-1599296400-1599303600@www.racetime.info
SUMMARY:Fox Valley Run JunkEes 5K & 8K Challenge: CANCELLED
DESCRIPTION:
URL:https://www.racetime.info/event/fox-valley-run-junkees-5k-challenge-3/
LOCATION:Prairie Point Center\, 313 East Washington\, Oswego\, IL\, 60543\, United States
ORGANIZER;CN="Dan Woods":MAILTO:runjunkee@gmail.com
GEO:41.6756673;-88.3467905
X-APPLE-STRUCTURED-LOCATION;VALUE=URI;X-ADDRESS=Prairie Point Center 313 East Washington Oswego IL 60543 United States;X-APPLE-RADIUS=500;X-TITLE=313 East Washington:geo:-88.3467905,41.6756673
END:VEVENT
BEGIN:VEVENT
DTSTART;TZID=America/Chicago:20190908T090000
DTEND;TZID=America/Chicago:20190908T110000
DTSTAMP:20260424T011155
CREATED:20190303T131835Z
LAST-MODIFIED:20190908T170830Z
UID:10001860-1567933200-1567940400@www.racetime.info
SUMMARY:Fox Valley Run JunkEes 5K Challenge
DESCRIPTION:Run JunkEes Fall 5K Overall Results
URL:https://www.racetime.info/event/fox-valley-run-junkees-5k-challenge-2/
LOCATION:Prairie Point Center\, 313 East Washington\, Oswego\, IL\, 60543\, United States
CATEGORIES:2019-09 Results (September)
ORGANIZER;CN="Dan Woods":MAILTO:runjunkee@gmail.com
GEO:41.6756673;-88.3467905
X-APPLE-STRUCTURED-LOCATION;VALUE=URI;X-ADDRESS=Prairie Point Center 313 East Washington Oswego IL 60543 United States;X-APPLE-RADIUS=500;X-TITLE=313 East Washington:geo:-88.3467905,41.6756673
END:VEVENT
BEGIN:VEVENT
DTSTART;TZID=America/Chicago:20190413T090000
DTEND;TZID=America/Chicago:20190413T110000
DTSTAMP:20260424T011155
CREATED:20190303T131835Z
LAST-MODIFIED:20190413T161631Z
UID:10001859-1555146000-1555153200@www.racetime.info
SUMMARY:Fox Valley Run JunkEes 5K Challenge
DESCRIPTION:Run JunkEes 5K Results
URL:https://www.racetime.info/event/fox-valley-run-junkees-5k-challenge/
LOCATION:Waubonsie Lake Park\, 998 Knautz Road\, Aurora\, IL\, 60504\, United States
CATEGORIES:2019-04 Results (April)
ORGANIZER;CN="Dan Woods":MAILTO:runjunkee@gmail.com
GEO:41.7386015;-88.2619044
X-APPLE-STRUCTURED-LOCATION;VALUE=URI;X-ADDRESS=Waubonsie Lake Park 998 Knautz Road Aurora IL 60504 United States;X-APPLE-RADIUS=500;X-TITLE=998 Knautz Road:geo:-88.2619044,41.7386015
END:VEVENT
END:VCALENDAR