BEGIN:VCALENDAR
VERSION:2.0
PRODID:-//Race Time - ECPv6.15.13//NONSGML v1.0//EN
CALSCALE:GREGORIAN
METHOD:PUBLISH
X-ORIGINAL-URL:https://www.racetime.info
X-WR-CALDESC:Events for Race Time
REFRESH-INTERVAL;VALUE=DURATION:PT1H
X-Robots-Tag:noindex
X-PUBLISHED-TTL:PT1H
BEGIN:VTIMEZONE
TZID:America/Chicago
BEGIN:DAYLIGHT
TZOFFSETFROM:-0600
TZOFFSETTO:-0500
TZNAME:CDT
DTSTART:20250309T080000
END:DAYLIGHT
BEGIN:STANDARD
TZOFFSETFROM:-0500
TZOFFSETTO:-0600
TZNAME:CST
DTSTART:20251102T070000
END:STANDARD
BEGIN:DAYLIGHT
TZOFFSETFROM:-0600
TZOFFSETTO:-0500
TZNAME:CDT
DTSTART:20260308T080000
END:DAYLIGHT
BEGIN:STANDARD
TZOFFSETFROM:-0500
TZOFFSETTO:-0600
TZNAME:CST
DTSTART:20261101T070000
END:STANDARD
BEGIN:DAYLIGHT
TZOFFSETFROM:-0600
TZOFFSETTO:-0500
TZNAME:CDT
DTSTART:20270314T080000
END:DAYLIGHT
BEGIN:STANDARD
TZOFFSETFROM:-0500
TZOFFSETTO:-0600
TZNAME:CST
DTSTART:20271107T070000
END:STANDARD
END:VTIMEZONE
BEGIN:VEVENT
DTSTART;TZID=America/Chicago:20260913T090000
DTEND;TZID=America/Chicago:20260913T110000
DTSTAMP:20260423T222946
CREATED:20260331T124537Z
LAST-MODIFIED:20260331T124537Z
UID:10002551-1789290000-1789297200@www.racetime.info
SUMMARY:The Boiler Dash 5K * 10K "Miles for Meals"
DESCRIPTION:
URL:https://www.racetime.info/event/the-boiler-dash-5k-10k-miles-for-meals/
LOCATION:Perry Farm Park\, 459 N. Kennedy Drive\, Bourbonnais\, IL\, 60914\, United States
ORGANIZER;CN="Dana Pippin":MAILTO:dpippin@bbchs.org
GEO:41.1551827;-87.8783865
X-APPLE-STRUCTURED-LOCATION;VALUE=URI;X-ADDRESS=Perry Farm Park 459 N. Kennedy Drive Bourbonnais IL 60914 United States;X-APPLE-RADIUS=500;X-TITLE=459 N. Kennedy Drive:geo:-87.8783865,41.1551827
END:VEVENT
END:VCALENDAR