BEGIN:VCALENDAR
VERSION:2.0
PRODID:-//Race Time - ECPv6.15.13//NONSGML v1.0//EN
CALSCALE:GREGORIAN
METHOD:PUBLISH
X-WR-CALNAME:Race Time
X-ORIGINAL-URL:https://www.racetime.info
X-WR-CALDESC:Events for Race Time
REFRESH-INTERVAL;VALUE=DURATION:PT1H
X-Robots-Tag:noindex
X-PUBLISHED-TTL:PT1H
BEGIN:VTIMEZONE
TZID:America/Chicago
BEGIN:DAYLIGHT
TZOFFSETFROM:-0600
TZOFFSETTO:-0500
TZNAME:CDT
DTSTART:20140309T080000
END:DAYLIGHT
BEGIN:STANDARD
TZOFFSETFROM:-0500
TZOFFSETTO:-0600
TZNAME:CST
DTSTART:20141102T070000
END:STANDARD
BEGIN:DAYLIGHT
TZOFFSETFROM:-0600
TZOFFSETTO:-0500
TZNAME:CDT
DTSTART:20150308T080000
END:DAYLIGHT
BEGIN:STANDARD
TZOFFSETFROM:-0500
TZOFFSETTO:-0600
TZNAME:CST
DTSTART:20151101T070000
END:STANDARD
BEGIN:DAYLIGHT
TZOFFSETFROM:-0600
TZOFFSETTO:-0500
TZNAME:CDT
DTSTART:20160313T080000
END:DAYLIGHT
BEGIN:STANDARD
TZOFFSETFROM:-0500
TZOFFSETTO:-0600
TZNAME:CST
DTSTART:20161106T070000
END:STANDARD
BEGIN:DAYLIGHT
TZOFFSETFROM:-0600
TZOFFSETTO:-0500
TZNAME:CDT
DTSTART:20170312T080000
END:DAYLIGHT
BEGIN:STANDARD
TZOFFSETFROM:-0500
TZOFFSETTO:-0600
TZNAME:CST
DTSTART:20171105T070000
END:STANDARD
BEGIN:DAYLIGHT
TZOFFSETFROM:-0600
TZOFFSETTO:-0500
TZNAME:CDT
DTSTART:20180311T080000
END:DAYLIGHT
BEGIN:STANDARD
TZOFFSETFROM:-0500
TZOFFSETTO:-0600
TZNAME:CST
DTSTART:20181104T070000
END:STANDARD
END:VTIMEZONE
BEGIN:VEVENT
DTSTART;TZID=America/Chicago:20171015T100000
DTEND;TZID=America/Chicago:20171015T120000
DTSTAMP:20260424T024411
CREATED:20170731T175633Z
LAST-MODIFIED:20171015T193729Z
UID:10001563-1508061600-1508068800@www.racetime.info
SUMMARY:Duncan Dash 5K Run/Walk
DESCRIPTION:Duncan Dash 5K Age Group Results\n\nDuncan Dash 5K Overall Results
URL:https://www.racetime.info/event/duncan-dash-5k-runwalk-1-mile-youth-fun-run/
LOCATION:YMCA Camp Duncan\, 32405 N. HIghway 12\, Volo\, IL\, 60041\, United States
CATEGORIES:2017-10 Results (October)
ORGANIZER;CN="Danielle Kiessel":MAILTO:dkiessel@ymcachicago.org
GEO:42.3388339;-88.1584637
X-APPLE-STRUCTURED-LOCATION;VALUE=URI;X-ADDRESS=YMCA Camp Duncan 32405 N. HIghway 12 Volo IL 60041 United States;X-APPLE-RADIUS=500;X-TITLE=32405 N. HIghway 12:geo:-88.1584637,42.3388339
END:VEVENT
BEGIN:VEVENT
DTSTART;TZID=America/Chicago:20161016T100000
DTEND;TZID=America/Chicago:20161016T120000
DTSTAMP:20260424T024411
CREATED:20160701T011407Z
LAST-MODIFIED:20161016T181005Z
UID:10000280-1476612000-1476619200@www.racetime.info
SUMMARY:Duncan Dash 5K & Youth Run
DESCRIPTION:Duncan Dash 5K Age Group Results\n\nDuncan Dash 5K Overall Results
URL:https://www.racetime.info/event/duncan-dash-5k-youth-run/
LOCATION:YMCA Camp Duncan\, 32405 N. HIghway 12\, Volo\, IL\, 60041\, United States
CATEGORIES:2016-10 Results (October)
ORGANIZER;CN="Danielle Kiessel":MAILTO:dkiessel@ymcachicago.org
GEO:42.3388339;-88.1584637
X-APPLE-STRUCTURED-LOCATION;VALUE=URI;X-ADDRESS=YMCA Camp Duncan 32405 N. HIghway 12 Volo IL 60041 United States;X-APPLE-RADIUS=500;X-TITLE=32405 N. HIghway 12:geo:-88.1584637,42.3388339
END:VEVENT
BEGIN:VEVENT
DTSTART;TZID=America/Chicago:20151018T110000
DTEND;TZID=America/Chicago:20151018T130000
DTSTAMP:20260424T024411
CREATED:20150728T023345Z
LAST-MODIFIED:20151018T193350Z
UID:10000324-1445166000-1445173200@www.racetime.info
SUMMARY:Duncan Dash 5K & 1 Mile Youth Fun Run
DESCRIPTION:Duncan Dash 5K Age Group Results\n\nDuncan Dash 5K Overall Results
URL:https://www.racetime.info/event/duncan-dash-5k-1-mile-youth-fun-run/
LOCATION:YMCA Camp Duncan\, 32405 N. HIghway 12\, Volo\, IL\, 60041\, United States
CATEGORIES:2015-10 Results (October)
ORGANIZER;CN="Danielle Kiessel":MAILTO:dkiessel@ymcachicago.org
GEO:42.3388339;-88.1584637
X-APPLE-STRUCTURED-LOCATION;VALUE=URI;X-ADDRESS=YMCA Camp Duncan 32405 N. HIghway 12 Volo IL 60041 United States;X-APPLE-RADIUS=500;X-TITLE=32405 N. HIghway 12:geo:-88.1584637,42.3388339
END:VEVENT
END:VCALENDAR