BEGIN:VCALENDAR
VERSION:2.0
PRODID:-//Race Time - ECPv6.15.13//NONSGML v1.0//EN
CALSCALE:GREGORIAN
METHOD:PUBLISH
X-WR-CALNAME:Race Time
X-ORIGINAL-URL:https://www.racetime.info
X-WR-CALDESC:Events for Race Time
REFRESH-INTERVAL;VALUE=DURATION:PT1H
X-Robots-Tag:noindex
X-PUBLISHED-TTL:PT1H
BEGIN:VTIMEZONE
TZID:America/Chicago
BEGIN:DAYLIGHT
TZOFFSETFROM:-0600
TZOFFSETTO:-0500
TZNAME:CDT
DTSTART:20200308T080000
END:DAYLIGHT
BEGIN:STANDARD
TZOFFSETFROM:-0500
TZOFFSETTO:-0600
TZNAME:CST
DTSTART:20201101T070000
END:STANDARD
BEGIN:DAYLIGHT
TZOFFSETFROM:-0600
TZOFFSETTO:-0500
TZNAME:CDT
DTSTART:20210314T080000
END:DAYLIGHT
BEGIN:STANDARD
TZOFFSETFROM:-0500
TZOFFSETTO:-0600
TZNAME:CST
DTSTART:20211107T070000
END:STANDARD
BEGIN:DAYLIGHT
TZOFFSETFROM:-0600
TZOFFSETTO:-0500
TZNAME:CDT
DTSTART:20220313T080000
END:DAYLIGHT
BEGIN:STANDARD
TZOFFSETFROM:-0500
TZOFFSETTO:-0600
TZNAME:CST
DTSTART:20221106T070000
END:STANDARD
END:VTIMEZONE
BEGIN:VEVENT
DTSTART;TZID=America/Chicago:20211125T080000
DTEND;TZID=America/Chicago:20211125T100000
DTSTAMP:20260424T053655
CREATED:20170323T132007Z
LAST-MODIFIED:20211125T174742Z
UID:10001277-1637827200-1637834400@www.racetime.info
SUMMARY:Running With The Lions 5K Run/Walk
DESCRIPTION:Running With The Lions 5K Overall Results
URL:https://www.racetime.info/event/running-with-the-lions-5k-youth-dash-4/
LOCATION:Life Time Fitness\, 451 Rolls Road\, Algonquin\, IL\, 60102\, United States
CATEGORIES:2021-11 Results (November)
ORGANIZER;CN="Dave Rapacz":MAILTO:davidrapacz@sbcglobal.net
GEO:42.1709963;-88.3313754
X-APPLE-STRUCTURED-LOCATION;VALUE=URI;X-ADDRESS=Life Time Fitness 451 Rolls Road Algonquin IL 60102 United States;X-APPLE-RADIUS=500;X-TITLE=451 Rolls Road:geo:-88.3313754,42.1709963
END:VEVENT
END:VCALENDAR