BEGIN:VCALENDAR
VERSION:2.0
PRODID:-//Race Time - ECPv6.15.13//NONSGML v1.0//EN
CALSCALE:GREGORIAN
METHOD:PUBLISH
X-WR-CALNAME:Race Time
X-ORIGINAL-URL:https://www.racetime.info
X-WR-CALDESC:Events for Race Time
REFRESH-INTERVAL;VALUE=DURATION:PT1H
X-Robots-Tag:noindex
X-PUBLISHED-TTL:PT1H
BEGIN:VTIMEZONE
TZID:America/Chicago
BEGIN:DAYLIGHT
TZOFFSETFROM:-0600
TZOFFSETTO:-0500
TZNAME:CDT
DTSTART:20180311T080000
END:DAYLIGHT
BEGIN:STANDARD
TZOFFSETFROM:-0500
TZOFFSETTO:-0600
TZNAME:CST
DTSTART:20181104T070000
END:STANDARD
BEGIN:DAYLIGHT
TZOFFSETFROM:-0600
TZOFFSETTO:-0500
TZNAME:CDT
DTSTART:20190310T080000
END:DAYLIGHT
BEGIN:STANDARD
TZOFFSETFROM:-0500
TZOFFSETTO:-0600
TZNAME:CST
DTSTART:20191103T070000
END:STANDARD
BEGIN:DAYLIGHT
TZOFFSETFROM:-0600
TZOFFSETTO:-0500
TZNAME:CDT
DTSTART:20200308T080000
END:DAYLIGHT
BEGIN:STANDARD
TZOFFSETFROM:-0500
TZOFFSETTO:-0600
TZNAME:CST
DTSTART:20201101T070000
END:STANDARD
END:VTIMEZONE
BEGIN:VEVENT
DTSTART;TZID=America/Chicago:20190810T080000
DTEND;TZID=America/Chicago:20190810T103000
DTSTAMP:20260424T063950
CREATED:20190417T104920Z
LAST-MODIFIED:20190913T132106Z
UID:10001057-1565424000-1565433000@www.racetime.info
SUMMARY:Blueberry Festival 5K Walk\, 5K Run and 10K Run
DESCRIPTION:Blueberry Fest 5K Walk Age Group Results\n\nBlueberry Fest 5K Walk Overall Results\n\nBlueberry Fest 5K Run Age Group Results\n\nBlueberry Fest 5K Run Overall Results\n\nBlueberry Fest 10K Age Group Results\n\nBlueberry Fest 10K Overall Results\n\nBlueberry Fest 10K Cycle
URL:https://www.racetime.info/event/blueberry-festival-5k-walk-5k-run-and-10k-run/
LOCATION:Downtown South Haven\, Kalamazoo Street\, South Haven\, MI\, 49090\, United States
CATEGORIES:2019-08 Results (August)
ORGANIZER;CN="David Thompson":MAILTO:davidt@foodtools.com
END:VEVENT
END:VCALENDAR